Workbook

Sheet Resumo
A1: Resumo das reservas de churrasqueira
A2: Indicador | B2: Resultado | E2: Situação | F2: Quantidade
A3: Reservas registradas | B3: =COUNTIF(Reservas!$A$5:$A$104,"<>") | E3: =IF(Premissas!D4="","",Premissas!D4) | F3: =IF(E3="","",COUNTIF(Reservas!$H$5:$H$104,E3))
A4: ="Situação: "&Premissas!D4 | B4: =COUNTIF(Reservas!$H$5:$H$104,Premissas!$D$4) | E4: =IF(Premissas!D5="","",Premissas!D5) | F4: =IF(E4="","",COUNTIF(Reservas!$H$5:$H$104,E4))
A5: ="Situação: "&Premissas!D5 | B5: =COUNTIF(Reservas!$H$5:$H$104,Premissas!$D$5) | E5: =IF(Premissas!D6="","",Premissas!D6) | F5: =IF(E5="","",COUNTIF(Reservas!$H$5:$H$104,E5))
A6: ="Situação: "&Premissas!D6 | B6: =COUNTIF(Reservas!$H$5:$H$104,Premissas!$D$6) | E6: =IF(Premissas!D7="","",Premissas!D7) | F6: =IF(E6="","",COUNTIF(Reservas!$H$5:$H$104,E6))
A7: ="Situação: "&Premissas!D7 | B7: =COUNTIF(Reservas!$H$5:$H$104,Premissas!$D$7)
A8: Possíveis conflitos | B8: =COUNTIF(Reservas!$K$5:$K$104,"Possível conflito")
A9: Vencimentos passados | B9: =COUNTIF(Reservas!$K$5:$K$104,"Vencimento passado")
A10: Outros alertas para conferência | B10: =COUNTIFS(Reservas!$K$5:$K$104,"<>",Reservas!$K$5:$K$104,"<>Sem alerta",Reservas!$K$5:$K$104,"<>Possível conflito",Reservas!$K$5:$K$104,"<>Vencimento passado")
A11: Valor previsto não cancelado | B11: =SUMIFS(Reservas!$F$5:$F$104,Reservas!$H$5:$H$104,"<>"&Premissas!$D$7,Reservas!$C$5:$C$104,">0")
A12: Valor com situação confirmada | B12: =SUMIF(Reservas!$H$5:$H$104,Premissas!$D$5,Reservas!$F$5:$F$104)
A13: Taxa de confirmação | B13: =IFERROR(B5/B3,0)

Sheet Reservas
A1: Reserva de churrasqueira do condomínio
A2: Preencha as células amarelas. A coluna Conferência destaca registros que precisam de revisão humana.
A4: Condomínio | B4: Unidade | C4: Data da reserva | D4: Início | E4: Fim | F4: Valor | G4: Responsável | H4: Situação | I4: Vencimento | J4: Observações | K4: Conferência
A5: Condomínio Bosque Sereno Fictício | B5: Unidade Fictícia A-101 | C5: 46291 | D5: 0.75 | E5: 0.91666667 | F5: 150 | G5: Moradora Fictícia Aline | H5: Confirmada | I5: 46287 | J5: Regras de uso aceitas neste registro fictício. | K5: =IFERROR(IF(COUNTA(A5:J5)=0,"",IF(OR(A5="",B5="",C5="",D5="",E5="",G5="",H5=""),"Conferir campos",IF(E5<=D5,"Conferir período",IF(OR(AND(Premissas!$B$4<>"",C5<Premissas!$B$4),AND(Premissas!$B$5<>"",C5>Premissas!$B$5)),"Data fora do limite",IF(AND(Premissas!$B$6<>"",(E5-D5)*24>Premissas!$B$6),"Conferir duração",IF(AND(F5<>"",Premissas!$B$7<>"",F5>Premissas!$B$7),"Conferir valor",IF(AND(H5<>Premissas!$D$7,COUNTIFS($A$5:$A$104,A5,$C$5:$C$104,C5,$D$5:$D$104,"<"&E5,$E$5:$E$104,">"&D5,$H$5:$H$104,"<>"&Premissas!$D$7)>1),"Possível conflito",IF(AND(F5<>"",F5>0,I5="",OR(H5=Premissas!$D$4,H5=Premissas!$D$5)),"Conferir vencimento",IF(AND(I5<>"",I5<TODAY(),OR(H5=Premissas!$D$4,H5=Premissas!$D$5)),"Vencimento passado","Sem alerta"))))))))),"Conferir dados") | N5: =IF(Premissas!D4="","",Premissas!D4)
A6: Condomínio Bosque Sereno Fictício | B6: Unidade Fictícia B-202 | C6: 46291 | D6: 0.83333333 | E6: 0.95833333 | F6: 150 | G6: Morador Fictício Bruno | H6: Solicitada | I6: 46288 | J6: Horário sujeito à conferência por possível sobreposição. | K6: =IFERROR(IF(COUNTA(A6:J6)=0,"",IF(OR(A6="",B6="",C6="",D6="",E6="",G6="",H6=""),"Conferir campos",IF(E6<=D6,"Conferir período",IF(OR(AND(Premissas!$B$4<>"",C6<Premissas!$B$4),AND(Premissas!$B$5<>"",C6>Premissas!$B$5)),"Data fora do limite",IF(AND(Premissas!$B$6<>"",(E6-D6)*24>Premissas!$B$6),"Conferir duração",IF(AND(F6<>"",Premissas!$B$7<>"",F6>Premissas!$B$7),"Conferir valor",IF(AND(H6<>Premissas!$D$7,COUNTIFS($A$5:$A$104,A6,$C$5:$C$104,C6,$D$5:$D$104,"<"&E6,$E$5:$E$104,">"&D6,$H$5:$H$104,"<>"&Premissas!$D$7)>1),"Possível conflito",IF(AND(F6<>"",F6>0,I6="",OR(H6=Premissas!$D$4,H6=Premissas!$D$5)),"Conferir vencimento",IF(AND(I6<>"",I6<TODAY(),OR(H6=Premissas!$D$4,H6=Premissas!$D$5)),"Vencimento passado","Sem alerta"))))))))),"Conferir dados") | N6: =IF(Premissas!D5="","",Premissas!D5)
A7: Condomínio Bosque Sereno Fictício | B7: Unidade Fictícia C-303 | C7: 46298 | D7: 0.41666667 | E7: 0.66666667 | F7: 300 | G7: Moradora Fictícia Carla | H7: Confirmada | I7: 46294 | J7: Reserva fictícia no limite de duração e valor. | K7: =IFERROR(IF(COUNTA(A7:J7)=0,"",IF(OR(A7="",B7="",C7="",D7="",E7="",G7="",H7=""),"Conferir campos",IF(E7<=D7,"Conferir período",IF(OR(AND(Premissas!$B$4<>"",C7<Premissas!$B$4),AND(Premissas!$B$5<>"",C7>Premissas!$B$5)),"Data fora do limite",IF(AND(Premissas!$B$6<>"",(E7-D7)*24>Premissas!$B$6),"Conferir duração",IF(AND(F7<>"",Premissas!$B$7<>"",F7>Premissas!$B$7),"Conferir valor",IF(AND(H7<>Premissas!$D$7,COUNTIFS($A$5:$A$104,A7,$C$5:$C$104,C7,$D$5:$D$104,"<"&E7,$E$5:$E$104,">"&D7,$H$5:$H$104,"<>"&Premissas!$D$7)>1),"Possível conflito",IF(AND(F7<>"",F7>0,I7="",OR(H7=Premissas!$D$4,H7=Premissas!$D$5)),"Conferir vencimento",IF(AND(I7<>"",I7<TODAY(),OR(H7=Premissas!$D$4,H7=Premissas!$D$5)),"Vencimento passado","Sem alerta"))))))))),"Conferir dados") | N7: =IF(Premissas!D6="","",Premissas!D6)
A8: Condomínio Jardim das Nuvens Fictício | B8: Unidade Fictícia D-104 | C8: 46286 | D8: 0.5 | E8: 0.66666667 | F8: 100 | G8: Morador Fictício Davi | H8: Solicitada | I8: 46285 | J8: Regras de limpeza aceitas neste registro fictício. | K8: =IFERROR(IF(COUNTA(A8:J8)=0,"",IF(OR(A8="",B8="",C8="",D8="",E8="",G8="",H8=""),"Conferir campos",IF(E8<=D8,"Conferir período",IF(OR(AND(Premissas!$B$4<>"",C8<Premissas!$B$4),AND(Premissas!$B$5<>"",C8>Premissas!$B$5)),"Data fora do limite",IF(AND(Premissas!$B$6<>"",(E8-D8)*24>Premissas!$B$6),"Conferir duração",IF(AND(F8<>"",Premissas!$B$7<>"",F8>Premissas!$B$7),"Conferir valor",IF(AND(H8<>Premissas!$D$7,COUNTIFS($A$5:$A$104,A8,$C$5:$C$104,C8,$D$5:$D$104,"<"&E8,$E$5:$E$104,">"&D8,$H$5:$H$104,"<>"&Premissas!$D$7)>1),"Possível conflito",IF(AND(F8<>"",F8>0,I8="",OR(H8=Premissas!$D$4,H8=Premissas!$D$5)),"Conferir vencimento",IF(AND(I8<>"",I8<TODAY(),OR(H8=Premissas!$D$4,H8=Premissas!$D$5)),"Vencimento passado","Sem alerta"))))))))),"Conferir dados") | N8: =IF(Premissas!D7="","",Premissas!D7)
A9: Condomínio Jardim das Nuvens Fictício | B9: Unidade Fictícia E-205 | C9: 46274 | D9: 0.75 | E9: 0.91666667 | F9: 120 | G9: Moradora Fictícia Elisa | H9: Concluída | I9: 46269 | J9: Registro histórico fictício encerrado. | K9: =IFERROR(IF(COUNTA(A9:J9)=0,"",IF(OR(A9="",B9="",C9="",D9="",E9="",G9="",H9=""),"Conferir campos",IF(E9<=D9,"Conferir período",IF(OR(AND(Premissas!$B$4<>"",C9<Premissas!$B$4),AND(Premissas!$B$5<>"",C9>Premissas!$B$5)),"Data fora do limite",IF(AND(Premissas!$B$6<>"",(E9-D9)*24>Premissas!$B$6),"Conferir duração",IF(AND(F9<>"",Premissas!$B$7<>"",F9>Premissas!$B$7),"Conferir valor",IF(AND(H9<>Premissas!$D$7,COUNTIFS($A$5:$A$104,A9,$C$5:$C$104,C9,$D$5:$D$104,"<"&E9,$E$5:$E$104,">"&D9,$H$5:$H$104,"<>"&Premissas!$D$7)>1),"Possível conflito",IF(AND(F9<>"",F9>0,I9="",OR(H9=Premissas!$D$4,H9=Premissas!$D$5)),"Conferir vencimento",IF(AND(I9<>"",I9<TODAY(),OR(H9=Premissas!$D$4,H9=Premissas!$D$5)),"Vencimento passado","Sem alerta"))))))))),"Conferir dados") | N9: =""
A10: Condomínio Jardim das Nuvens Fictício | B10: Unidade Fictícia F-306 | C10: 46304 | D10: 0.45833333 | E10: 0.625 | G10: Morador Fictício Fábio | H10: Cancelada | J10: Cancelamento fictício registrado antes do uso. | K10: =IFERROR(IF(COUNTA(A10:J10)=0,"",IF(OR(A10="",B10="",C10="",D10="",E10="",G10="",H10=""),"Conferir campos",IF(E10<=D10,"Conferir período",IF(OR(AND(Premissas!$B$4<>"",C10<Premissas!$B$4),AND(Premissas!$B$5<>"",C10>Premissas!$B$5)),"Data fora do limite",IF(AND(Premissas!$B$6<>"",(E10-D10)*24>Premissas!$B$6),"Conferir duração",IF(AND(F10<>"",Premissas!$B$7<>"",F10>Premissas!$B$7),"Conferir valor",IF(AND(H10<>Premissas!$D$7,COUNTIFS($A$5:$A$104,A10,$C$5:$C$104,C10,$D$5:$D$104,"<"&E10,$E$5:$E$104,">"&D10,$H$5:$H$104,"<>"&Premissas!$D$7)>1),"Possível conflito",IF(AND(F10<>"",F10>0,I10="",OR(H10=Premissas!$D$4,H10=Premissas!$D$5)),"Conferir vencimento",IF(AND(I10<>"",I10<TODAY(),OR(H10=Premissas!$D$4,H10=Premissas!$D$5)),"Vencimento passado","Sem alerta"))))))))),"Conferir dados") | N10: =""
A11: Condomínio Vila Horizonte Fictício | B11: Unidade Fictícia G-107 | C11: 46289 | D11: 0.70833333 | E11: 0.875 | F11: 110 | G11: Moradora Fictícia Gabriela | H11: Confirmada | I11: 46283 | J11: Vencimento passado para conferência humana. | K11: =IFERROR(IF(COUNTA(A11:J11)=0,"",IF(OR(A11="",B11="",C11="",D11="",E11="",G11="",H11=""),"Conferir campos",IF(E11<=D11,"Conferir período",IF(OR(AND(Premissas!$B$4<>"",C11<Premissas!$B$4),AND(Premissas!$B$5<>"",C11>Premissas!$B$5)),"Data fora do limite",IF(AND(Premissas!$B$6<>"",(E11-D11)*24>Premissas!$B$6),"Conferir duração",IF(AND(F11<>"",Premissas!$B$7<>"",F11>Premissas!$B$7),"Conferir valor",IF(AND(H11<>Premissas!$D$7,COUNTIFS($A$5:$A$104,A11,$C$5:$C$104,C11,$D$5:$D$104,"<"&E11,$E$5:$E$104,">"&D11,$H$5:$H$104,"<>"&Premissas!$D$7)>1),"Possível conflito",IF(AND(F11<>"",F11>0,I11="",OR(H11=Premissas!$D$4,H11=Premissas!$D$5)),"Conferir vencimento",IF(AND(I11<>"",I11<TODAY(),OR(H11=Premissas!$D$4,H11=Premissas!$D$5)),"Vencimento passado","Sem alerta"))))))))),"Conferir dados") | N11: =""
A12: Condomínio Vila Horizonte Fictício | B12: Unidade Fictícia H-208 | C12: 46375 | D12: 0.5 | E12: 0.66666667 | F12: 130 | G12: Morador Fictício Heitor | H12: Solicitada | I12: 46354 | J12: Data acima da janela editável das premissas. | K12: =IFERROR(IF(COUNTA(A12:J12)=0,"",IF(OR(A12="",B12="",C12="",D12="",E12="",G12="",H12=""),"Conferir campos",IF(E12<=D12,"Conferir período",IF(OR(AND(Premissas!$B$4<>"",C12<Premissas!$B$4),AND(Premissas!$B$5<>"",C12>Premissas!$B$5)),"Data fora do limite",IF(AND(Premissas!$B$6<>"",(E12-D12)*24>Premissas!$B$6),"Conferir duração",IF(AND(F12<>"",Premissas!$B$7<>"",F12>Premissas!$B$7),"Conferir valor",IF(AND(H12<>Premissas!$D$7,COUNTIFS($A$5:$A$104,A12,$C$5:$C$104,C12,$D$5:$D$104,"<"&E12,$E$5:$E$104,">"&D12,$H$5:$H$104,"<>"&Premissas!$D$7)>1),"Possível conflito",IF(AND(F12<>"",F12>0,I12="",OR(H12=Premissas!$D$4,H12=Premissas!$D$5)),"Conferir vencimento",IF(AND(I12<>"",I12<TODAY(),OR(H12=Premissas!$D$4,H12=Premissas!$D$5)),"Vencimento passado","Sem alerta"))))))))),"Conferir dados") | N12: =""
A13: Condomínio Bosque Sereno Fictício | B13: Unidade Fictícia I-109 | C13: 46309 | D13: 0.41666667 | E13: 0.75 | F13: 180 | G13: Moradora Fictícia Ísis | H13: Confirmada | I13: 46302 | J13: Duração acima do limite para conferência humana. | K13: =IFERROR(IF(COUNTA(A13:J13)=0,"",IF(OR(A13="",B13="",C13="",D13="",E13="",G13="",H13=""),"Conferir campos",IF(E13<=D13,"Conferir período",IF(OR(AND(Premissas!$B$4<>"",C13<Premissas!$B$4),AND(Premissas!$B$5<>"",C13>Premissas!$B$5)),"Data fora do limite",IF(AND(Premissas!$B$6<>"",(E13-D13)*24>Premissas!$B$6),"Conferir duração",IF(AND(F13<>"",Premissas!$B$7<>"",F13>Premissas!$B$7),"Conferir valor",IF(AND(H13<>Premissas!$D$7,COUNTIFS($A$5:$A$104,A13,$C$5:$C$104,C13,$D$5:$D$104,"<"&E13,$E$5:$E$104,">"&D13,$H$5:$H$104,"<>"&Premissas!$D$7)>1),"Possível conflito",IF(AND(F13<>"",F13>0,I13="",OR(H13=Premissas!$D$4,H13=Premissas!$D$5)),"Conferir vencimento",IF(AND(I13<>"",I13<TODAY(),OR(H13=Premissas!$D$4,H13=Premissas!$D$5)),"Vencimento passado","Sem alerta"))))))))),"Conferir dados") | N13: =""
A14: Condomínio Vila Horizonte Fictício | B14: Unidade Fictícia J-310 | C14: 46314 | D14: 0.58333333 | E14: 0.75 | F14: 350 | G14: Morador Fictício João | H14: Solicitada | I14: 46306 | J14: Valor acima do limite para conferência humana. | K14: =IFERROR(IF(COUNTA(A14:J14)=0,"",IF(OR(A14="",B14="",C14="",D14="",E14="",G14="",H14=""),"Conferir campos",IF(E14<=D14,"Conferir período",IF(OR(AND(Premissas!$B$4<>"",C14<Premissas!$B$4),AND(Premissas!$B$5<>"",C14>Premissas!$B$5)),"Data fora do limite",IF(AND(Premissas!$B$6<>"",(E14-D14)*24>Premissas!$B$6),"Conferir duração",IF(AND(F14<>"",Premissas!$B$7<>"",F14>Premissas!$B$7),"Conferir valor",IF(AND(H14<>Premissas!$D$7,COUNTIFS($A$5:$A$104,A14,$C$5:$C$104,C14,$D$5:$D$104,"<"&E14,$E$5:$E$104,">"&D14,$H$5:$H$104,"<>"&Premissas!$D$7)>1),"Possível conflito",IF(AND(F14<>"",F14>0,I14="",OR(H14=Premissas!$D$4,H14=Premissas!$D$5)),"Conferir vencimento",IF(AND(I14<>"",I14<TODAY(),OR(H14=Premissas!$D$4,H14=Premissas!$D$5)),"Vencimento passado","Sem alerta"))))))))),"Conferir dados") | N14: =""
K15: =IFERROR(IF(COUNTA(A15:J15)=0,"",IF(OR(A15="",B15="",C15="",D15="",E15="",G15="",H15=""),"Conferir campos",IF(E15<=D15,"Conferir período",IF(OR(AND(Premissas!$B$4<>"",C15<Premissas!$B$4),AND(Premissas!$B$5<>"",C15>Premissas!$B$5)),"Data fora do limite",IF(AND(Premissas!$B$6<>"",(E15-D15)*24>Premissas!$B$6),"Conferir duração",IF(AND(F15<>"",Premissas!$B$7<>"",F15>Premissas!$B$7),"Conferir valor",IF(AND(H15<>Premissas!$D$7,COUNTIFS($A$5:$A$104,A15,$C$5:$C$104,C15,$D$5:$D$104,"<"&E15,$E$5:$E$104,">"&D15,$H$5:$H$104,"<>"&Premissas!$D$7)>1),"Possível conflito",IF(AND(F15<>"",F15>0,I15="",OR(H15=Premissas!$D$4,H15=Premissas!$D$5)),"Conferir vencimento",IF(AND(I15<>"",I15<TODAY(),OR(H15=Premissas!$D$4,H15=Premissas!$D$5)),"Vencimento passado","Sem alerta"))))))))),"Conferir dados") | N15: =""
K16: =IFERROR(IF(COUNTA(A16:J16)=0,"",IF(OR(A16="",B16="",C16="",D16="",E16="",G16="",H16=""),"Conferir campos",IF(E16<=D16,"Conferir período",IF(OR(AND(Premissas!$B$4<>"",C16<Premissas!$B$4),AND(Premissas!$B$5<>"",C16>Premissas!$B$5)),"Data fora do limite",IF(AND(Premissas!$B$6<>"",(E16-D16)*24>Premissas!$B$6),"Conferir duração",IF(AND(F16<>"",Premissas!$B$7<>"",F16>Premissas!$B$7),"Conferir valor",IF(AND(H16<>Premissas!$D$7,COUNTIFS($A$5:$A$104,A16,$C$5:$C$104,C16,$D$5:$D$104,"<"&E16,$E$5:$E$104,">"&D16,$H$5:$H$104,"<>"&Premissas!$D$7)>1),"Possível conflito",IF(AND(F16<>"",F16>0,I16="",OR(H16=Premissas!$D$4,H16=Premissas!$D$5)),"Conferir vencimento",IF(AND(I16<>"",I16<TODAY(),OR(H16=Premissas!$D$4,H16=Premissas!$D$5)),"Vencimento passado","Sem alerta"))))))))),"Conferir dados") | N16: =""
K17: =IFERROR(IF(COUNTA(A17:J17)=0,"",IF(OR(A17="",B17="",C17="",D17="",E17="",G17="",H17=""),"Conferir campos",IF(E17<=D17,"Conferir período",IF(OR(AND(Premissas!$B$4<>"",C17<Premissas!$B$4),AND(Premissas!$B$5<>"",C17>Premissas!$B$5)),"Data fora do limite",IF(AND(Premissas!$B$6<>"",(E17-D17)*24>Premissas!$B$6),"Conferir duração",IF(AND(F17<>"",Premissas!$B$7<>"",F17>Premissas!$B$7),"Conferir valor",IF(AND(H17<>Premissas!$D$7,COUNTIFS($A$5:$A$104,A17,$C$5:$C$104,C17,$D$5:$D$104,"<"&E17,$E$5:$E$104,">"&D17,$H$5:$H$104,"<>"&Premissas!$D$7)>1),"Possível conflito",IF(AND(F17<>"",F17>0,I17="",OR(H17=Premissas!$D$4,H17=Premissas!$D$5)),"Conferir vencimento",IF(AND(I17<>"",I17<TODAY(),OR(H17=Premissas!$D$4,H17=Premissas!$D$5)),"Vencimento passado","Sem alerta"))))))))),"Conferir dados") | N17: =""
K18: =IFERROR(IF(COUNTA(A18:J18)=0,"",IF(OR(A18="",B18="",C18="",D18="",E18="",G18="",H18=""),"Conferir campos",IF(E18<=D18,"Conferir período",IF(OR(AND(Premissas!$B$4<>"",C18<Premissas!$B$4),AND(Premissas!$B$5<>"",C18>Premissas!$B$5)),"Data fora do limite",IF(AND(Premissas!$B$6<>"",(E18-D18)*24>Premissas!$B$6),"Conferir duração",IF(AND(F18<>"",Premissas!$B$7<>"",F18>Premissas!$B$7),"Conferir valor",IF(AND(H18<>Premissas!$D$7,COUNTIFS($A$5:$A$104,A18,$C$5:$C$104,C18,$D$5:$D$104,"<"&E18,$E$5:$E$104,">"&D18,$H$5:$H$104,"<>"&Premissas!$D$7)>1),"Possível conflito",IF(AND(F18<>"",F18>0,I18="",OR(H18=Premissas!$D$4,H18=Premissas!$D$5)),"Conferir vencimento",IF(AND(I18<>"",I18<TODAY(),OR(H18=Premissas!$D$4,H18=Premissas!$D$5)),"Vencimento passado","Sem alerta"))))))))),"Conferir dados") | N18: =""
K19: =IFERROR(IF(COUNTA(A19:J19)=0,"",IF(OR(A19="",B19="",C19="",D19="",E19="",G19="",H19=""),"Conferir campos",IF(E19<=D19,"Conferir período",IF(OR(AND(Premissas!$B$4<>"",C19<Premissas!$B$4),AND(Premissas!$B$5<>"",C19>Premissas!$B$5)),"Data fora do limite",IF(AND(Premissas!$B$6<>"",(E19-D19)*24>Premissas!$B$6),"Conferir duração",IF(AND(F19<>"",Premissas!$B$7<>"",F19>Premissas!$B$7),"Conferir valor",IF(AND(H19<>Premissas!$D$7,COUNTIFS($A$5:$A$104,A19,$C$5:$C$104,C19,$D$5:$D$104,"<"&E19,$E$5:$E$104,">"&D19,$H$5:$H$104,"<>"&Premissas!$D$7)>1),"Possível conflito",IF(AND(F19<>"",F19>0,I19="",OR(H19=Premissas!$D$4,H19=Premissas!$D$5)),"Conferir vencimento",IF(AND(I19<>"",I19<TODAY(),OR(H19=Premissas!$D$4,H19=Premissas!$D$5)),"Vencimento passado","Sem alerta"))))))))),"Conferir dados") | N19: =""
K20: =IFERROR(IF(COUNTA(A20:J20)=0,"",IF(OR(A20="",B20="",C20="",D20="",E20="",G20="",H20=""),"Conferir campos",IF(E20<=D20,"Conferir período",IF(OR(AND(Premissas!$B$4<>"",C20<Premissas!$B$4),AND(Premissas!$B$5<>"",C20>Premissas!$B$5)),"Data fora do limite",IF(AND(Premissas!$B$6<>"",(E20-D20)*24>Premissas!$B$6),"Conferir duração",IF(AND(F20<>"",Premissas!$B$7<>"",F20>Premissas!$B$7),"Conferir valor",IF(AND(H20<>Premissas!$D$7,COUNTIFS($A$5:$A$104,A20,$C$5:$C$104,C20,$D$5:$D$104,"<"&E20,$E$5:$E$104,">"&D20,$H$5:$H$104,"<>"&Premissas!$D$7)>1),"Possível conflito",IF(AND(F20<>"",F20>0,I20="",OR(H20=Premissas!$D$4,H20=Premissas!$D$5)),"Conferir vencimento",IF(AND(I20<>"",I20<TODAY(),OR(H20=Premissas!$D$4,H20=Premissas!$D$5)),"Vencimento passado","Sem alerta"))))))))),"Conferir dados") | N20: =""
K21: =IFERROR(IF(COUNTA(A21:J21)=0,"",IF(OR(A21="",B21="",C21="",D21="",E21="",G21="",H21=""),"Conferir campos",IF(E21<=D21,"Conferir período",IF(OR(AND(Premissas!$B$4<>"",C21<Premissas!$B$4),AND(Premissas!$B$5<>"",C21>Premissas!$B$5)),"Data fora do limite",IF(AND(Premissas!$B$6<>"",(E21-D21)*24>Premissas!$B$6),"Conferir duração",IF(AND(F21<>"",Premissas!$B$7<>"",F21>Premissas!$B$7),"Conferir valor",IF(AND(H21<>Premissas!$D$7,COUNTIFS($A$5:$A$104,A21,$C$5:$C$104,C21,$D$5:$D$104,"<"&E21,$E$5:$E$104,">"&D21,$H$5:$H$104,"<>"&Premissas!$D$7)>1),"Possível conflito",IF(AND(F21<>"",F21>0,I21="",OR(H21=Premissas!$D$4,H21=Premissas!$D$5)),"Conferir vencimento",IF(AND(I21<>"",I21<TODAY(),OR(H21=Premissas!$D$4,H21=Premissas!$D$5)),"Vencimento passado","Sem alerta"))))))))),"Conferir dados") | N21: =""
K22: =IFERROR(IF(COUNTA(A22:J22)=0,"",IF(OR(A22="",B22="",C22="",D22="",E22="",G22="",H22=""),"Conferir campos",IF(E22<=D22,"Conferir período",IF(OR(AND(Premissas!$B$4<>"",C22<Premissas!$B$4),AND(Premissas!$B$5<>"",C22>Premissas!$B$5)),"Data fora do limite",IF(AND(Premissas!$B$6<>"",(E22-D22)*24>Premissas!$B$6),"Conferir duração",IF(AND(F22<>"",Premissas!$B$7<>"",F22>Premissas!$B$7),"Conferir valor",IF(AND(H22<>Premissas!$D$7,COUNTIFS($A$5:$A$104,A22,$C$5:$C$104,C22,$D$5:$D$104,"<"&E22,$E$5:$E$104,">"&D22,$H$5:$H$104,"<>"&Premissas!$D$7)>1),"Possível conflito",IF(AND(F22<>"",F22>0,I22="",OR(H22=Premissas!$D$4,H22=Premissas!$D$5)),"Conferir vencimento",IF(AND(I22<>"",I22<TODAY(),OR(H22=Premissas!$D$4,H22=Premissas!$D$5)),"Vencimento passado","Sem alerta"))))))))),"Conferir dados") | N22: =""
K23: =IFERROR(IF(COUNTA(A23:J23)=0,"",IF(OR(A23="",B23="",C23="",D23="",E23="",G23="",H23=""),"Conferir campos",IF(E23<=D23,"Conferir período",IF(OR(AND(Premissas!$B$4<>"",C23<Premissas!$B$4),AND(Premissas!$B$5<>"",C23>Premissas!$B$5)),"Data fora do limite",IF(AND(Premissas!$B$6<>"",(E23-D23)*24>Premissas!$B$6),"Conferir duração",IF(AND(F23<>"",Premissas!$B$7<>"",F23>Premissas!$B$7),"Conferir valor",IF(AND(H23<>Premissas!$D$7,COUNTIFS($A$5:$A$104,A23,$C$5:$C$104,C23,$D$5:$D$104,"<"&E23,$E$5:$E$104,">"&D23,$H$5:$H$104,"<>"&Premissas!$D$7)>1),"Possível conflito",IF(AND(F23<>"",F23>0,I23="",OR(H23=Premissas!$D$4,H23=Premissas!$D$5)),"Conferir vencimento",IF(AND(I23<>"",I23<TODAY(),OR(H23=Premissas!$D$4,H23=Premissas!$D$5)),"Vencimento passado","Sem alerta"))))))))),"Conferir dados") | N23: =""
K24: =IFERROR(IF(COUNTA(A24:J24)=0,"",IF(OR(A24="",B24="",C24="",D24="",E24="",G24="",H24=""),"Conferir campos",IF(E24<=D24,"Conferir período",IF(OR(AND(Premissas!$B$4<>"",C24<Premissas!$B$4),AND(Premissas!$B$5<>"",C24>Premissas!$B$5)),"Data fora do limite",IF(AND(Premissas!$B$6<>"",(E24-D24)*24>Premissas!$B$6),"Conferir duração",IF(AND(F24<>"",Premissas!$B$7<>"",F24>Premissas!$B$7),"Conferir valor",IF(AND(H24<>Premissas!$D$7,COUNTIFS($A$5:$A$104,A24,$C$5:$C$104,C24,$D$5:$D$104,"<"&E24,$E$5:$E$104,">"&D24,$H$5:$H$104,"<>"&Premissas!$D$7)>1),"Possível conflito",IF(AND(F24<>"",F24>0,I24="",OR(H24=Premissas!$D$4,H24=Premissas!$D$5)),"Conferir vencimento",IF(AND(I24<>"",I24<TODAY(),OR(H24=Premissas!$D$4,H24=Premissas!$D$5)),"Vencimento passado","Sem alerta"))))))))),"Conferir dados") | N24: =""
K25: =IFERROR(IF(COUNTA(A25:J25)=0,"",IF(OR(A25="",B25="",C25="",D25="",E25="",G25="",H25=""),"Conferir campos",IF(E25<=D25,"Conferir período",IF(OR(AND(Premissas!$B$4<>"",C25<Premissas!$B$4),AND(Premissas!$B$5<>"",C25>Premissas!$B$5)),"Data fora do limite",IF(AND(Premissas!$B$6<>"",(E25-D25)*24>Premissas!$B$6),"Conferir duração",IF(AND(F25<>"",Premissas!$B$7<>"",F25>Premissas!$B$7),"Conferir valor",IF(AND(H25<>Premissas!$D$7,COUNTIFS($A$5:$A$104,A25,$C$5:$C$104,C25,$D$5:$D$104,"<"&E25,$E$5:$E$104,">"&D25,$H$5:$H$104,"<>"&Premissas!$D$7)>1),"Possível conflito",IF(AND(F25<>"",F25>0,I25="",OR(H25=Premissas!$D$4,H25=Premissas!$D$5)),"Conferir vencimento",IF(AND(I25<>"",I25<TODAY(),OR(H25=Premissas!$D$4,H25=Premissas!$D$5)),"Vencimento passado","Sem alerta"))))))))),"Conferir dados") | N25: =""
K26: =IFERROR(IF(COUNTA(A26:J26)=0,"",IF(OR(A26="",B26="",C26="",D26="",E26="",G26="",H26=""),"Conferir campos",IF(E26<=D26,"Conferir período",IF(OR(AND(Premissas!$B$4<>"",C26<Premissas!$B$4),AND(Premissas!$B$5<>"",C26>Premissas!$B$5)),"Data fora do limite",IF(AND(Premissas!$B$6<>"",(E26-D26)*24>Premissas!$B$6),"Conferir duração",IF(AND(F26<>"",Premissas!$B$7<>"",F26>Premissas!$B$7),"Conferir valor",IF(AND(H26<>Premissas!$D$7,COUNTIFS($A$5:$A$104,A26,$C$5:$C$104,C26,$D$5:$D$104,"<"&E26,$E$5:$E$104,">"&D26,$H$5:$H$104,"<>"&Premissas!$D$7)>1),"Possível conflito",IF(AND(F26<>"",F26>0,I26="",OR(H26=Premissas!$D$4,H26=Premissas!$D$5)),"Conferir vencimento",IF(AND(I26<>"",I26<TODAY(),OR(H26=Premissas!$D$4,H26=Premissas!$D$5)),"Vencimento passado","Sem alerta"))))))))),"Conferir dados") | N26: =""
... K104: =IFERROR(IF(COUNTA(A104:J104)=0,"",IF(OR(A104="",B104="",C104="",D104="",E104="",G104="",H104=""),"Conferir campos",IF(E104<=D104,"Conferir período",IF(OR(AND(Premissas!$B$4<>"",C104<Premissas!$B$4),AND(Premissas!$B$5<>"",C104>Premissas!$B$5)),"Data fora do limite",IF(AND(Premissas!$B$6<>"",(E104-D104)*24>Premissas!$B$6),"Conferir duração",IF(AND(F104<>"",Premissas!$B$7<>"",F104>Premissas!$B$7),"Conferir valor",IF(AND(H104<>Premissas!$D$7,COUNTIFS($A$5:$A$104,A104,$C$5:$C$104,C104,$D$5:$D$104,"<"&E104,$E$5:$E$104,">"&D104,$H$5:$H$104,"<>"&Premissas!$D$7)>1),"Possível conflito",IF(AND(F104<>"",F104>0,I104="",OR(H104=Premissas!$D$4,H104=Premissas!$D$5)),"Conferir vencimento",IF(AND(I104<>"",I104<TODAY(),OR(H104=Premissas!$D$4,H104=Premissas!$D$5)),"Vencimento passado","Sem alerta"))))))))),"Conferir dados") | N104: =""

Sheet Premissas
A1: Premissas editáveis das reservas
A3: Limite | B3: Valor editável | C3: Unidade ou uso | D3: Situações editáveis
A4: Data inicial permitida | B4: 46254 | C4: Data da reserva | D4: Solicitada
A5: Data final permitida | B5: 46374 | C5: Data da reserva | D5: Confirmada
A6: Duração máxima | B6: 6 | C6: Horas | D6: Concluída
A7: Valor máximo para conferência | B7: 300 | C7: R$ para alerta | D7: Cancelada
A9: Os limites geram alertas para conferência humana e podem ser ajustados à rotina interna do condomínio.
