Workbook

Sheet Resumo
A1: Rateio de despesas ordinárias — Resumo
A3: Despesas conferidas | B3: =IFERROR(SUMIF(Despesas!$E$6:$E$105,Premissas!$I$16,Despesas!$C$6:$C$105),0) | D3: Rateio calculado | E3: =IFERROR(SUMIF(Rateio!$H$6:$H$105,"Calculado",Rateio!$F$6:$F$105),0) | G3: Diferença global | H3: =IFERROR(ABS(B3-E3),0)
A6: Unidades ativas | B6: =COUNTIF(Premissas!$E$6:$E$105,Premissas!$I$11) | D6: Despesas em conferência | E6: =COUNTIF(Despesas!$E$6:$E$105,Premissas!$I$15) | G6: Rateios para conferir | H6: =COUNTIF(Rateio!$H$6:$H$105,"Conferir*")+COUNTIF(Rateio!$H$6:$H$105,"Sem despesa*")
A9: Valor rateado vencido | B9: =IFERROR(SUMIFS(Rateio!$F$6:$F$105,Rateio!$H$6:$H$105,"Calculado",Rateio!$I$6:$I$105,"<"&TODAY(),Rateio!$I$6:$I$105,">0"),0) | D9: Rateios calculados | E9: =COUNTIF(Rateio!$H$6:$H$105,"Calculado") | G9: Unidades inativas | H9: =COUNTIF(Premissas!$E$6:$E$105,Premissas!$I$12)

Sheet Premissas
A1: Premissas do rateio ordinário
A2: Cadastre cada unidade e informe sua fração ou critério percentual de rateio. | H2: Premissa editável | I2: Valor
A3: Confira manualmente se as frações ativas de cada condomínio totalizam 100%. | H3: Tolerância das frações | I3: 0.0001
H4: Fração mínima | I4: 0
A5: Condomínio | B5: Unidade | C5: Fração / critério (%) | D5: Responsável | E5: Situação | F5: Observações | H5: Fração máxima | I5: 1
A6: Condomínio Fictício Ipê Azul | B6: IA-101 | C6: 0.08 | D6: Responsável Fictício 01 | E6: Ativa | F6: Cadastro exclusivamente fictício para demonstração. | H6: Data mínima | I6: 44197
A7: Condomínio Fictício Ipê Azul | B7: IA-102 | C7: 0.09 | D7: Responsável Fictício 02 | E7: Ativa | F7: Cadastro exclusivamente fictício para demonstração. | H7: Data máxima | I7: 48213
A8: Condomínio Fictício Ipê Azul | B8: IA-201 | C8: 0.1 | D8: Responsável Fictício 03 | E8: Ativa | F8: Cadastro exclusivamente fictício para demonstração. | H8: Valor máximo por despesa | I8: 1000000
A9: Condomínio Fictício Ipê Azul | B9: IA-202 | C9: 0.11 | D9: Responsável Fictício 04 | E9: Ativa | F9: Cadastro exclusivamente fictício para demonstração.
A10: Condomínio Fictício Ipê Azul | B10: IA-301 | C10: 0.12 | D10: Responsável Fictício 05 | E10: Ativa | F10: Cadastro exclusivamente fictício para demonstração. | H10: Lista editável | I10: Opção
A11: Condomínio Fictício Ipê Azul | B11: IA-302 | C11: 0.08 | D11: Responsável Fictício 06 | E11: Ativa | F11: Cadastro exclusivamente fictício para demonstração. | H11: Situação da unidade | I11: Ativa
A12: Condomínio Fictício Ipê Azul | B12: IA-401 | C12: 0.09 | D12: Responsável Fictício 07 | E12: Ativa | F12: Cadastro exclusivamente fictício para demonstração. | H12: Situação da unidade | I12: Inativa
A13: Condomínio Fictício Ipê Azul | B13: IA-402 | C13: 0.1 | D13: Responsável Fictício 08 | E13: Ativa | F13: Cadastro exclusivamente fictício para demonstração.
A14: Condomínio Fictício Ipê Azul | B14: IA-501 | C14: 0.11 | D14: Responsável Fictício 09 | E14: Ativa | F14: Cadastro exclusivamente fictício para demonstração. | H14: Situação da despesa | I14: Opção
A15: Condomínio Fictício Ipê Azul | B15: IA-502 | C15: 0.12 | D15: Responsável Fictício 10 | E15: Ativa | F15: Cadastro exclusivamente fictício para demonstração. | H15: Situação da despesa | I15: Em conferência
H16: Situação da despesa | I16: Conferida
H17: Situação da despesa | I17: Desconsiderada

Sheet Despesas
A1: Despesas ordinárias do condomínio
A2: Registre despesas comuns; somente itens com situação “Conferida” entram no rateio.
A5: Condomínio | B5: Período | C5: Valor ordinário (R$) | D5: Responsável | E5: Situação | F5: Vencimento | G5: Observações
A6: Condomínio Fictício Ipê Azul | B6: 46266 | C6: 3200 | D6: Administração Fictícia Aurora | E6: Conferida | F6: 46270 | G6: Limpeza das áreas comuns — exemplo fictício.
A7: Condomínio Fictício Ipê Azul | B7: 46266 | C7: 1850 | D7: Administração Fictícia Aurora | E7: Conferida | F7: 46272 | G7: Consumo de água comum — exemplo fictício.
A8: Condomínio Fictício Ipê Azul | B8: 46266 | C8: 940.5 | D8: Administração Fictícia Aurora | E8: Conferida | F8: 46274 | G8: Energia das áreas comuns — exemplo fictício.
A9: Condomínio Fictício Ipê Azul | B9: 46266 | C9: 1320 | D9: Administração Fictícia Aurora | E9: Conferida | F9: 46276 | G9: Manutenção preventiva — exemplo fictício.
A10: Condomínio Fictício Ipê Azul | B10: 46266 | C10: 680 | D10: Administração Fictícia Aurora | E10: Conferida | F10: 46278 | G10: Materiais de conservação — exemplo fictício.
A11: Condomínio Fictício Ipê Azul | B11: 46266 | C11: 410.75 | D11: Administração Fictícia Aurora | E11: Conferida | F11: 46280 | G11: Jardinagem periódica — exemplo fictício.
A12: Condomínio Fictício Ipê Azul | B12: 46266 | C12: 560 | D12: Administração Fictícia Aurora | E12: Conferida | F12: 46283 | G12: Manutenção de elevadores — exemplo fictício.
A13: Condomínio Fictício Ipê Azul | B13: 46266 | C13: 2100 | D13: Administração Fictícia Aurora | E13: Conferida | F13: 46285 | G13: Equipe de apoio operacional — exemplo fictício.
A14: Condomínio Fictício Ipê Azul | B14: 46266 | C14: 750 | D14: Administração Fictícia Aurora | E14: Em conferência | F14: 46290 | G14: Serviço pendente de conferência humana — exemplo fictício.
A15: Condomínio Fictício Ipê Azul | B15: 46266 | C15: 390 | D15: Administração Fictícia Aurora | E15: Desconsiderada | F15: 46293 | G15: Lançamento desconsiderado na demonstração fictícia.

Sheet Rateio
A1: Rateio por unidade
A2: Preencha condomínio, unidade, período e vencimento; os demais campos são calculados.
A3: Situações de conferência indicam necessidade de revisão humana dos cadastros ou das frações.
A5: Condomínio | B5: Unidade | C5: Período | D5: Total ordinário (R$) | E5: Fração (%) | F5: Valor rateado (R$) | G5: Responsável | H5: Situação | I5: Vencimento | J5: Observações
A6: Condomínio Fictício Ipê Azul | B6: IA-101 | C6: 46266 | D6: =IF(OR(A6="",C6=""),"",IF(COUNTIFS(Despesas!$A$6:$A$105,A6,Despesas!$B$6:$B$105,C6,Despesas!$E$6:$E$105,Premissas!$I$16)=0,"",IFERROR(SUMIFS(Despesas!$C$6:$C$105,Despesas!$A$6:$A$105,A6,Despesas!$B$6:$B$105,C6,Despesas!$E$6:$E$105,Premissas!$I$16),""))) | E6: =IF(OR(A6="",B6=""),"",IF(COUNTIFS(Premissas!$A$6:$A$105,A6,Premissas!$B$6:$B$105,B6,Premissas!$E$6:$E$105,Premissas!$I$11)=0,"",IFERROR(SUMIFS(Premissas!$C$6:$C$105,Premissas!$A$6:$A$105,A6,Premissas!$B$6:$B$105,B6,Premissas!$E$6:$E$105,Premissas!$I$11),""))) | F6: =IF(OR(D6="",E6=""),"",IFERROR(D6*E6,"")) | G6: =IF(OR(A6="",B6=""),"",IFERROR(INDEX(Premissas!$D$6:$D$105,MATCH(1,INDEX((Premissas!$A$6:$A$105=A6)*(Premissas!$B$6:$B$105=B6)*(Premissas!$E$6:$E$105=Premissas!$I$11),0),0)),"")) | H6: =IF(COUNTA(A6:C6)+COUNTA(I6)=0,"",IF(OR(A6="",B6="",C6=""),"Conferir campos",IF(I6="","Conferir vencimento",IF(COUNTIFS(Premissas!$A$6:$A$105,A6,Premissas!$B$6:$B$105,B6,Premissas!$E$6:$E$105,Premissas!$I$11)<>1,"Conferir cadastro",IF(ABS(SUMIFS(Premissas!$C$6:$C$105,Premissas!$A$6:$A$105,A6,Premissas!$E$6:$E$105,Premissas!$I$11)-1)>Premissas!$I$3,"Conferir frações",IF(D6="","Sem despesa conferida","Calculado")))))) | I6: 46305 | J6: Exemplo fictício; conferir antes de utilizar.
A7: Condomínio Fictício Ipê Azul | B7: IA-102 | C7: 46266 | D7: =IF(OR(A7="",C7=""),"",IF(COUNTIFS(Despesas!$A$6:$A$105,A7,Despesas!$B$6:$B$105,C7,Despesas!$E$6:$E$105,Premissas!$I$16)=0,"",IFERROR(SUMIFS(Despesas!$C$6:$C$105,Despesas!$A$6:$A$105,A7,Despesas!$B$6:$B$105,C7,Despesas!$E$6:$E$105,Premissas!$I$16),""))) | E7: =IF(OR(A7="",B7=""),"",IF(COUNTIFS(Premissas!$A$6:$A$105,A7,Premissas!$B$6:$B$105,B7,Premissas!$E$6:$E$105,Premissas!$I$11)=0,"",IFERROR(SUMIFS(Premissas!$C$6:$C$105,Premissas!$A$6:$A$105,A7,Premissas!$B$6:$B$105,B7,Premissas!$E$6:$E$105,Premissas!$I$11),""))) | F7: =IF(OR(D7="",E7=""),"",IFERROR(D7*E7,"")) | G7: =IF(OR(A7="",B7=""),"",IFERROR(INDEX(Premissas!$D$6:$D$105,MATCH(1,INDEX((Premissas!$A$6:$A$105=A7)*(Premissas!$B$6:$B$105=B7)*(Premissas!$E$6:$E$105=Premissas!$I$11),0),0)),"")) | H7: =IF(COUNTA(A7:C7)+COUNTA(I7)=0,"",IF(OR(A7="",B7="",C7=""),"Conferir campos",IF(I7="","Conferir vencimento",IF(COUNTIFS(Premissas!$A$6:$A$105,A7,Premissas!$B$6:$B$105,B7,Premissas!$E$6:$E$105,Premissas!$I$11)<>1,"Conferir cadastro",IF(ABS(SUMIFS(Premissas!$C$6:$C$105,Premissas!$A$6:$A$105,A7,Premissas!$E$6:$E$105,Premissas!$I$11)-1)>Premissas!$I$3,"Conferir frações",IF(D7="","Sem despesa conferida","Calculado")))))) | I7: 46305 | J7: Exemplo fictício; conferir antes de utilizar.
A8: Condomínio Fictício Ipê Azul | B8: IA-201 | C8: 46266 | D8: =IF(OR(A8="",C8=""),"",IF(COUNTIFS(Despesas!$A$6:$A$105,A8,Despesas!$B$6:$B$105,C8,Despesas!$E$6:$E$105,Premissas!$I$16)=0,"",IFERROR(SUMIFS(Despesas!$C$6:$C$105,Despesas!$A$6:$A$105,A8,Despesas!$B$6:$B$105,C8,Despesas!$E$6:$E$105,Premissas!$I$16),""))) | E8: =IF(OR(A8="",B8=""),"",IF(COUNTIFS(Premissas!$A$6:$A$105,A8,Premissas!$B$6:$B$105,B8,Premissas!$E$6:$E$105,Premissas!$I$11)=0,"",IFERROR(SUMIFS(Premissas!$C$6:$C$105,Premissas!$A$6:$A$105,A8,Premissas!$B$6:$B$105,B8,Premissas!$E$6:$E$105,Premissas!$I$11),""))) | F8: =IF(OR(D8="",E8=""),"",IFERROR(D8*E8,"")) | G8: =IF(OR(A8="",B8=""),"",IFERROR(INDEX(Premissas!$D$6:$D$105,MATCH(1,INDEX((Premissas!$A$6:$A$105=A8)*(Premissas!$B$6:$B$105=B8)*(Premissas!$E$6:$E$105=Premissas!$I$11),0),0)),"")) | H8: =IF(COUNTA(A8:C8)+COUNTA(I8)=0,"",IF(OR(A8="",B8="",C8=""),"Conferir campos",IF(I8="","Conferir vencimento",IF(COUNTIFS(Premissas!$A$6:$A$105,A8,Premissas!$B$6:$B$105,B8,Premissas!$E$6:$E$105,Premissas!$I$11)<>1,"Conferir cadastro",IF(ABS(SUMIFS(Premissas!$C$6:$C$105,Premissas!$A$6:$A$105,A8,Premissas!$E$6:$E$105,Premissas!$I$11)-1)>Premissas!$I$3,"Conferir frações",IF(D8="","Sem despesa conferida","Calculado")))))) | I8: 46305 | J8: Exemplo fictício; conferir antes de utilizar.
A9: Condomínio Fictício Ipê Azul | B9: IA-202 | C9: 46266 | D9: =IF(OR(A9="",C9=""),"",IF(COUNTIFS(Despesas!$A$6:$A$105,A9,Despesas!$B$6:$B$105,C9,Despesas!$E$6:$E$105,Premissas!$I$16)=0,"",IFERROR(SUMIFS(Despesas!$C$6:$C$105,Despesas!$A$6:$A$105,A9,Despesas!$B$6:$B$105,C9,Despesas!$E$6:$E$105,Premissas!$I$16),""))) | E9: =IF(OR(A9="",B9=""),"",IF(COUNTIFS(Premissas!$A$6:$A$105,A9,Premissas!$B$6:$B$105,B9,Premissas!$E$6:$E$105,Premissas!$I$11)=0,"",IFERROR(SUMIFS(Premissas!$C$6:$C$105,Premissas!$A$6:$A$105,A9,Premissas!$B$6:$B$105,B9,Premissas!$E$6:$E$105,Premissas!$I$11),""))) | F9: =IF(OR(D9="",E9=""),"",IFERROR(D9*E9,"")) | G9: =IF(OR(A9="",B9=""),"",IFERROR(INDEX(Premissas!$D$6:$D$105,MATCH(1,INDEX((Premissas!$A$6:$A$105=A9)*(Premissas!$B$6:$B$105=B9)*(Premissas!$E$6:$E$105=Premissas!$I$11),0),0)),"")) | H9: =IF(COUNTA(A9:C9)+COUNTA(I9)=0,"",IF(OR(A9="",B9="",C9=""),"Conferir campos",IF(I9="","Conferir vencimento",IF(COUNTIFS(Premissas!$A$6:$A$105,A9,Premissas!$B$6:$B$105,B9,Premissas!$E$6:$E$105,Premissas!$I$11)<>1,"Conferir cadastro",IF(ABS(SUMIFS(Premissas!$C$6:$C$105,Premissas!$A$6:$A$105,A9,Premissas!$E$6:$E$105,Premissas!$I$11)-1)>Premissas!$I$3,"Conferir frações",IF(D9="","Sem despesa conferida","Calculado")))))) | I9: 46305 | J9: Exemplo fictício; conferir antes de utilizar.
A10: Condomínio Fictício Ipê Azul | B10: IA-301 | C10: 46266 | D10: =IF(OR(A10="",C10=""),"",IF(COUNTIFS(Despesas!$A$6:$A$105,A10,Despesas!$B$6:$B$105,C10,Despesas!$E$6:$E$105,Premissas!$I$16)=0,"",IFERROR(SUMIFS(Despesas!$C$6:$C$105,Despesas!$A$6:$A$105,A10,Despesas!$B$6:$B$105,C10,Despesas!$E$6:$E$105,Premissas!$I$16),""))) | E10: =IF(OR(A10="",B10=""),"",IF(COUNTIFS(Premissas!$A$6:$A$105,A10,Premissas!$B$6:$B$105,B10,Premissas!$E$6:$E$105,Premissas!$I$11)=0,"",IFERROR(SUMIFS(Premissas!$C$6:$C$105,Premissas!$A$6:$A$105,A10,Premissas!$B$6:$B$105,B10,Premissas!$E$6:$E$105,Premissas!$I$11),""))) | F10: =IF(OR(D10="",E10=""),"",IFERROR(D10*E10,"")) | G10: =IF(OR(A10="",B10=""),"",IFERROR(INDEX(Premissas!$D$6:$D$105,MATCH(1,INDEX((Premissas!$A$6:$A$105=A10)*(Premissas!$B$6:$B$105=B10)*(Premissas!$E$6:$E$105=Premissas!$I$11),0),0)),"")) | H10: =IF(COUNTA(A10:C10)+COUNTA(I10)=0,"",IF(OR(A10="",B10="",C10=""),"Conferir campos",IF(I10="","Conferir vencimento",IF(COUNTIFS(Premissas!$A$6:$A$105,A10,Premissas!$B$6:$B$105,B10,Premissas!$E$6:$E$105,Premissas!$I$11)<>1,"Conferir cadastro",IF(ABS(SUMIFS(Premissas!$C$6:$C$105,Premissas!$A$6:$A$105,A10,Premissas!$E$6:$E$105,Premissas!$I$11)-1)>Premissas!$I$3,"Conferir frações",IF(D10="","Sem despesa conferida","Calculado")))))) | I10: 46305 | J10: Exemplo fictício; conferir antes de utilizar.
A11: Condomínio Fictício Ipê Azul | B11: IA-302 | C11: 46266 | D11: =IF(OR(A11="",C11=""),"",IF(COUNTIFS(Despesas!$A$6:$A$105,A11,Despesas!$B$6:$B$105,C11,Despesas!$E$6:$E$105,Premissas!$I$16)=0,"",IFERROR(SUMIFS(Despesas!$C$6:$C$105,Despesas!$A$6:$A$105,A11,Despesas!$B$6:$B$105,C11,Despesas!$E$6:$E$105,Premissas!$I$16),""))) | E11: =IF(OR(A11="",B11=""),"",IF(COUNTIFS(Premissas!$A$6:$A$105,A11,Premissas!$B$6:$B$105,B11,Premissas!$E$6:$E$105,Premissas!$I$11)=0,"",IFERROR(SUMIFS(Premissas!$C$6:$C$105,Premissas!$A$6:$A$105,A11,Premissas!$B$6:$B$105,B11,Premissas!$E$6:$E$105,Premissas!$I$11),""))) | F11: =IF(OR(D11="",E11=""),"",IFERROR(D11*E11,"")) | G11: =IF(OR(A11="",B11=""),"",IFERROR(INDEX(Premissas!$D$6:$D$105,MATCH(1,INDEX((Premissas!$A$6:$A$105=A11)*(Premissas!$B$6:$B$105=B11)*(Premissas!$E$6:$E$105=Premissas!$I$11),0),0)),"")) | H11: =IF(COUNTA(A11:C11)+COUNTA(I11)=0,"",IF(OR(A11="",B11="",C11=""),"Conferir campos",IF(I11="","Conferir vencimento",IF(COUNTIFS(Premissas!$A$6:$A$105,A11,Premissas!$B$6:$B$105,B11,Premissas!$E$6:$E$105,Premissas!$I$11)<>1,"Conferir cadastro",IF(ABS(SUMIFS(Premissas!$C$6:$C$105,Premissas!$A$6:$A$105,A11,Premissas!$E$6:$E$105,Premissas!$I$11)-1)>Premissas!$I$3,"Conferir frações",IF(D11="","Sem despesa conferida","Calculado")))))) | I11: 46305 | J11: Exemplo fictício; conferir antes de utilizar.
A12: Condomínio Fictício Ipê Azul | B12: IA-401 | C12: 46266 | D12: =IF(OR(A12="",C12=""),"",IF(COUNTIFS(Despesas!$A$6:$A$105,A12,Despesas!$B$6:$B$105,C12,Despesas!$E$6:$E$105,Premissas!$I$16)=0,"",IFERROR(SUMIFS(Despesas!$C$6:$C$105,Despesas!$A$6:$A$105,A12,Despesas!$B$6:$B$105,C12,Despesas!$E$6:$E$105,Premissas!$I$16),""))) | E12: =IF(OR(A12="",B12=""),"",IF(COUNTIFS(Premissas!$A$6:$A$105,A12,Premissas!$B$6:$B$105,B12,Premissas!$E$6:$E$105,Premissas!$I$11)=0,"",IFERROR(SUMIFS(Premissas!$C$6:$C$105,Premissas!$A$6:$A$105,A12,Premissas!$B$6:$B$105,B12,Premissas!$E$6:$E$105,Premissas!$I$11),""))) | F12: =IF(OR(D12="",E12=""),"",IFERROR(D12*E12,"")) | G12: =IF(OR(A12="",B12=""),"",IFERROR(INDEX(Premissas!$D$6:$D$105,MATCH(1,INDEX((Premissas!$A$6:$A$105=A12)*(Premissas!$B$6:$B$105=B12)*(Premissas!$E$6:$E$105=Premissas!$I$11),0),0)),"")) | H12: =IF(COUNTA(A12:C12)+COUNTA(I12)=0,"",IF(OR(A12="",B12="",C12=""),"Conferir campos",IF(I12="","Conferir vencimento",IF(COUNTIFS(Premissas!$A$6:$A$105,A12,Premissas!$B$6:$B$105,B12,Premissas!$E$6:$E$105,Premissas!$I$11)<>1,"Conferir cadastro",IF(ABS(SUMIFS(Premissas!$C$6:$C$105,Premissas!$A$6:$A$105,A12,Premissas!$E$6:$E$105,Premissas!$I$11)-1)>Premissas!$I$3,"Conferir frações",IF(D12="","Sem despesa conferida","Calculado")))))) | I12: 46305 | J12: Exemplo fictício; conferir antes de utilizar.
A13: Condomínio Fictício Ipê Azul | B13: IA-402 | C13: 46266 | D13: =IF(OR(A13="",C13=""),"",IF(COUNTIFS(Despesas!$A$6:$A$105,A13,Despesas!$B$6:$B$105,C13,Despesas!$E$6:$E$105,Premissas!$I$16)=0,"",IFERROR(SUMIFS(Despesas!$C$6:$C$105,Despesas!$A$6:$A$105,A13,Despesas!$B$6:$B$105,C13,Despesas!$E$6:$E$105,Premissas!$I$16),""))) | E13: =IF(OR(A13="",B13=""),"",IF(COUNTIFS(Premissas!$A$6:$A$105,A13,Premissas!$B$6:$B$105,B13,Premissas!$E$6:$E$105,Premissas!$I$11)=0,"",IFERROR(SUMIFS(Premissas!$C$6:$C$105,Premissas!$A$6:$A$105,A13,Premissas!$B$6:$B$105,B13,Premissas!$E$6:$E$105,Premissas!$I$11),""))) | F13: =IF(OR(D13="",E13=""),"",IFERROR(D13*E13,"")) | G13: =IF(OR(A13="",B13=""),"",IFERROR(INDEX(Premissas!$D$6:$D$105,MATCH(1,INDEX((Premissas!$A$6:$A$105=A13)*(Premissas!$B$6:$B$105=B13)*(Premissas!$E$6:$E$105=Premissas!$I$11),0),0)),"")) | H13: =IF(COUNTA(A13:C13)+COUNTA(I13)=0,"",IF(OR(A13="",B13="",C13=""),"Conferir campos",IF(I13="","Conferir vencimento",IF(COUNTIFS(Premissas!$A$6:$A$105,A13,Premissas!$B$6:$B$105,B13,Premissas!$E$6:$E$105,Premissas!$I$11)<>1,"Conferir cadastro",IF(ABS(SUMIFS(Premissas!$C$6:$C$105,Premissas!$A$6:$A$105,A13,Premissas!$E$6:$E$105,Premissas!$I$11)-1)>Premissas!$I$3,"Conferir frações",IF(D13="","Sem despesa conferida","Calculado")))))) | I13: 46305 | J13: Exemplo fictício; conferir antes de utilizar.
A14: Condomínio Fictício Ipê Azul | B14: IA-501 | C14: 46266 | D14: =IF(OR(A14="",C14=""),"",IF(COUNTIFS(Despesas!$A$6:$A$105,A14,Despesas!$B$6:$B$105,C14,Despesas!$E$6:$E$105,Premissas!$I$16)=0,"",IFERROR(SUMIFS(Despesas!$C$6:$C$105,Despesas!$A$6:$A$105,A14,Despesas!$B$6:$B$105,C14,Despesas!$E$6:$E$105,Premissas!$I$16),""))) | E14: =IF(OR(A14="",B14=""),"",IF(COUNTIFS(Premissas!$A$6:$A$105,A14,Premissas!$B$6:$B$105,B14,Premissas!$E$6:$E$105,Premissas!$I$11)=0,"",IFERROR(SUMIFS(Premissas!$C$6:$C$105,Premissas!$A$6:$A$105,A14,Premissas!$B$6:$B$105,B14,Premissas!$E$6:$E$105,Premissas!$I$11),""))) | F14: =IF(OR(D14="",E14=""),"",IFERROR(D14*E14,"")) | G14: =IF(OR(A14="",B14=""),"",IFERROR(INDEX(Premissas!$D$6:$D$105,MATCH(1,INDEX((Premissas!$A$6:$A$105=A14)*(Premissas!$B$6:$B$105=B14)*(Premissas!$E$6:$E$105=Premissas!$I$11),0),0)),"")) | H14: =IF(COUNTA(A14:C14)+COUNTA(I14)=0,"",IF(OR(A14="",B14="",C14=""),"Conferir campos",IF(I14="","Conferir vencimento",IF(COUNTIFS(Premissas!$A$6:$A$105,A14,Premissas!$B$6:$B$105,B14,Premissas!$E$6:$E$105,Premissas!$I$11)<>1,"Conferir cadastro",IF(ABS(SUMIFS(Premissas!$C$6:$C$105,Premissas!$A$6:$A$105,A14,Premissas!$E$6:$E$105,Premissas!$I$11)-1)>Premissas!$I$3,"Conferir frações",IF(D14="","Sem despesa conferida","Calculado")))))) | I14: 46305 | J14: Exemplo fictício; conferir antes de utilizar.
A15: Condomínio Fictício Ipê Azul | B15: IA-502 | C15: 46266 | D15: =IF(OR(A15="",C15=""),"",IF(COUNTIFS(Despesas!$A$6:$A$105,A15,Despesas!$B$6:$B$105,C15,Despesas!$E$6:$E$105,Premissas!$I$16)=0,"",IFERROR(SUMIFS(Despesas!$C$6:$C$105,Despesas!$A$6:$A$105,A15,Despesas!$B$6:$B$105,C15,Despesas!$E$6:$E$105,Premissas!$I$16),""))) | E15: =IF(OR(A15="",B15=""),"",IF(COUNTIFS(Premissas!$A$6:$A$105,A15,Premissas!$B$6:$B$105,B15,Premissas!$E$6:$E$105,Premissas!$I$11)=0,"",IFERROR(SUMIFS(Premissas!$C$6:$C$105,Premissas!$A$6:$A$105,A15,Premissas!$B$6:$B$105,B15,Premissas!$E$6:$E$105,Premissas!$I$11),""))) | F15: =IF(OR(D15="",E15=""),"",IFERROR(D15*E15,"")) | G15: =IF(OR(A15="",B15=""),"",IFERROR(INDEX(Premissas!$D$6:$D$105,MATCH(1,INDEX((Premissas!$A$6:$A$105=A15)*(Premissas!$B$6:$B$105=B15)*(Premissas!$E$6:$E$105=Premissas!$I$11),0),0)),"")) | H15: =IF(COUNTA(A15:C15)+COUNTA(I15)=0,"",IF(OR(A15="",B15="",C15=""),"Conferir campos",IF(I15="","Conferir vencimento",IF(COUNTIFS(Premissas!$A$6:$A$105,A15,Premissas!$B$6:$B$105,B15,Premissas!$E$6:$E$105,Premissas!$I$11)<>1,"Conferir cadastro",IF(ABS(SUMIFS(Premissas!$C$6:$C$105,Premissas!$A$6:$A$105,A15,Premissas!$E$6:$E$105,Premissas!$I$11)-1)>Premissas!$I$3,"Conferir frações",IF(D15="","Sem despesa conferida","Calculado")))))) | I15: 46305 | J15: Exemplo fictício; conferir antes de utilizar.
D16: =IF(OR(A16="",C16=""),"",IF(COUNTIFS(Despesas!$A$6:$A$105,A16,Despesas!$B$6:$B$105,C16,Despesas!$E$6:$E$105,Premissas!$I$16)=0,"",IFERROR(SUMIFS(Despesas!$C$6:$C$105,Despesas!$A$6:$A$105,A16,Despesas!$B$6:$B$105,C16,Despesas!$E$6:$E$105,Premissas!$I$16),""))) | E16: =IF(OR(A16="",B16=""),"",IF(COUNTIFS(Premissas!$A$6:$A$105,A16,Premissas!$B$6:$B$105,B16,Premissas!$E$6:$E$105,Premissas!$I$11)=0,"",IFERROR(SUMIFS(Premissas!$C$6:$C$105,Premissas!$A$6:$A$105,A16,Premissas!$B$6:$B$105,B16,Premissas!$E$6:$E$105,Premissas!$I$11),""))) | F16: =IF(OR(D16="",E16=""),"",IFERROR(D16*E16,"")) | G16: =IF(OR(A16="",B16=""),"",IFERROR(INDEX(Premissas!$D$6:$D$105,MATCH(1,INDEX((Premissas!$A$6:$A$105=A16)*(Premissas!$B$6:$B$105=B16)*(Premissas!$E$6:$E$105=Premissas!$I$11),0),0)),"")) | H16: =IF(COUNTA(A16:C16)+COUNTA(I16)=0,"",IF(OR(A16="",B16="",C16=""),"Conferir campos",IF(I16="","Conferir vencimento",IF(COUNTIFS(Premissas!$A$6:$A$105,A16,Premissas!$B$6:$B$105,B16,Premissas!$E$6:$E$105,Premissas!$I$11)<>1,"Conferir cadastro",IF(ABS(SUMIFS(Premissas!$C$6:$C$105,Premissas!$A$6:$A$105,A16,Premissas!$E$6:$E$105,Premissas!$I$11)-1)>Premissas!$I$3,"Conferir frações",IF(D16="","Sem despesa conferida","Calculado"))))))
D17: =IF(OR(A17="",C17=""),"",IF(COUNTIFS(Despesas!$A$6:$A$105,A17,Despesas!$B$6:$B$105,C17,Despesas!$E$6:$E$105,Premissas!$I$16)=0,"",IFERROR(SUMIFS(Despesas!$C$6:$C$105,Despesas!$A$6:$A$105,A17,Despesas!$B$6:$B$105,C17,Despesas!$E$6:$E$105,Premissas!$I$16),""))) | E17: =IF(OR(A17="",B17=""),"",IF(COUNTIFS(Premissas!$A$6:$A$105,A17,Premissas!$B$6:$B$105,B17,Premissas!$E$6:$E$105,Premissas!$I$11)=0,"",IFERROR(SUMIFS(Premissas!$C$6:$C$105,Premissas!$A$6:$A$105,A17,Premissas!$B$6:$B$105,B17,Premissas!$E$6:$E$105,Premissas!$I$11),""))) | F17: =IF(OR(D17="",E17=""),"",IFERROR(D17*E17,"")) | G17: =IF(OR(A17="",B17=""),"",IFERROR(INDEX(Premissas!$D$6:$D$105,MATCH(1,INDEX((Premissas!$A$6:$A$105=A17)*(Premissas!$B$6:$B$105=B17)*(Premissas!$E$6:$E$105=Premissas!$I$11),0),0)),"")) | H17: =IF(COUNTA(A17:C17)+COUNTA(I17)=0,"",IF(OR(A17="",B17="",C17=""),"Conferir campos",IF(I17="","Conferir vencimento",IF(COUNTIFS(Premissas!$A$6:$A$105,A17,Premissas!$B$6:$B$105,B17,Premissas!$E$6:$E$105,Premissas!$I$11)<>1,"Conferir cadastro",IF(ABS(SUMIFS(Premissas!$C$6:$C$105,Premissas!$A$6:$A$105,A17,Premissas!$E$6:$E$105,Premissas!$I$11)-1)>Premissas!$I$3,"Conferir frações",IF(D17="","Sem despesa conferida","Calculado"))))))
D18: =IF(OR(A18="",C18=""),"",IF(COUNTIFS(Despesas!$A$6:$A$105,A18,Despesas!$B$6:$B$105,C18,Despesas!$E$6:$E$105,Premissas!$I$16)=0,"",IFERROR(SUMIFS(Despesas!$C$6:$C$105,Despesas!$A$6:$A$105,A18,Despesas!$B$6:$B$105,C18,Despesas!$E$6:$E$105,Premissas!$I$16),""))) | E18: =IF(OR(A18="",B18=""),"",IF(COUNTIFS(Premissas!$A$6:$A$105,A18,Premissas!$B$6:$B$105,B18,Premissas!$E$6:$E$105,Premissas!$I$11)=0,"",IFERROR(SUMIFS(Premissas!$C$6:$C$105,Premissas!$A$6:$A$105,A18,Premissas!$B$6:$B$105,B18,Premissas!$E$6:$E$105,Premissas!$I$11),""))) | F18: =IF(OR(D18="",E18=""),"",IFERROR(D18*E18,"")) | G18: =IF(OR(A18="",B18=""),"",IFERROR(INDEX(Premissas!$D$6:$D$105,MATCH(1,INDEX((Premissas!$A$6:$A$105=A18)*(Premissas!$B$6:$B$105=B18)*(Premissas!$E$6:$E$105=Premissas!$I$11),0),0)),"")) | H18: =IF(COUNTA(A18:C18)+COUNTA(I18)=0,"",IF(OR(A18="",B18="",C18=""),"Conferir campos",IF(I18="","Conferir vencimento",IF(COUNTIFS(Premissas!$A$6:$A$105,A18,Premissas!$B$6:$B$105,B18,Premissas!$E$6:$E$105,Premissas!$I$11)<>1,"Conferir cadastro",IF(ABS(SUMIFS(Premissas!$C$6:$C$105,Premissas!$A$6:$A$105,A18,Premissas!$E$6:$E$105,Premissas!$I$11)-1)>Premissas!$I$3,"Conferir frações",IF(D18="","Sem despesa conferida","Calculado"))))))
D19: =IF(OR(A19="",C19=""),"",IF(COUNTIFS(Despesas!$A$6:$A$105,A19,Despesas!$B$6:$B$105,C19,Despesas!$E$6:$E$105,Premissas!$I$16)=0,"",IFERROR(SUMIFS(Despesas!$C$6:$C$105,Despesas!$A$6:$A$105,A19,Despesas!$B$6:$B$105,C19,Despesas!$E$6:$E$105,Premissas!$I$16),""))) | E19: =IF(OR(A19="",B19=""),"",IF(COUNTIFS(Premissas!$A$6:$A$105,A19,Premissas!$B$6:$B$105,B19,Premissas!$E$6:$E$105,Premissas!$I$11)=0,"",IFERROR(SUMIFS(Premissas!$C$6:$C$105,Premissas!$A$6:$A$105,A19,Premissas!$B$6:$B$105,B19,Premissas!$E$6:$E$105,Premissas!$I$11),""))) | F19: =IF(OR(D19="",E19=""),"",IFERROR(D19*E19,"")) | G19: =IF(OR(A19="",B19=""),"",IFERROR(INDEX(Premissas!$D$6:$D$105,MATCH(1,INDEX((Premissas!$A$6:$A$105=A19)*(Premissas!$B$6:$B$105=B19)*(Premissas!$E$6:$E$105=Premissas!$I$11),0),0)),"")) | H19: =IF(COUNTA(A19:C19)+COUNTA(I19)=0,"",IF(OR(A19="",B19="",C19=""),"Conferir campos",IF(I19="","Conferir vencimento",IF(COUNTIFS(Premissas!$A$6:$A$105,A19,Premissas!$B$6:$B$105,B19,Premissas!$E$6:$E$105,Premissas!$I$11)<>1,"Conferir cadastro",IF(ABS(SUMIFS(Premissas!$C$6:$C$105,Premissas!$A$6:$A$105,A19,Premissas!$E$6:$E$105,Premissas!$I$11)-1)>Premissas!$I$3,"Conferir frações",IF(D19="","Sem despesa conferida","Calculado"))))))
D20: =IF(OR(A20="",C20=""),"",IF(COUNTIFS(Despesas!$A$6:$A$105,A20,Despesas!$B$6:$B$105,C20,Despesas!$E$6:$E$105,Premissas!$I$16)=0,"",IFERROR(SUMIFS(Despesas!$C$6:$C$105,Despesas!$A$6:$A$105,A20,Despesas!$B$6:$B$105,C20,Despesas!$E$6:$E$105,Premissas!$I$16),""))) | E20: =IF(OR(A20="",B20=""),"",IF(COUNTIFS(Premissas!$A$6:$A$105,A20,Premissas!$B$6:$B$105,B20,Premissas!$E$6:$E$105,Premissas!$I$11)=0,"",IFERROR(SUMIFS(Premissas!$C$6:$C$105,Premissas!$A$6:$A$105,A20,Premissas!$B$6:$B$105,B20,Premissas!$E$6:$E$105,Premissas!$I$11),""))) | F20: =IF(OR(D20="",E20=""),"",IFERROR(D20*E20,"")) | G20: =IF(OR(A20="",B20=""),"",IFERROR(INDEX(Premissas!$D$6:$D$105,MATCH(1,INDEX((Premissas!$A$6:$A$105=A20)*(Premissas!$B$6:$B$105=B20)*(Premissas!$E$6:$E$105=Premissas!$I$11),0),0)),"")) | H20: =IF(COUNTA(A20:C20)+COUNTA(I20)=0,"",IF(OR(A20="",B20="",C20=""),"Conferir campos",IF(I20="","Conferir vencimento",IF(COUNTIFS(Premissas!$A$6:$A$105,A20,Premissas!$B$6:$B$105,B20,Premissas!$E$6:$E$105,Premissas!$I$11)<>1,"Conferir cadastro",IF(ABS(SUMIFS(Premissas!$C$6:$C$105,Premissas!$A$6:$A$105,A20,Premissas!$E$6:$E$105,Premissas!$I$11)-1)>Premissas!$I$3,"Conferir frações",IF(D20="","Sem despesa conferida","Calculado"))))))
D21: =IF(OR(A21="",C21=""),"",IF(COUNTIFS(Despesas!$A$6:$A$105,A21,Despesas!$B$6:$B$105,C21,Despesas!$E$6:$E$105,Premissas!$I$16)=0,"",IFERROR(SUMIFS(Despesas!$C$6:$C$105,Despesas!$A$6:$A$105,A21,Despesas!$B$6:$B$105,C21,Despesas!$E$6:$E$105,Premissas!$I$16),""))) | E21: =IF(OR(A21="",B21=""),"",IF(COUNTIFS(Premissas!$A$6:$A$105,A21,Premissas!$B$6:$B$105,B21,Premissas!$E$6:$E$105,Premissas!$I$11)=0,"",IFERROR(SUMIFS(Premissas!$C$6:$C$105,Premissas!$A$6:$A$105,A21,Premissas!$B$6:$B$105,B21,Premissas!$E$6:$E$105,Premissas!$I$11),""))) | F21: =IF(OR(D21="",E21=""),"",IFERROR(D21*E21,"")) | G21: =IF(OR(A21="",B21=""),"",IFERROR(INDEX(Premissas!$D$6:$D$105,MATCH(1,INDEX((Premissas!$A$6:$A$105=A21)*(Premissas!$B$6:$B$105=B21)*(Premissas!$E$6:$E$105=Premissas!$I$11),0),0)),"")) | H21: =IF(COUNTA(A21:C21)+COUNTA(I21)=0,"",IF(OR(A21="",B21="",C21=""),"Conferir campos",IF(I21="","Conferir vencimento",IF(COUNTIFS(Premissas!$A$6:$A$105,A21,Premissas!$B$6:$B$105,B21,Premissas!$E$6:$E$105,Premissas!$I$11)<>1,"Conferir cadastro",IF(ABS(SUMIFS(Premissas!$C$6:$C$105,Premissas!$A$6:$A$105,A21,Premissas!$E$6:$E$105,Premissas!$I$11)-1)>Premissas!$I$3,"Conferir frações",IF(D21="","Sem despesa conferida","Calculado"))))))
D22: =IF(OR(A22="",C22=""),"",IF(COUNTIFS(Despesas!$A$6:$A$105,A22,Despesas!$B$6:$B$105,C22,Despesas!$E$6:$E$105,Premissas!$I$16)=0,"",IFERROR(SUMIFS(Despesas!$C$6:$C$105,Despesas!$A$6:$A$105,A22,Despesas!$B$6:$B$105,C22,Despesas!$E$6:$E$105,Premissas!$I$16),""))) | E22: =IF(OR(A22="",B22=""),"",IF(COUNTIFS(Premissas!$A$6:$A$105,A22,Premissas!$B$6:$B$105,B22,Premissas!$E$6:$E$105,Premissas!$I$11)=0,"",IFERROR(SUMIFS(Premissas!$C$6:$C$105,Premissas!$A$6:$A$105,A22,Premissas!$B$6:$B$105,B22,Premissas!$E$6:$E$105,Premissas!$I$11),""))) | F22: =IF(OR(D22="",E22=""),"",IFERROR(D22*E22,"")) | G22: =IF(OR(A22="",B22=""),"",IFERROR(INDEX(Premissas!$D$6:$D$105,MATCH(1,INDEX((Premissas!$A$6:$A$105=A22)*(Premissas!$B$6:$B$105=B22)*(Premissas!$E$6:$E$105=Premissas!$I$11),0),0)),"")) | H22: =IF(COUNTA(A22:C22)+COUNTA(I22)=0,"",IF(OR(A22="",B22="",C22=""),"Conferir campos",IF(I22="","Conferir vencimento",IF(COUNTIFS(Premissas!$A$6:$A$105,A22,Premissas!$B$6:$B$105,B22,Premissas!$E$6:$E$105,Premissas!$I$11)<>1,"Conferir cadastro",IF(ABS(SUMIFS(Premissas!$C$6:$C$105,Premissas!$A$6:$A$105,A22,Premissas!$E$6:$E$105,Premissas!$I$11)-1)>Premissas!$I$3,"Conferir frações",IF(D22="","Sem despesa conferida","Calculado"))))))
D23: =IF(OR(A23="",C23=""),"",IF(COUNTIFS(Despesas!$A$6:$A$105,A23,Despesas!$B$6:$B$105,C23,Despesas!$E$6:$E$105,Premissas!$I$16)=0,"",IFERROR(SUMIFS(Despesas!$C$6:$C$105,Despesas!$A$6:$A$105,A23,Despesas!$B$6:$B$105,C23,Despesas!$E$6:$E$105,Premissas!$I$16),""))) | E23: =IF(OR(A23="",B23=""),"",IF(COUNTIFS(Premissas!$A$6:$A$105,A23,Premissas!$B$6:$B$105,B23,Premissas!$E$6:$E$105,Premissas!$I$11)=0,"",IFERROR(SUMIFS(Premissas!$C$6:$C$105,Premissas!$A$6:$A$105,A23,Premissas!$B$6:$B$105,B23,Premissas!$E$6:$E$105,Premissas!$I$11),""))) | F23: =IF(OR(D23="",E23=""),"",IFERROR(D23*E23,"")) | G23: =IF(OR(A23="",B23=""),"",IFERROR(INDEX(Premissas!$D$6:$D$105,MATCH(1,INDEX((Premissas!$A$6:$A$105=A23)*(Premissas!$B$6:$B$105=B23)*(Premissas!$E$6:$E$105=Premissas!$I$11),0),0)),"")) | H23: =IF(COUNTA(A23:C23)+COUNTA(I23)=0,"",IF(OR(A23="",B23="",C23=""),"Conferir campos",IF(I23="","Conferir vencimento",IF(COUNTIFS(Premissas!$A$6:$A$105,A23,Premissas!$B$6:$B$105,B23,Premissas!$E$6:$E$105,Premissas!$I$11)<>1,"Conferir cadastro",IF(ABS(SUMIFS(Premissas!$C$6:$C$105,Premissas!$A$6:$A$105,A23,Premissas!$E$6:$E$105,Premissas!$I$11)-1)>Premissas!$I$3,"Conferir frações",IF(D23="","Sem despesa conferida","Calculado"))))))
D24: =IF(OR(A24="",C24=""),"",IF(COUNTIFS(Despesas!$A$6:$A$105,A24,Despesas!$B$6:$B$105,C24,Despesas!$E$6:$E$105,Premissas!$I$16)=0,"",IFERROR(SUMIFS(Despesas!$C$6:$C$105,Despesas!$A$6:$A$105,A24,Despesas!$B$6:$B$105,C24,Despesas!$E$6:$E$105,Premissas!$I$16),""))) | E24: =IF(OR(A24="",B24=""),"",IF(COUNTIFS(Premissas!$A$6:$A$105,A24,Premissas!$B$6:$B$105,B24,Premissas!$E$6:$E$105,Premissas!$I$11)=0,"",IFERROR(SUMIFS(Premissas!$C$6:$C$105,Premissas!$A$6:$A$105,A24,Premissas!$B$6:$B$105,B24,Premissas!$E$6:$E$105,Premissas!$I$11),""))) | F24: =IF(OR(D24="",E24=""),"",IFERROR(D24*E24,"")) | G24: =IF(OR(A24="",B24=""),"",IFERROR(INDEX(Premissas!$D$6:$D$105,MATCH(1,INDEX((Premissas!$A$6:$A$105=A24)*(Premissas!$B$6:$B$105=B24)*(Premissas!$E$6:$E$105=Premissas!$I$11),0),0)),"")) | H24: =IF(COUNTA(A24:C24)+COUNTA(I24)=0,"",IF(OR(A24="",B24="",C24=""),"Conferir campos",IF(I24="","Conferir vencimento",IF(COUNTIFS(Premissas!$A$6:$A$105,A24,Premissas!$B$6:$B$105,B24,Premissas!$E$6:$E$105,Premissas!$I$11)<>1,"Conferir cadastro",IF(ABS(SUMIFS(Premissas!$C$6:$C$105,Premissas!$A$6:$A$105,A24,Premissas!$E$6:$E$105,Premissas!$I$11)-1)>Premissas!$I$3,"Conferir frações",IF(D24="","Sem despesa conferida","Calculado"))))))
D25: =IF(OR(A25="",C25=""),"",IF(COUNTIFS(Despesas!$A$6:$A$105,A25,Despesas!$B$6:$B$105,C25,Despesas!$E$6:$E$105,Premissas!$I$16)=0,"",IFERROR(SUMIFS(Despesas!$C$6:$C$105,Despesas!$A$6:$A$105,A25,Despesas!$B$6:$B$105,C25,Despesas!$E$6:$E$105,Premissas!$I$16),""))) | E25: =IF(OR(A25="",B25=""),"",IF(COUNTIFS(Premissas!$A$6:$A$105,A25,Premissas!$B$6:$B$105,B25,Premissas!$E$6:$E$105,Premissas!$I$11)=0,"",IFERROR(SUMIFS(Premissas!$C$6:$C$105,Premissas!$A$6:$A$105,A25,Premissas!$B$6:$B$105,B25,Premissas!$E$6:$E$105,Premissas!$I$11),""))) | F25: =IF(OR(D25="",E25=""),"",IFERROR(D25*E25,"")) | G25: =IF(OR(A25="",B25=""),"",IFERROR(INDEX(Premissas!$D$6:$D$105,MATCH(1,INDEX((Premissas!$A$6:$A$105=A25)*(Premissas!$B$6:$B$105=B25)*(Premissas!$E$6:$E$105=Premissas!$I$11),0),0)),"")) | H25: =IF(COUNTA(A25:C25)+COUNTA(I25)=0,"",IF(OR(A25="",B25="",C25=""),"Conferir campos",IF(I25="","Conferir vencimento",IF(COUNTIFS(Premissas!$A$6:$A$105,A25,Premissas!$B$6:$B$105,B25,Premissas!$E$6:$E$105,Premissas!$I$11)<>1,"Conferir cadastro",IF(ABS(SUMIFS(Premissas!$C$6:$C$105,Premissas!$A$6:$A$105,A25,Premissas!$E$6:$E$105,Premissas!$I$11)-1)>Premissas!$I$3,"Conferir frações",IF(D25="","Sem despesa conferida","Calculado"))))))
D26: =IF(OR(A26="",C26=""),"",IF(COUNTIFS(Despesas!$A$6:$A$105,A26,Despesas!$B$6:$B$105,C26,Despesas!$E$6:$E$105,Premissas!$I$16)=0,"",IFERROR(SUMIFS(Despesas!$C$6:$C$105,Despesas!$A$6:$A$105,A26,Despesas!$B$6:$B$105,C26,Despesas!$E$6:$E$105,Premissas!$I$16),""))) | E26: =IF(OR(A26="",B26=""),"",IF(COUNTIFS(Premissas!$A$6:$A$105,A26,Premissas!$B$6:$B$105,B26,Premissas!$E$6:$E$105,Premissas!$I$11)=0,"",IFERROR(SUMIFS(Premissas!$C$6:$C$105,Premissas!$A$6:$A$105,A26,Premissas!$B$6:$B$105,B26,Premissas!$E$6:$E$105,Premissas!$I$11),""))) | F26: =IF(OR(D26="",E26=""),"",IFERROR(D26*E26,"")) | G26: =IF(OR(A26="",B26=""),"",IFERROR(INDEX(Premissas!$D$6:$D$105,MATCH(1,INDEX((Premissas!$A$6:$A$105=A26)*(Premissas!$B$6:$B$105=B26)*(Premissas!$E$6:$E$105=Premissas!$I$11),0),0)),"")) | H26: =IF(COUNTA(A26:C26)+COUNTA(I26)=0,"",IF(OR(A26="",B26="",C26=""),"Conferir campos",IF(I26="","Conferir vencimento",IF(COUNTIFS(Premissas!$A$6:$A$105,A26,Premissas!$B$6:$B$105,B26,Premissas!$E$6:$E$105,Premissas!$I$11)<>1,"Conferir cadastro",IF(ABS(SUMIFS(Premissas!$C$6:$C$105,Premissas!$A$6:$A$105,A26,Premissas!$E$6:$E$105,Premissas!$I$11)-1)>Premissas!$I$3,"Conferir frações",IF(D26="","Sem despesa conferida","Calculado"))))))
D27: =IF(OR(A27="",C27=""),"",IF(COUNTIFS(Despesas!$A$6:$A$105,A27,Despesas!$B$6:$B$105,C27,Despesas!$E$6:$E$105,Premissas!$I$16)=0,"",IFERROR(SUMIFS(Despesas!$C$6:$C$105,Despesas!$A$6:$A$105,A27,Despesas!$B$6:$B$105,C27,Despesas!$E$6:$E$105,Premissas!$I$16),""))) | E27: =IF(OR(A27="",B27=""),"",IF(COUNTIFS(Premissas!$A$6:$A$105,A27,Premissas!$B$6:$B$105,B27,Premissas!$E$6:$E$105,Premissas!$I$11)=0,"",IFERROR(SUMIFS(Premissas!$C$6:$C$105,Premissas!$A$6:$A$105,A27,Premissas!$B$6:$B$105,B27,Premissas!$E$6:$E$105,Premissas!$I$11),""))) | F27: =IF(OR(D27="",E27=""),"",IFERROR(D27*E27,"")) | G27: =IF(OR(A27="",B27=""),"",IFERROR(INDEX(Premissas!$D$6:$D$105,MATCH(1,INDEX((Premissas!$A$6:$A$105=A27)*(Premissas!$B$6:$B$105=B27)*(Premissas!$E$6:$E$105=Premissas!$I$11),0),0)),"")) | H27: =IF(COUNTA(A27:C27)+COUNTA(I27)=0,"",IF(OR(A27="",B27="",C27=""),"Conferir campos",IF(I27="","Conferir vencimento",IF(COUNTIFS(Premissas!$A$6:$A$105,A27,Premissas!$B$6:$B$105,B27,Premissas!$E$6:$E$105,Premissas!$I$11)<>1,"Conferir cadastro",IF(ABS(SUMIFS(Premissas!$C$6:$C$105,Premissas!$A$6:$A$105,A27,Premissas!$E$6:$E$105,Premissas!$I$11)-1)>Premissas!$I$3,"Conferir frações",IF(D27="","Sem despesa conferida","Calculado"))))))
... D105: =IF(OR(A105="",C105=""),"",IF(COUNTIFS(Despesas!$A$6:$A$105,A105,Despesas!$B$6:$B$105,C105,Despesas!$E$6:$E$105,Premissas!$I$16)=0,"",IFERROR(SUMIFS(Despesas!$C$6:$C$105,Despesas!$A$6:$A$105,A105,Despesas!$B$6:$B$105,C105,Despesas!$E$6:$E$105,Premissas!$I$16),""))) | E105: =IF(OR(A105="",B105=""),"",IF(COUNTIFS(Premissas!$A$6:$A$105,A105,Premissas!$B$6:$B$105,B105,Premissas!$E$6:$E$105,Premissas!$I$11)=0,"",IFERROR(SUMIFS(Premissas!$C$6:$C$105,Premissas!$A$6:$A$105,A105,Premissas!$B$6:$B$105,B105,Premissas!$E$6:$E$105,Premissas!$I$11),""))) | F105: =IF(OR(D105="",E105=""),"",IFERROR(D105*E105,"")) | G105: =IF(OR(A105="",B105=""),"",IFERROR(INDEX(Premissas!$D$6:$D$105,MATCH(1,INDEX((Premissas!$A$6:$A$105=A105)*(Premissas!$B$6:$B$105=B105)*(Premissas!$E$6:$E$105=Premissas!$I$11),0),0)),"")) | H105: =IF(COUNTA(A105:C105)+COUNTA(I105)=0,"",IF(OR(A105="",B105="",C105=""),"Conferir campos",IF(I105="","Conferir vencimento",IF(COUNTIFS(Premissas!$A$6:$A$105,A105,Premissas!$B$6:$B$105,B105,Premissas!$E$6:$E$105,Premissas!$I$11)<>1,"Conferir cadastro",IF(ABS(SUMIFS(Premissas!$C$6:$C$105,Premissas!$A$6:$A$105,A105,Premissas!$E$6:$E$105,Premissas!$I$11)-1)>Premissas!$I$3,"Conferir frações",IF(D105="","Sem despesa conferida","Calculado"))))))
