Workbook

Sheet Resumo
A1: Resumo — previsão de receitas e despesas condominiais
A3: Receitas consideradas | B3: =IF(COUNT($F$7:$F$18)=0,"",SUM($B$7:$C$18)) | C3: Despesas consideradas | D3: =IF(COUNT($F$7:$F$18)=0,"",SUM($D$7:$E$18)) | E3: Saldo projetado | F3: =IF(COUNT($F$7:$F$18)=0,"",SUM($F$7:$F$18))
A4: Meses com déficit | B4: =IF(COUNT($F$7:$F$18)=0,"",COUNTIF($F$7:$F$18,"<0")) | C4: Receitas já recebidas | D4: =IFERROR(SUM($C$7:$C$18)/SUM($B$7:$C$18),"") | E4: Despesas já pagas | F4: =IFERROR(SUM($E$7:$E$18)/SUM($D$7:$E$18),"")
A6: Período | B6: Receitas previstas | C6: Receitas recebidas | D6: Despesas previstas | E6: Despesas pagas | F6: Saldo do cenário | G6: Alerta para conferência
A7: =IF(OR('Premissas'!$B$4="",'Premissas'!$B$5=""),"",IF(ROW()-6<='Premissas'!$B$5,DATE(YEAR('Premissas'!$B$4),MONTH('Premissas'!$B$4)+ROW()-7,1),"")) | B7: =IF($A7="","",IF((COUNTIFS(Receitas!$C$4:$C$103,">="&$A7,Receitas!$C$4:$C$103,"<"&DATE(YEAR($A7),MONTH($A7)+1,1),Receitas!$F$4:$F$103,"<>",Receitas!$F$4:$F$103,"<>"&'Premissas'!$D$6)+COUNTIFS(Despesas!$C$4:$C$103,">="&$A7,Despesas!$C$4:$C$103,"<"&DATE(YEAR($A7),MONTH($A7)+1,1),Despesas!$F$4:$F$103,"<>",Despesas!$F$4:$F$103,"<>"&'Premissas'!$E$6))=0,"",IFERROR(SUMIFS(Receitas!$D$4:$D$103,Receitas!$C$4:$C$103,">="&$A7,Receitas!$C$4:$C$103,"<"&DATE(YEAR($A7),MONTH($A7)+1,1),Receitas!$F$4:$F$103,'Premissas'!$D$4),0))) | C7: =IF($A7="","",IF((COUNTIFS(Receitas!$C$4:$C$103,">="&$A7,Receitas!$C$4:$C$103,"<"&DATE(YEAR($A7),MONTH($A7)+1,1),Receitas!$F$4:$F$103,"<>",Receitas!$F$4:$F$103,"<>"&'Premissas'!$D$6)+COUNTIFS(Despesas!$C$4:$C$103,">="&$A7,Despesas!$C$4:$C$103,"<"&DATE(YEAR($A7),MONTH($A7)+1,1),Despesas!$F$4:$F$103,"<>",Despesas!$F$4:$F$103,"<>"&'Premissas'!$E$6))=0,"",IFERROR(SUMIFS(Receitas!$D$4:$D$103,Receitas!$C$4:$C$103,">="&$A7,Receitas!$C$4:$C$103,"<"&DATE(YEAR($A7),MONTH($A7)+1,1),Receitas!$F$4:$F$103,'Premissas'!$D$5),0))) | D7: =IF($A7="","",IF((COUNTIFS(Receitas!$C$4:$C$103,">="&$A7,Receitas!$C$4:$C$103,"<"&DATE(YEAR($A7),MONTH($A7)+1,1),Receitas!$F$4:$F$103,"<>",Receitas!$F$4:$F$103,"<>"&'Premissas'!$D$6)+COUNTIFS(Despesas!$C$4:$C$103,">="&$A7,Despesas!$C$4:$C$103,"<"&DATE(YEAR($A7),MONTH($A7)+1,1),Despesas!$F$4:$F$103,"<>",Despesas!$F$4:$F$103,"<>"&'Premissas'!$E$6))=0,"",IFERROR(SUMIFS(Despesas!$D$4:$D$103,Despesas!$C$4:$C$103,">="&$A7,Despesas!$C$4:$C$103,"<"&DATE(YEAR($A7),MONTH($A7)+1,1),Despesas!$F$4:$F$103,'Premissas'!$E$4),0))) | E7: =IF($A7="","",IF((COUNTIFS(Receitas!$C$4:$C$103,">="&$A7,Receitas!$C$4:$C$103,"<"&DATE(YEAR($A7),MONTH($A7)+1,1),Receitas!$F$4:$F$103,"<>",Receitas!$F$4:$F$103,"<>"&'Premissas'!$D$6)+COUNTIFS(Despesas!$C$4:$C$103,">="&$A7,Despesas!$C$4:$C$103,"<"&DATE(YEAR($A7),MONTH($A7)+1,1),Despesas!$F$4:$F$103,"<>",Despesas!$F$4:$F$103,"<>"&'Premissas'!$E$6))=0,"",IFERROR(SUMIFS(Despesas!$D$4:$D$103,Despesas!$C$4:$C$103,">="&$A7,Despesas!$C$4:$C$103,"<"&DATE(YEAR($A7),MONTH($A7)+1,1),Despesas!$F$4:$F$103,'Premissas'!$E$5),0))) | F7: =IF(COUNT(B7:E7)=0,"",IFERROR(SUM(B7:C7)-SUM(D7:E7),"")) | G7: =IF($F7="","",IFERROR(IF($F7<-'Premissas'!$B$9,"Conferir déficit",IF($F7<0,"Déficit dentro da tolerância","Sem alerta")),"Conferir premissa"))
A8: =IF(OR('Premissas'!$B$4="",'Premissas'!$B$5=""),"",IF(ROW()-6<='Premissas'!$B$5,DATE(YEAR('Premissas'!$B$4),MONTH('Premissas'!$B$4)+ROW()-7,1),"")) | B8: =IF($A8="","",IF((COUNTIFS(Receitas!$C$4:$C$103,">="&$A8,Receitas!$C$4:$C$103,"<"&DATE(YEAR($A8),MONTH($A8)+1,1),Receitas!$F$4:$F$103,"<>",Receitas!$F$4:$F$103,"<>"&'Premissas'!$D$6)+COUNTIFS(Despesas!$C$4:$C$103,">="&$A8,Despesas!$C$4:$C$103,"<"&DATE(YEAR($A8),MONTH($A8)+1,1),Despesas!$F$4:$F$103,"<>",Despesas!$F$4:$F$103,"<>"&'Premissas'!$E$6))=0,"",IFERROR(SUMIFS(Receitas!$D$4:$D$103,Receitas!$C$4:$C$103,">="&$A8,Receitas!$C$4:$C$103,"<"&DATE(YEAR($A8),MONTH($A8)+1,1),Receitas!$F$4:$F$103,'Premissas'!$D$4),0))) | C8: =IF($A8="","",IF((COUNTIFS(Receitas!$C$4:$C$103,">="&$A8,Receitas!$C$4:$C$103,"<"&DATE(YEAR($A8),MONTH($A8)+1,1),Receitas!$F$4:$F$103,"<>",Receitas!$F$4:$F$103,"<>"&'Premissas'!$D$6)+COUNTIFS(Despesas!$C$4:$C$103,">="&$A8,Despesas!$C$4:$C$103,"<"&DATE(YEAR($A8),MONTH($A8)+1,1),Despesas!$F$4:$F$103,"<>",Despesas!$F$4:$F$103,"<>"&'Premissas'!$E$6))=0,"",IFERROR(SUMIFS(Receitas!$D$4:$D$103,Receitas!$C$4:$C$103,">="&$A8,Receitas!$C$4:$C$103,"<"&DATE(YEAR($A8),MONTH($A8)+1,1),Receitas!$F$4:$F$103,'Premissas'!$D$5),0))) | D8: =IF($A8="","",IF((COUNTIFS(Receitas!$C$4:$C$103,">="&$A8,Receitas!$C$4:$C$103,"<"&DATE(YEAR($A8),MONTH($A8)+1,1),Receitas!$F$4:$F$103,"<>",Receitas!$F$4:$F$103,"<>"&'Premissas'!$D$6)+COUNTIFS(Despesas!$C$4:$C$103,">="&$A8,Despesas!$C$4:$C$103,"<"&DATE(YEAR($A8),MONTH($A8)+1,1),Despesas!$F$4:$F$103,"<>",Despesas!$F$4:$F$103,"<>"&'Premissas'!$E$6))=0,"",IFERROR(SUMIFS(Despesas!$D$4:$D$103,Despesas!$C$4:$C$103,">="&$A8,Despesas!$C$4:$C$103,"<"&DATE(YEAR($A8),MONTH($A8)+1,1),Despesas!$F$4:$F$103,'Premissas'!$E$4),0))) | E8: =IF($A8="","",IF((COUNTIFS(Receitas!$C$4:$C$103,">="&$A8,Receitas!$C$4:$C$103,"<"&DATE(YEAR($A8),MONTH($A8)+1,1),Receitas!$F$4:$F$103,"<>",Receitas!$F$4:$F$103,"<>"&'Premissas'!$D$6)+COUNTIFS(Despesas!$C$4:$C$103,">="&$A8,Despesas!$C$4:$C$103,"<"&DATE(YEAR($A8),MONTH($A8)+1,1),Despesas!$F$4:$F$103,"<>",Despesas!$F$4:$F$103,"<>"&'Premissas'!$E$6))=0,"",IFERROR(SUMIFS(Despesas!$D$4:$D$103,Despesas!$C$4:$C$103,">="&$A8,Despesas!$C$4:$C$103,"<"&DATE(YEAR($A8),MONTH($A8)+1,1),Despesas!$F$4:$F$103,'Premissas'!$E$5),0))) | F8: =IF(COUNT(B8:E8)=0,"",IFERROR(SUM(B8:C8)-SUM(D8:E8),"")) | G8: =IF($F8="","",IFERROR(IF($F8<-'Premissas'!$B$9,"Conferir déficit",IF($F8<0,"Déficit dentro da tolerância","Sem alerta")),"Conferir premissa"))
A9: =IF(OR('Premissas'!$B$4="",'Premissas'!$B$5=""),"",IF(ROW()-6<='Premissas'!$B$5,DATE(YEAR('Premissas'!$B$4),MONTH('Premissas'!$B$4)+ROW()-7,1),"")) | B9: =IF($A9="","",IF((COUNTIFS(Receitas!$C$4:$C$103,">="&$A9,Receitas!$C$4:$C$103,"<"&DATE(YEAR($A9),MONTH($A9)+1,1),Receitas!$F$4:$F$103,"<>",Receitas!$F$4:$F$103,"<>"&'Premissas'!$D$6)+COUNTIFS(Despesas!$C$4:$C$103,">="&$A9,Despesas!$C$4:$C$103,"<"&DATE(YEAR($A9),MONTH($A9)+1,1),Despesas!$F$4:$F$103,"<>",Despesas!$F$4:$F$103,"<>"&'Premissas'!$E$6))=0,"",IFERROR(SUMIFS(Receitas!$D$4:$D$103,Receitas!$C$4:$C$103,">="&$A9,Receitas!$C$4:$C$103,"<"&DATE(YEAR($A9),MONTH($A9)+1,1),Receitas!$F$4:$F$103,'Premissas'!$D$4),0))) | C9: =IF($A9="","",IF((COUNTIFS(Receitas!$C$4:$C$103,">="&$A9,Receitas!$C$4:$C$103,"<"&DATE(YEAR($A9),MONTH($A9)+1,1),Receitas!$F$4:$F$103,"<>",Receitas!$F$4:$F$103,"<>"&'Premissas'!$D$6)+COUNTIFS(Despesas!$C$4:$C$103,">="&$A9,Despesas!$C$4:$C$103,"<"&DATE(YEAR($A9),MONTH($A9)+1,1),Despesas!$F$4:$F$103,"<>",Despesas!$F$4:$F$103,"<>"&'Premissas'!$E$6))=0,"",IFERROR(SUMIFS(Receitas!$D$4:$D$103,Receitas!$C$4:$C$103,">="&$A9,Receitas!$C$4:$C$103,"<"&DATE(YEAR($A9),MONTH($A9)+1,1),Receitas!$F$4:$F$103,'Premissas'!$D$5),0))) | D9: =IF($A9="","",IF((COUNTIFS(Receitas!$C$4:$C$103,">="&$A9,Receitas!$C$4:$C$103,"<"&DATE(YEAR($A9),MONTH($A9)+1,1),Receitas!$F$4:$F$103,"<>",Receitas!$F$4:$F$103,"<>"&'Premissas'!$D$6)+COUNTIFS(Despesas!$C$4:$C$103,">="&$A9,Despesas!$C$4:$C$103,"<"&DATE(YEAR($A9),MONTH($A9)+1,1),Despesas!$F$4:$F$103,"<>",Despesas!$F$4:$F$103,"<>"&'Premissas'!$E$6))=0,"",IFERROR(SUMIFS(Despesas!$D$4:$D$103,Despesas!$C$4:$C$103,">="&$A9,Despesas!$C$4:$C$103,"<"&DATE(YEAR($A9),MONTH($A9)+1,1),Despesas!$F$4:$F$103,'Premissas'!$E$4),0))) | E9: =IF($A9="","",IF((COUNTIFS(Receitas!$C$4:$C$103,">="&$A9,Receitas!$C$4:$C$103,"<"&DATE(YEAR($A9),MONTH($A9)+1,1),Receitas!$F$4:$F$103,"<>",Receitas!$F$4:$F$103,"<>"&'Premissas'!$D$6)+COUNTIFS(Despesas!$C$4:$C$103,">="&$A9,Despesas!$C$4:$C$103,"<"&DATE(YEAR($A9),MONTH($A9)+1,1),Despesas!$F$4:$F$103,"<>",Despesas!$F$4:$F$103,"<>"&'Premissas'!$E$6))=0,"",IFERROR(SUMIFS(Despesas!$D$4:$D$103,Despesas!$C$4:$C$103,">="&$A9,Despesas!$C$4:$C$103,"<"&DATE(YEAR($A9),MONTH($A9)+1,1),Despesas!$F$4:$F$103,'Premissas'!$E$5),0))) | F9: =IF(COUNT(B9:E9)=0,"",IFERROR(SUM(B9:C9)-SUM(D9:E9),"")) | G9: =IF($F9="","",IFERROR(IF($F9<-'Premissas'!$B$9,"Conferir déficit",IF($F9<0,"Déficit dentro da tolerância","Sem alerta")),"Conferir premissa"))
A10: =IF(OR('Premissas'!$B$4="",'Premissas'!$B$5=""),"",IF(ROW()-6<='Premissas'!$B$5,DATE(YEAR('Premissas'!$B$4),MONTH('Premissas'!$B$4)+ROW()-7,1),"")) | B10: =IF($A10="","",IF((COUNTIFS(Receitas!$C$4:$C$103,">="&$A10,Receitas!$C$4:$C$103,"<"&DATE(YEAR($A10),MONTH($A10)+1,1),Receitas!$F$4:$F$103,"<>",Receitas!$F$4:$F$103,"<>"&'Premissas'!$D$6)+COUNTIFS(Despesas!$C$4:$C$103,">="&$A10,Despesas!$C$4:$C$103,"<"&DATE(YEAR($A10),MONTH($A10)+1,1),Despesas!$F$4:$F$103,"<>",Despesas!$F$4:$F$103,"<>"&'Premissas'!$E$6))=0,"",IFERROR(SUMIFS(Receitas!$D$4:$D$103,Receitas!$C$4:$C$103,">="&$A10,Receitas!$C$4:$C$103,"<"&DATE(YEAR($A10),MONTH($A10)+1,1),Receitas!$F$4:$F$103,'Premissas'!$D$4),0))) | C10: =IF($A10="","",IF((COUNTIFS(Receitas!$C$4:$C$103,">="&$A10,Receitas!$C$4:$C$103,"<"&DATE(YEAR($A10),MONTH($A10)+1,1),Receitas!$F$4:$F$103,"<>",Receitas!$F$4:$F$103,"<>"&'Premissas'!$D$6)+COUNTIFS(Despesas!$C$4:$C$103,">="&$A10,Despesas!$C$4:$C$103,"<"&DATE(YEAR($A10),MONTH($A10)+1,1),Despesas!$F$4:$F$103,"<>",Despesas!$F$4:$F$103,"<>"&'Premissas'!$E$6))=0,"",IFERROR(SUMIFS(Receitas!$D$4:$D$103,Receitas!$C$4:$C$103,">="&$A10,Receitas!$C$4:$C$103,"<"&DATE(YEAR($A10),MONTH($A10)+1,1),Receitas!$F$4:$F$103,'Premissas'!$D$5),0))) | D10: =IF($A10="","",IF((COUNTIFS(Receitas!$C$4:$C$103,">="&$A10,Receitas!$C$4:$C$103,"<"&DATE(YEAR($A10),MONTH($A10)+1,1),Receitas!$F$4:$F$103,"<>",Receitas!$F$4:$F$103,"<>"&'Premissas'!$D$6)+COUNTIFS(Despesas!$C$4:$C$103,">="&$A10,Despesas!$C$4:$C$103,"<"&DATE(YEAR($A10),MONTH($A10)+1,1),Despesas!$F$4:$F$103,"<>",Despesas!$F$4:$F$103,"<>"&'Premissas'!$E$6))=0,"",IFERROR(SUMIFS(Despesas!$D$4:$D$103,Despesas!$C$4:$C$103,">="&$A10,Despesas!$C$4:$C$103,"<"&DATE(YEAR($A10),MONTH($A10)+1,1),Despesas!$F$4:$F$103,'Premissas'!$E$4),0))) | E10: =IF($A10="","",IF((COUNTIFS(Receitas!$C$4:$C$103,">="&$A10,Receitas!$C$4:$C$103,"<"&DATE(YEAR($A10),MONTH($A10)+1,1),Receitas!$F$4:$F$103,"<>",Receitas!$F$4:$F$103,"<>"&'Premissas'!$D$6)+COUNTIFS(Despesas!$C$4:$C$103,">="&$A10,Despesas!$C$4:$C$103,"<"&DATE(YEAR($A10),MONTH($A10)+1,1),Despesas!$F$4:$F$103,"<>",Despesas!$F$4:$F$103,"<>"&'Premissas'!$E$6))=0,"",IFERROR(SUMIFS(Despesas!$D$4:$D$103,Despesas!$C$4:$C$103,">="&$A10,Despesas!$C$4:$C$103,"<"&DATE(YEAR($A10),MONTH($A10)+1,1),Despesas!$F$4:$F$103,'Premissas'!$E$5),0))) | F10: =IF(COUNT(B10:E10)=0,"",IFERROR(SUM(B10:C10)-SUM(D10:E10),"")) | G10: =IF($F10="","",IFERROR(IF($F10<-'Premissas'!$B$9,"Conferir déficit",IF($F10<0,"Déficit dentro da tolerância","Sem alerta")),"Conferir premissa"))
A11: =IF(OR('Premissas'!$B$4="",'Premissas'!$B$5=""),"",IF(ROW()-6<='Premissas'!$B$5,DATE(YEAR('Premissas'!$B$4),MONTH('Premissas'!$B$4)+ROW()-7,1),"")) | B11: =IF($A11="","",IF((COUNTIFS(Receitas!$C$4:$C$103,">="&$A11,Receitas!$C$4:$C$103,"<"&DATE(YEAR($A11),MONTH($A11)+1,1),Receitas!$F$4:$F$103,"<>",Receitas!$F$4:$F$103,"<>"&'Premissas'!$D$6)+COUNTIFS(Despesas!$C$4:$C$103,">="&$A11,Despesas!$C$4:$C$103,"<"&DATE(YEAR($A11),MONTH($A11)+1,1),Despesas!$F$4:$F$103,"<>",Despesas!$F$4:$F$103,"<>"&'Premissas'!$E$6))=0,"",IFERROR(SUMIFS(Receitas!$D$4:$D$103,Receitas!$C$4:$C$103,">="&$A11,Receitas!$C$4:$C$103,"<"&DATE(YEAR($A11),MONTH($A11)+1,1),Receitas!$F$4:$F$103,'Premissas'!$D$4),0))) | C11: =IF($A11="","",IF((COUNTIFS(Receitas!$C$4:$C$103,">="&$A11,Receitas!$C$4:$C$103,"<"&DATE(YEAR($A11),MONTH($A11)+1,1),Receitas!$F$4:$F$103,"<>",Receitas!$F$4:$F$103,"<>"&'Premissas'!$D$6)+COUNTIFS(Despesas!$C$4:$C$103,">="&$A11,Despesas!$C$4:$C$103,"<"&DATE(YEAR($A11),MONTH($A11)+1,1),Despesas!$F$4:$F$103,"<>",Despesas!$F$4:$F$103,"<>"&'Premissas'!$E$6))=0,"",IFERROR(SUMIFS(Receitas!$D$4:$D$103,Receitas!$C$4:$C$103,">="&$A11,Receitas!$C$4:$C$103,"<"&DATE(YEAR($A11),MONTH($A11)+1,1),Receitas!$F$4:$F$103,'Premissas'!$D$5),0))) | D11: =IF($A11="","",IF((COUNTIFS(Receitas!$C$4:$C$103,">="&$A11,Receitas!$C$4:$C$103,"<"&DATE(YEAR($A11),MONTH($A11)+1,1),Receitas!$F$4:$F$103,"<>",Receitas!$F$4:$F$103,"<>"&'Premissas'!$D$6)+COUNTIFS(Despesas!$C$4:$C$103,">="&$A11,Despesas!$C$4:$C$103,"<"&DATE(YEAR($A11),MONTH($A11)+1,1),Despesas!$F$4:$F$103,"<>",Despesas!$F$4:$F$103,"<>"&'Premissas'!$E$6))=0,"",IFERROR(SUMIFS(Despesas!$D$4:$D$103,Despesas!$C$4:$C$103,">="&$A11,Despesas!$C$4:$C$103,"<"&DATE(YEAR($A11),MONTH($A11)+1,1),Despesas!$F$4:$F$103,'Premissas'!$E$4),0))) | E11: =IF($A11="","",IF((COUNTIFS(Receitas!$C$4:$C$103,">="&$A11,Receitas!$C$4:$C$103,"<"&DATE(YEAR($A11),MONTH($A11)+1,1),Receitas!$F$4:$F$103,"<>",Receitas!$F$4:$F$103,"<>"&'Premissas'!$D$6)+COUNTIFS(Despesas!$C$4:$C$103,">="&$A11,Despesas!$C$4:$C$103,"<"&DATE(YEAR($A11),MONTH($A11)+1,1),Despesas!$F$4:$F$103,"<>",Despesas!$F$4:$F$103,"<>"&'Premissas'!$E$6))=0,"",IFERROR(SUMIFS(Despesas!$D$4:$D$103,Despesas!$C$4:$C$103,">="&$A11,Despesas!$C$4:$C$103,"<"&DATE(YEAR($A11),MONTH($A11)+1,1),Despesas!$F$4:$F$103,'Premissas'!$E$5),0))) | F11: =IF(COUNT(B11:E11)=0,"",IFERROR(SUM(B11:C11)-SUM(D11:E11),"")) | G11: =IF($F11="","",IFERROR(IF($F11<-'Premissas'!$B$9,"Conferir déficit",IF($F11<0,"Déficit dentro da tolerância","Sem alerta")),"Conferir premissa"))
A12: =IF(OR('Premissas'!$B$4="",'Premissas'!$B$5=""),"",IF(ROW()-6<='Premissas'!$B$5,DATE(YEAR('Premissas'!$B$4),MONTH('Premissas'!$B$4)+ROW()-7,1),"")) | B12: =IF($A12="","",IF((COUNTIFS(Receitas!$C$4:$C$103,">="&$A12,Receitas!$C$4:$C$103,"<"&DATE(YEAR($A12),MONTH($A12)+1,1),Receitas!$F$4:$F$103,"<>",Receitas!$F$4:$F$103,"<>"&'Premissas'!$D$6)+COUNTIFS(Despesas!$C$4:$C$103,">="&$A12,Despesas!$C$4:$C$103,"<"&DATE(YEAR($A12),MONTH($A12)+1,1),Despesas!$F$4:$F$103,"<>",Despesas!$F$4:$F$103,"<>"&'Premissas'!$E$6))=0,"",IFERROR(SUMIFS(Receitas!$D$4:$D$103,Receitas!$C$4:$C$103,">="&$A12,Receitas!$C$4:$C$103,"<"&DATE(YEAR($A12),MONTH($A12)+1,1),Receitas!$F$4:$F$103,'Premissas'!$D$4),0))) | C12: =IF($A12="","",IF((COUNTIFS(Receitas!$C$4:$C$103,">="&$A12,Receitas!$C$4:$C$103,"<"&DATE(YEAR($A12),MONTH($A12)+1,1),Receitas!$F$4:$F$103,"<>",Receitas!$F$4:$F$103,"<>"&'Premissas'!$D$6)+COUNTIFS(Despesas!$C$4:$C$103,">="&$A12,Despesas!$C$4:$C$103,"<"&DATE(YEAR($A12),MONTH($A12)+1,1),Despesas!$F$4:$F$103,"<>",Despesas!$F$4:$F$103,"<>"&'Premissas'!$E$6))=0,"",IFERROR(SUMIFS(Receitas!$D$4:$D$103,Receitas!$C$4:$C$103,">="&$A12,Receitas!$C$4:$C$103,"<"&DATE(YEAR($A12),MONTH($A12)+1,1),Receitas!$F$4:$F$103,'Premissas'!$D$5),0))) | D12: =IF($A12="","",IF((COUNTIFS(Receitas!$C$4:$C$103,">="&$A12,Receitas!$C$4:$C$103,"<"&DATE(YEAR($A12),MONTH($A12)+1,1),Receitas!$F$4:$F$103,"<>",Receitas!$F$4:$F$103,"<>"&'Premissas'!$D$6)+COUNTIFS(Despesas!$C$4:$C$103,">="&$A12,Despesas!$C$4:$C$103,"<"&DATE(YEAR($A12),MONTH($A12)+1,1),Despesas!$F$4:$F$103,"<>",Despesas!$F$4:$F$103,"<>"&'Premissas'!$E$6))=0,"",IFERROR(SUMIFS(Despesas!$D$4:$D$103,Despesas!$C$4:$C$103,">="&$A12,Despesas!$C$4:$C$103,"<"&DATE(YEAR($A12),MONTH($A12)+1,1),Despesas!$F$4:$F$103,'Premissas'!$E$4),0))) | E12: =IF($A12="","",IF((COUNTIFS(Receitas!$C$4:$C$103,">="&$A12,Receitas!$C$4:$C$103,"<"&DATE(YEAR($A12),MONTH($A12)+1,1),Receitas!$F$4:$F$103,"<>",Receitas!$F$4:$F$103,"<>"&'Premissas'!$D$6)+COUNTIFS(Despesas!$C$4:$C$103,">="&$A12,Despesas!$C$4:$C$103,"<"&DATE(YEAR($A12),MONTH($A12)+1,1),Despesas!$F$4:$F$103,"<>",Despesas!$F$4:$F$103,"<>"&'Premissas'!$E$6))=0,"",IFERROR(SUMIFS(Despesas!$D$4:$D$103,Despesas!$C$4:$C$103,">="&$A12,Despesas!$C$4:$C$103,"<"&DATE(YEAR($A12),MONTH($A12)+1,1),Despesas!$F$4:$F$103,'Premissas'!$E$5),0))) | F12: =IF(COUNT(B12:E12)=0,"",IFERROR(SUM(B12:C12)-SUM(D12:E12),"")) | G12: =IF($F12="","",IFERROR(IF($F12<-'Premissas'!$B$9,"Conferir déficit",IF($F12<0,"Déficit dentro da tolerância","Sem alerta")),"Conferir premissa"))
A13: =IF(OR('Premissas'!$B$4="",'Premissas'!$B$5=""),"",IF(ROW()-6<='Premissas'!$B$5,DATE(YEAR('Premissas'!$B$4),MONTH('Premissas'!$B$4)+ROW()-7,1),"")) | B13: =IF($A13="","",IF((COUNTIFS(Receitas!$C$4:$C$103,">="&$A13,Receitas!$C$4:$C$103,"<"&DATE(YEAR($A13),MONTH($A13)+1,1),Receitas!$F$4:$F$103,"<>",Receitas!$F$4:$F$103,"<>"&'Premissas'!$D$6)+COUNTIFS(Despesas!$C$4:$C$103,">="&$A13,Despesas!$C$4:$C$103,"<"&DATE(YEAR($A13),MONTH($A13)+1,1),Despesas!$F$4:$F$103,"<>",Despesas!$F$4:$F$103,"<>"&'Premissas'!$E$6))=0,"",IFERROR(SUMIFS(Receitas!$D$4:$D$103,Receitas!$C$4:$C$103,">="&$A13,Receitas!$C$4:$C$103,"<"&DATE(YEAR($A13),MONTH($A13)+1,1),Receitas!$F$4:$F$103,'Premissas'!$D$4),0))) | C13: =IF($A13="","",IF((COUNTIFS(Receitas!$C$4:$C$103,">="&$A13,Receitas!$C$4:$C$103,"<"&DATE(YEAR($A13),MONTH($A13)+1,1),Receitas!$F$4:$F$103,"<>",Receitas!$F$4:$F$103,"<>"&'Premissas'!$D$6)+COUNTIFS(Despesas!$C$4:$C$103,">="&$A13,Despesas!$C$4:$C$103,"<"&DATE(YEAR($A13),MONTH($A13)+1,1),Despesas!$F$4:$F$103,"<>",Despesas!$F$4:$F$103,"<>"&'Premissas'!$E$6))=0,"",IFERROR(SUMIFS(Receitas!$D$4:$D$103,Receitas!$C$4:$C$103,">="&$A13,Receitas!$C$4:$C$103,"<"&DATE(YEAR($A13),MONTH($A13)+1,1),Receitas!$F$4:$F$103,'Premissas'!$D$5),0))) | D13: =IF($A13="","",IF((COUNTIFS(Receitas!$C$4:$C$103,">="&$A13,Receitas!$C$4:$C$103,"<"&DATE(YEAR($A13),MONTH($A13)+1,1),Receitas!$F$4:$F$103,"<>",Receitas!$F$4:$F$103,"<>"&'Premissas'!$D$6)+COUNTIFS(Despesas!$C$4:$C$103,">="&$A13,Despesas!$C$4:$C$103,"<"&DATE(YEAR($A13),MONTH($A13)+1,1),Despesas!$F$4:$F$103,"<>",Despesas!$F$4:$F$103,"<>"&'Premissas'!$E$6))=0,"",IFERROR(SUMIFS(Despesas!$D$4:$D$103,Despesas!$C$4:$C$103,">="&$A13,Despesas!$C$4:$C$103,"<"&DATE(YEAR($A13),MONTH($A13)+1,1),Despesas!$F$4:$F$103,'Premissas'!$E$4),0))) | E13: =IF($A13="","",IF((COUNTIFS(Receitas!$C$4:$C$103,">="&$A13,Receitas!$C$4:$C$103,"<"&DATE(YEAR($A13),MONTH($A13)+1,1),Receitas!$F$4:$F$103,"<>",Receitas!$F$4:$F$103,"<>"&'Premissas'!$D$6)+COUNTIFS(Despesas!$C$4:$C$103,">="&$A13,Despesas!$C$4:$C$103,"<"&DATE(YEAR($A13),MONTH($A13)+1,1),Despesas!$F$4:$F$103,"<>",Despesas!$F$4:$F$103,"<>"&'Premissas'!$E$6))=0,"",IFERROR(SUMIFS(Despesas!$D$4:$D$103,Despesas!$C$4:$C$103,">="&$A13,Despesas!$C$4:$C$103,"<"&DATE(YEAR($A13),MONTH($A13)+1,1),Despesas!$F$4:$F$103,'Premissas'!$E$5),0))) | F13: =IF(COUNT(B13:E13)=0,"",IFERROR(SUM(B13:C13)-SUM(D13:E13),"")) | G13: =IF($F13="","",IFERROR(IF($F13<-'Premissas'!$B$9,"Conferir déficit",IF($F13<0,"Déficit dentro da tolerância","Sem alerta")),"Conferir premissa"))
A14: =IF(OR('Premissas'!$B$4="",'Premissas'!$B$5=""),"",IF(ROW()-6<='Premissas'!$B$5,DATE(YEAR('Premissas'!$B$4),MONTH('Premissas'!$B$4)+ROW()-7,1),"")) | B14: =IF($A14="","",IF((COUNTIFS(Receitas!$C$4:$C$103,">="&$A14,Receitas!$C$4:$C$103,"<"&DATE(YEAR($A14),MONTH($A14)+1,1),Receitas!$F$4:$F$103,"<>",Receitas!$F$4:$F$103,"<>"&'Premissas'!$D$6)+COUNTIFS(Despesas!$C$4:$C$103,">="&$A14,Despesas!$C$4:$C$103,"<"&DATE(YEAR($A14),MONTH($A14)+1,1),Despesas!$F$4:$F$103,"<>",Despesas!$F$4:$F$103,"<>"&'Premissas'!$E$6))=0,"",IFERROR(SUMIFS(Receitas!$D$4:$D$103,Receitas!$C$4:$C$103,">="&$A14,Receitas!$C$4:$C$103,"<"&DATE(YEAR($A14),MONTH($A14)+1,1),Receitas!$F$4:$F$103,'Premissas'!$D$4),0))) | C14: =IF($A14="","",IF((COUNTIFS(Receitas!$C$4:$C$103,">="&$A14,Receitas!$C$4:$C$103,"<"&DATE(YEAR($A14),MONTH($A14)+1,1),Receitas!$F$4:$F$103,"<>",Receitas!$F$4:$F$103,"<>"&'Premissas'!$D$6)+COUNTIFS(Despesas!$C$4:$C$103,">="&$A14,Despesas!$C$4:$C$103,"<"&DATE(YEAR($A14),MONTH($A14)+1,1),Despesas!$F$4:$F$103,"<>",Despesas!$F$4:$F$103,"<>"&'Premissas'!$E$6))=0,"",IFERROR(SUMIFS(Receitas!$D$4:$D$103,Receitas!$C$4:$C$103,">="&$A14,Receitas!$C$4:$C$103,"<"&DATE(YEAR($A14),MONTH($A14)+1,1),Receitas!$F$4:$F$103,'Premissas'!$D$5),0))) | D14: =IF($A14="","",IF((COUNTIFS(Receitas!$C$4:$C$103,">="&$A14,Receitas!$C$4:$C$103,"<"&DATE(YEAR($A14),MONTH($A14)+1,1),Receitas!$F$4:$F$103,"<>",Receitas!$F$4:$F$103,"<>"&'Premissas'!$D$6)+COUNTIFS(Despesas!$C$4:$C$103,">="&$A14,Despesas!$C$4:$C$103,"<"&DATE(YEAR($A14),MONTH($A14)+1,1),Despesas!$F$4:$F$103,"<>",Despesas!$F$4:$F$103,"<>"&'Premissas'!$E$6))=0,"",IFERROR(SUMIFS(Despesas!$D$4:$D$103,Despesas!$C$4:$C$103,">="&$A14,Despesas!$C$4:$C$103,"<"&DATE(YEAR($A14),MONTH($A14)+1,1),Despesas!$F$4:$F$103,'Premissas'!$E$4),0))) | E14: =IF($A14="","",IF((COUNTIFS(Receitas!$C$4:$C$103,">="&$A14,Receitas!$C$4:$C$103,"<"&DATE(YEAR($A14),MONTH($A14)+1,1),Receitas!$F$4:$F$103,"<>",Receitas!$F$4:$F$103,"<>"&'Premissas'!$D$6)+COUNTIFS(Despesas!$C$4:$C$103,">="&$A14,Despesas!$C$4:$C$103,"<"&DATE(YEAR($A14),MONTH($A14)+1,1),Despesas!$F$4:$F$103,"<>",Despesas!$F$4:$F$103,"<>"&'Premissas'!$E$6))=0,"",IFERROR(SUMIFS(Despesas!$D$4:$D$103,Despesas!$C$4:$C$103,">="&$A14,Despesas!$C$4:$C$103,"<"&DATE(YEAR($A14),MONTH($A14)+1,1),Despesas!$F$4:$F$103,'Premissas'!$E$5),0))) | F14: =IF(COUNT(B14:E14)=0,"",IFERROR(SUM(B14:C14)-SUM(D14:E14),"")) | G14: =IF($F14="","",IFERROR(IF($F14<-'Premissas'!$B$9,"Conferir déficit",IF($F14<0,"Déficit dentro da tolerância","Sem alerta")),"Conferir premissa"))
A15: =IF(OR('Premissas'!$B$4="",'Premissas'!$B$5=""),"",IF(ROW()-6<='Premissas'!$B$5,DATE(YEAR('Premissas'!$B$4),MONTH('Premissas'!$B$4)+ROW()-7,1),"")) | B15: =IF($A15="","",IF((COUNTIFS(Receitas!$C$4:$C$103,">="&$A15,Receitas!$C$4:$C$103,"<"&DATE(YEAR($A15),MONTH($A15)+1,1),Receitas!$F$4:$F$103,"<>",Receitas!$F$4:$F$103,"<>"&'Premissas'!$D$6)+COUNTIFS(Despesas!$C$4:$C$103,">="&$A15,Despesas!$C$4:$C$103,"<"&DATE(YEAR($A15),MONTH($A15)+1,1),Despesas!$F$4:$F$103,"<>",Despesas!$F$4:$F$103,"<>"&'Premissas'!$E$6))=0,"",IFERROR(SUMIFS(Receitas!$D$4:$D$103,Receitas!$C$4:$C$103,">="&$A15,Receitas!$C$4:$C$103,"<"&DATE(YEAR($A15),MONTH($A15)+1,1),Receitas!$F$4:$F$103,'Premissas'!$D$4),0))) | C15: =IF($A15="","",IF((COUNTIFS(Receitas!$C$4:$C$103,">="&$A15,Receitas!$C$4:$C$103,"<"&DATE(YEAR($A15),MONTH($A15)+1,1),Receitas!$F$4:$F$103,"<>",Receitas!$F$4:$F$103,"<>"&'Premissas'!$D$6)+COUNTIFS(Despesas!$C$4:$C$103,">="&$A15,Despesas!$C$4:$C$103,"<"&DATE(YEAR($A15),MONTH($A15)+1,1),Despesas!$F$4:$F$103,"<>",Despesas!$F$4:$F$103,"<>"&'Premissas'!$E$6))=0,"",IFERROR(SUMIFS(Receitas!$D$4:$D$103,Receitas!$C$4:$C$103,">="&$A15,Receitas!$C$4:$C$103,"<"&DATE(YEAR($A15),MONTH($A15)+1,1),Receitas!$F$4:$F$103,'Premissas'!$D$5),0))) | D15: =IF($A15="","",IF((COUNTIFS(Receitas!$C$4:$C$103,">="&$A15,Receitas!$C$4:$C$103,"<"&DATE(YEAR($A15),MONTH($A15)+1,1),Receitas!$F$4:$F$103,"<>",Receitas!$F$4:$F$103,"<>"&'Premissas'!$D$6)+COUNTIFS(Despesas!$C$4:$C$103,">="&$A15,Despesas!$C$4:$C$103,"<"&DATE(YEAR($A15),MONTH($A15)+1,1),Despesas!$F$4:$F$103,"<>",Despesas!$F$4:$F$103,"<>"&'Premissas'!$E$6))=0,"",IFERROR(SUMIFS(Despesas!$D$4:$D$103,Despesas!$C$4:$C$103,">="&$A15,Despesas!$C$4:$C$103,"<"&DATE(YEAR($A15),MONTH($A15)+1,1),Despesas!$F$4:$F$103,'Premissas'!$E$4),0))) | E15: =IF($A15="","",IF((COUNTIFS(Receitas!$C$4:$C$103,">="&$A15,Receitas!$C$4:$C$103,"<"&DATE(YEAR($A15),MONTH($A15)+1,1),Receitas!$F$4:$F$103,"<>",Receitas!$F$4:$F$103,"<>"&'Premissas'!$D$6)+COUNTIFS(Despesas!$C$4:$C$103,">="&$A15,Despesas!$C$4:$C$103,"<"&DATE(YEAR($A15),MONTH($A15)+1,1),Despesas!$F$4:$F$103,"<>",Despesas!$F$4:$F$103,"<>"&'Premissas'!$E$6))=0,"",IFERROR(SUMIFS(Despesas!$D$4:$D$103,Despesas!$C$4:$C$103,">="&$A15,Despesas!$C$4:$C$103,"<"&DATE(YEAR($A15),MONTH($A15)+1,1),Despesas!$F$4:$F$103,'Premissas'!$E$5),0))) | F15: =IF(COUNT(B15:E15)=0,"",IFERROR(SUM(B15:C15)-SUM(D15:E15),"")) | G15: =IF($F15="","",IFERROR(IF($F15<-'Premissas'!$B$9,"Conferir déficit",IF($F15<0,"Déficit dentro da tolerância","Sem alerta")),"Conferir premissa"))
A16: =IF(OR('Premissas'!$B$4="",'Premissas'!$B$5=""),"",IF(ROW()-6<='Premissas'!$B$5,DATE(YEAR('Premissas'!$B$4),MONTH('Premissas'!$B$4)+ROW()-7,1),"")) | B16: =IF($A16="","",IF((COUNTIFS(Receitas!$C$4:$C$103,">="&$A16,Receitas!$C$4:$C$103,"<"&DATE(YEAR($A16),MONTH($A16)+1,1),Receitas!$F$4:$F$103,"<>",Receitas!$F$4:$F$103,"<>"&'Premissas'!$D$6)+COUNTIFS(Despesas!$C$4:$C$103,">="&$A16,Despesas!$C$4:$C$103,"<"&DATE(YEAR($A16),MONTH($A16)+1,1),Despesas!$F$4:$F$103,"<>",Despesas!$F$4:$F$103,"<>"&'Premissas'!$E$6))=0,"",IFERROR(SUMIFS(Receitas!$D$4:$D$103,Receitas!$C$4:$C$103,">="&$A16,Receitas!$C$4:$C$103,"<"&DATE(YEAR($A16),MONTH($A16)+1,1),Receitas!$F$4:$F$103,'Premissas'!$D$4),0))) | C16: =IF($A16="","",IF((COUNTIFS(Receitas!$C$4:$C$103,">="&$A16,Receitas!$C$4:$C$103,"<"&DATE(YEAR($A16),MONTH($A16)+1,1),Receitas!$F$4:$F$103,"<>",Receitas!$F$4:$F$103,"<>"&'Premissas'!$D$6)+COUNTIFS(Despesas!$C$4:$C$103,">="&$A16,Despesas!$C$4:$C$103,"<"&DATE(YEAR($A16),MONTH($A16)+1,1),Despesas!$F$4:$F$103,"<>",Despesas!$F$4:$F$103,"<>"&'Premissas'!$E$6))=0,"",IFERROR(SUMIFS(Receitas!$D$4:$D$103,Receitas!$C$4:$C$103,">="&$A16,Receitas!$C$4:$C$103,"<"&DATE(YEAR($A16),MONTH($A16)+1,1),Receitas!$F$4:$F$103,'Premissas'!$D$5),0))) | D16: =IF($A16="","",IF((COUNTIFS(Receitas!$C$4:$C$103,">="&$A16,Receitas!$C$4:$C$103,"<"&DATE(YEAR($A16),MONTH($A16)+1,1),Receitas!$F$4:$F$103,"<>",Receitas!$F$4:$F$103,"<>"&'Premissas'!$D$6)+COUNTIFS(Despesas!$C$4:$C$103,">="&$A16,Despesas!$C$4:$C$103,"<"&DATE(YEAR($A16),MONTH($A16)+1,1),Despesas!$F$4:$F$103,"<>",Despesas!$F$4:$F$103,"<>"&'Premissas'!$E$6))=0,"",IFERROR(SUMIFS(Despesas!$D$4:$D$103,Despesas!$C$4:$C$103,">="&$A16,Despesas!$C$4:$C$103,"<"&DATE(YEAR($A16),MONTH($A16)+1,1),Despesas!$F$4:$F$103,'Premissas'!$E$4),0))) | E16: =IF($A16="","",IF((COUNTIFS(Receitas!$C$4:$C$103,">="&$A16,Receitas!$C$4:$C$103,"<"&DATE(YEAR($A16),MONTH($A16)+1,1),Receitas!$F$4:$F$103,"<>",Receitas!$F$4:$F$103,"<>"&'Premissas'!$D$6)+COUNTIFS(Despesas!$C$4:$C$103,">="&$A16,Despesas!$C$4:$C$103,"<"&DATE(YEAR($A16),MONTH($A16)+1,1),Despesas!$F$4:$F$103,"<>",Despesas!$F$4:$F$103,"<>"&'Premissas'!$E$6))=0,"",IFERROR(SUMIFS(Despesas!$D$4:$D$103,Despesas!$C$4:$C$103,">="&$A16,Despesas!$C$4:$C$103,"<"&DATE(YEAR($A16),MONTH($A16)+1,1),Despesas!$F$4:$F$103,'Premissas'!$E$5),0))) | F16: =IF(COUNT(B16:E16)=0,"",IFERROR(SUM(B16:C16)-SUM(D16:E16),"")) | G16: =IF($F16="","",IFERROR(IF($F16<-'Premissas'!$B$9,"Conferir déficit",IF($F16<0,"Déficit dentro da tolerância","Sem alerta")),"Conferir premissa"))
A17: =IF(OR('Premissas'!$B$4="",'Premissas'!$B$5=""),"",IF(ROW()-6<='Premissas'!$B$5,DATE(YEAR('Premissas'!$B$4),MONTH('Premissas'!$B$4)+ROW()-7,1),"")) | B17: =IF($A17="","",IF((COUNTIFS(Receitas!$C$4:$C$103,">="&$A17,Receitas!$C$4:$C$103,"<"&DATE(YEAR($A17),MONTH($A17)+1,1),Receitas!$F$4:$F$103,"<>",Receitas!$F$4:$F$103,"<>"&'Premissas'!$D$6)+COUNTIFS(Despesas!$C$4:$C$103,">="&$A17,Despesas!$C$4:$C$103,"<"&DATE(YEAR($A17),MONTH($A17)+1,1),Despesas!$F$4:$F$103,"<>",Despesas!$F$4:$F$103,"<>"&'Premissas'!$E$6))=0,"",IFERROR(SUMIFS(Receitas!$D$4:$D$103,Receitas!$C$4:$C$103,">="&$A17,Receitas!$C$4:$C$103,"<"&DATE(YEAR($A17),MONTH($A17)+1,1),Receitas!$F$4:$F$103,'Premissas'!$D$4),0))) | C17: =IF($A17="","",IF((COUNTIFS(Receitas!$C$4:$C$103,">="&$A17,Receitas!$C$4:$C$103,"<"&DATE(YEAR($A17),MONTH($A17)+1,1),Receitas!$F$4:$F$103,"<>",Receitas!$F$4:$F$103,"<>"&'Premissas'!$D$6)+COUNTIFS(Despesas!$C$4:$C$103,">="&$A17,Despesas!$C$4:$C$103,"<"&DATE(YEAR($A17),MONTH($A17)+1,1),Despesas!$F$4:$F$103,"<>",Despesas!$F$4:$F$103,"<>"&'Premissas'!$E$6))=0,"",IFERROR(SUMIFS(Receitas!$D$4:$D$103,Receitas!$C$4:$C$103,">="&$A17,Receitas!$C$4:$C$103,"<"&DATE(YEAR($A17),MONTH($A17)+1,1),Receitas!$F$4:$F$103,'Premissas'!$D$5),0))) | D17: =IF($A17="","",IF((COUNTIFS(Receitas!$C$4:$C$103,">="&$A17,Receitas!$C$4:$C$103,"<"&DATE(YEAR($A17),MONTH($A17)+1,1),Receitas!$F$4:$F$103,"<>",Receitas!$F$4:$F$103,"<>"&'Premissas'!$D$6)+COUNTIFS(Despesas!$C$4:$C$103,">="&$A17,Despesas!$C$4:$C$103,"<"&DATE(YEAR($A17),MONTH($A17)+1,1),Despesas!$F$4:$F$103,"<>",Despesas!$F$4:$F$103,"<>"&'Premissas'!$E$6))=0,"",IFERROR(SUMIFS(Despesas!$D$4:$D$103,Despesas!$C$4:$C$103,">="&$A17,Despesas!$C$4:$C$103,"<"&DATE(YEAR($A17),MONTH($A17)+1,1),Despesas!$F$4:$F$103,'Premissas'!$E$4),0))) | E17: =IF($A17="","",IF((COUNTIFS(Receitas!$C$4:$C$103,">="&$A17,Receitas!$C$4:$C$103,"<"&DATE(YEAR($A17),MONTH($A17)+1,1),Receitas!$F$4:$F$103,"<>",Receitas!$F$4:$F$103,"<>"&'Premissas'!$D$6)+COUNTIFS(Despesas!$C$4:$C$103,">="&$A17,Despesas!$C$4:$C$103,"<"&DATE(YEAR($A17),MONTH($A17)+1,1),Despesas!$F$4:$F$103,"<>",Despesas!$F$4:$F$103,"<>"&'Premissas'!$E$6))=0,"",IFERROR(SUMIFS(Despesas!$D$4:$D$103,Despesas!$C$4:$C$103,">="&$A17,Despesas!$C$4:$C$103,"<"&DATE(YEAR($A17),MONTH($A17)+1,1),Despesas!$F$4:$F$103,'Premissas'!$E$5),0))) | F17: =IF(COUNT(B17:E17)=0,"",IFERROR(SUM(B17:C17)-SUM(D17:E17),"")) | G17: =IF($F17="","",IFERROR(IF($F17<-'Premissas'!$B$9,"Conferir déficit",IF($F17<0,"Déficit dentro da tolerância","Sem alerta")),"Conferir premissa"))
A18: =IF(OR('Premissas'!$B$4="",'Premissas'!$B$5=""),"",IF(ROW()-6<='Premissas'!$B$5,DATE(YEAR('Premissas'!$B$4),MONTH('Premissas'!$B$4)+ROW()-7,1),"")) | B18: =IF($A18="","",IF((COUNTIFS(Receitas!$C$4:$C$103,">="&$A18,Receitas!$C$4:$C$103,"<"&DATE(YEAR($A18),MONTH($A18)+1,1),Receitas!$F$4:$F$103,"<>",Receitas!$F$4:$F$103,"<>"&'Premissas'!$D$6)+COUNTIFS(Despesas!$C$4:$C$103,">="&$A18,Despesas!$C$4:$C$103,"<"&DATE(YEAR($A18),MONTH($A18)+1,1),Despesas!$F$4:$F$103,"<>",Despesas!$F$4:$F$103,"<>"&'Premissas'!$E$6))=0,"",IFERROR(SUMIFS(Receitas!$D$4:$D$103,Receitas!$C$4:$C$103,">="&$A18,Receitas!$C$4:$C$103,"<"&DATE(YEAR($A18),MONTH($A18)+1,1),Receitas!$F$4:$F$103,'Premissas'!$D$4),0))) | C18: =IF($A18="","",IF((COUNTIFS(Receitas!$C$4:$C$103,">="&$A18,Receitas!$C$4:$C$103,"<"&DATE(YEAR($A18),MONTH($A18)+1,1),Receitas!$F$4:$F$103,"<>",Receitas!$F$4:$F$103,"<>"&'Premissas'!$D$6)+COUNTIFS(Despesas!$C$4:$C$103,">="&$A18,Despesas!$C$4:$C$103,"<"&DATE(YEAR($A18),MONTH($A18)+1,1),Despesas!$F$4:$F$103,"<>",Despesas!$F$4:$F$103,"<>"&'Premissas'!$E$6))=0,"",IFERROR(SUMIFS(Receitas!$D$4:$D$103,Receitas!$C$4:$C$103,">="&$A18,Receitas!$C$4:$C$103,"<"&DATE(YEAR($A18),MONTH($A18)+1,1),Receitas!$F$4:$F$103,'Premissas'!$D$5),0))) | D18: =IF($A18="","",IF((COUNTIFS(Receitas!$C$4:$C$103,">="&$A18,Receitas!$C$4:$C$103,"<"&DATE(YEAR($A18),MONTH($A18)+1,1),Receitas!$F$4:$F$103,"<>",Receitas!$F$4:$F$103,"<>"&'Premissas'!$D$6)+COUNTIFS(Despesas!$C$4:$C$103,">="&$A18,Despesas!$C$4:$C$103,"<"&DATE(YEAR($A18),MONTH($A18)+1,1),Despesas!$F$4:$F$103,"<>",Despesas!$F$4:$F$103,"<>"&'Premissas'!$E$6))=0,"",IFERROR(SUMIFS(Despesas!$D$4:$D$103,Despesas!$C$4:$C$103,">="&$A18,Despesas!$C$4:$C$103,"<"&DATE(YEAR($A18),MONTH($A18)+1,1),Despesas!$F$4:$F$103,'Premissas'!$E$4),0))) | E18: =IF($A18="","",IF((COUNTIFS(Receitas!$C$4:$C$103,">="&$A18,Receitas!$C$4:$C$103,"<"&DATE(YEAR($A18),MONTH($A18)+1,1),Receitas!$F$4:$F$103,"<>",Receitas!$F$4:$F$103,"<>"&'Premissas'!$D$6)+COUNTIFS(Despesas!$C$4:$C$103,">="&$A18,Despesas!$C$4:$C$103,"<"&DATE(YEAR($A18),MONTH($A18)+1,1),Despesas!$F$4:$F$103,"<>",Despesas!$F$4:$F$103,"<>"&'Premissas'!$E$6))=0,"",IFERROR(SUMIFS(Despesas!$D$4:$D$103,Despesas!$C$4:$C$103,">="&$A18,Despesas!$C$4:$C$103,"<"&DATE(YEAR($A18),MONTH($A18)+1,1),Despesas!$F$4:$F$103,'Premissas'!$E$5),0))) | F18: =IF(COUNT(B18:E18)=0,"",IFERROR(SUM(B18:C18)-SUM(D18:E18),"")) | G18: =IF($F18="","",IFERROR(IF($F18<-'Premissas'!$B$9,"Conferir déficit",IF($F18<0,"Déficit dentro da tolerância","Sem alerta")),"Conferir premissa"))

Sheet Receitas
A1: Receitas — lançamentos previstos e realizados
A3: Condomínio | B3: Unidade | C3: Período | D3: Valor | E3: Responsável | F3: Situação | G3: Vencimento | H3: Observações
A4: Condomínio Fictício Jardim das Nuvens | B4: Todas as unidades fictícias | C4: 46266 | D4: 24600 | E4: Helena Prado — pessoa fictícia | F4: Recebida | G4: 46275 | H4: Arrecadação ordinária de cenário inteiramente fictício.
A5: Condomínio Fictício Jardim das Nuvens | B5: Todas as unidades fictícias | C5: 46296 | D5: 24800 | E5: Helena Prado — pessoa fictícia | F5: Prevista | G5: 46305 | H5: Previsão mensal usada apenas para simulação fictícia.
A6: Condomínio Fictício Jardim das Nuvens | B6: Todas as unidades fictícias | C6: 46327 | D6: 24800 | E6: Helena Prado — pessoa fictícia | F6: Prevista | G6: 46336 | H6: Previsão mensal usada apenas para simulação fictícia.
A7: Condomínio Fictício Jardim das Nuvens | B7: Todas as unidades fictícias | C7: 46357 | D7: 25200 | E7: Helena Prado — pessoa fictícia | F7: Prevista | G7: 46366 | H7: Estimativa sazonal de exemplo, sem representar cobrança real.
A8: Condomínio Fictício Jardim das Nuvens | B8: Todas as unidades fictícias | C8: 46388 | D8: 25200 | E8: Helena Prado — pessoa fictícia | F8: Prevista | G8: 46397 | H8: Estimativa fictícia sujeita à conferência humana.

Sheet Despesas
A1: Despesas — lançamentos previstos e realizados
A3: Condomínio | B3: Unidade | C3: Período | D3: Valor | E3: Responsável | F3: Situação | G3: Vencimento | H3: Observações
A4: Condomínio Fictício Jardim das Nuvens | B4: Todas as unidades fictícias | C4: 46266 | D4: 22100 | E4: Caio Nunes — pessoa fictícia | F4: Paga | G4: 46280 | H4: Conjunto mensal de despesas de cenário inteiramente fictício.
A5: Condomínio Fictício Jardim das Nuvens | B5: Todas as unidades fictícias | C5: 46296 | D5: 21500 | E5: Caio Nunes — pessoa fictícia | F5: Prevista | G5: 46310 | H5: Estimativa operacional fictícia para comparação mensal.
A6: Condomínio Fictício Jardim das Nuvens | B6: Todas as unidades fictícias | C6: 46327 | D6: 26100 | E6: Caio Nunes — pessoa fictícia | F6: Prevista | G6: 46341 | H6: Estimativa fictícia com manutenção sazonal simulada.
A7: Condomínio Fictício Jardim das Nuvens | B7: Todas as unidades fictícias | C7: 46357 | D7: 23900 | E7: Caio Nunes — pessoa fictícia | F7: Prevista | G7: 46371 | H7: Estimativa fictícia sujeita à revisão do responsável.
A8: Condomínio Fictício Jardim das Nuvens | B8: Todas as unidades fictícias | C8: 46388 | D8: 25800 | E8: Caio Nunes — pessoa fictícia | F8: Prevista | G8: 46402 | H8: Estimativa fictícia usada para testar alerta de déficit.

Sheet Premissas
A1: Premissas — previsão de receitas e despesas condominiais
A3: Premissa | B3: Valor editável | C3: Aplicação | D3: Situações de receitas | E3: Situações de despesas
A4: Período inicial do resumo | B4: 46266 | C4: Primeiro mês exibido no Resumo. | D4: Prevista | E4: Prevista
A5: Meses no horizonte | B5: 12 | C5: Quantidade de meses exibidos, entre 1 e 12. | D5: Recebida | E5: Paga
A6: Data inicial aceita | B6: 46023 | C6: Limite para períodos e vencimentos. | D6: Cancelada | E6: Cancelada
A7: Data final aceita | B7: 47483 | C7: Limite para períodos e vencimentos.
A8: Valor máximo por lançamento | B8: 1000000 | C8: Limite de conferência para cada valor.
A9: Tolerância de déficit mensal | B9: 1000 | C9: Faixa para conferência humana no Resumo.
