Workbook

Sheet Resumo
A1: Controle de cotas condominiais — Resumo
A2: Total emitido | B2: =SUM(Cotas!$E$2:$E$121)
A3: Total recebido até a data de referência | B3: =SUM(Cotas!$G$2:$G$121)
A4: Saldo em aberto | B4: =SUM(Cotas!$H$2:$H$121)
A5: Valor vencido | B5: =SUMIF(Cotas!$I$2:$I$121,"Em atraso",Cotas!$H$2:$H$121)+SUMIF(Cotas!$I$2:$I$121,"Parcial em atraso",Cotas!$H$2:$H$121)
A6: Quantidade de cotas vencidas | B6: =COUNTIF(Cotas!$I$2:$I$121,"Em atraso")+COUNTIF(Cotas!$I$2:$I$121,"Parcial em atraso")
A7: Valor a vencer no prazo de alerta | B7: =SUMIF(Cotas!$I$2:$I$121,"A vencer",Cotas!$H$2:$H$121)+SUMIF(Cotas!$I$2:$I$121,"Parcial a vencer",Cotas!$H$2:$H$121)
A8: Quantidade de cotas a vencer | B8: =COUNTIF(Cotas!$I$2:$I$121,"A vencer")+COUNTIF(Cotas!$I$2:$I$121,"Parcial a vencer")
A9: Valor pago a maior | B9: =SUMIF(Cotas!$I$2:$I$121,"Pago a maior",Cotas!$G$2:$G$121)-SUMIF(Cotas!$I$2:$I$121,"Pago a maior",Cotas!$E$2:$E$121)
A10: Percentual recebido bruto | B10: =IFERROR(B3/B2,"")
A11: Registros a revisar | B11: =COUNTIF(Cotas!$I$2:$I$121,"Revisar")
A12: Data de referência | B12: =Premissas!$B$2 | C12: Recebimentos posteriores a esta data não entram nos totais.
A14: Quadro por unidade
A15: Unidade | B15: Total emitido | C15: Total recebido | D15: Saldo em aberto | E15: Valor vencido | F15: Quantidade de cotas vencidas
A16: =IF(Unidades!A2="","",Unidades!A2) | B16: =IF($A16="","",SUMIF(Cotas!$C$2:$C$121,$A16,Cotas!$E$2:$E$121)) | C16: =IF($A16="","",SUMIF(Cotas!$C$2:$C$121,$A16,Cotas!$G$2:$G$121)) | D16: =IF($A16="","",SUMIF(Cotas!$C$2:$C$121,$A16,Cotas!$H$2:$H$121)) | E16: =IF($A16="","",SUMIFS(Cotas!$H$2:$H$121,Cotas!$C$2:$C$121,$A16,Cotas!$I$2:$I$121,"Em atraso")+SUMIFS(Cotas!$H$2:$H$121,Cotas!$C$2:$C$121,$A16,Cotas!$I$2:$I$121,"Parcial em atraso")) | F16: =IF($A16="","",COUNTIFS(Cotas!$C$2:$C$121,$A16,Cotas!$I$2:$I$121,"Em atraso")+COUNTIFS(Cotas!$C$2:$C$121,$A16,Cotas!$I$2:$I$121,"Parcial em atraso"))
A17: =IF(Unidades!A3="","",Unidades!A3) | B17: =IF($A17="","",SUMIF(Cotas!$C$2:$C$121,$A17,Cotas!$E$2:$E$121)) | C17: =IF($A17="","",SUMIF(Cotas!$C$2:$C$121,$A17,Cotas!$G$2:$G$121)) | D17: =IF($A17="","",SUMIF(Cotas!$C$2:$C$121,$A17,Cotas!$H$2:$H$121)) | E17: =IF($A17="","",SUMIFS(Cotas!$H$2:$H$121,Cotas!$C$2:$C$121,$A17,Cotas!$I$2:$I$121,"Em atraso")+SUMIFS(Cotas!$H$2:$H$121,Cotas!$C$2:$C$121,$A17,Cotas!$I$2:$I$121,"Parcial em atraso")) | F17: =IF($A17="","",COUNTIFS(Cotas!$C$2:$C$121,$A17,Cotas!$I$2:$I$121,"Em atraso")+COUNTIFS(Cotas!$C$2:$C$121,$A17,Cotas!$I$2:$I$121,"Parcial em atraso"))
A18: =IF(Unidades!A4="","",Unidades!A4) | B18: =IF($A18="","",SUMIF(Cotas!$C$2:$C$121,$A18,Cotas!$E$2:$E$121)) | C18: =IF($A18="","",SUMIF(Cotas!$C$2:$C$121,$A18,Cotas!$G$2:$G$121)) | D18: =IF($A18="","",SUMIF(Cotas!$C$2:$C$121,$A18,Cotas!$H$2:$H$121)) | E18: =IF($A18="","",SUMIFS(Cotas!$H$2:$H$121,Cotas!$C$2:$C$121,$A18,Cotas!$I$2:$I$121,"Em atraso")+SUMIFS(Cotas!$H$2:$H$121,Cotas!$C$2:$C$121,$A18,Cotas!$I$2:$I$121,"Parcial em atraso")) | F18: =IF($A18="","",COUNTIFS(Cotas!$C$2:$C$121,$A18,Cotas!$I$2:$I$121,"Em atraso")+COUNTIFS(Cotas!$C$2:$C$121,$A18,Cotas!$I$2:$I$121,"Parcial em atraso"))
A19: =IF(Unidades!A5="","",Unidades!A5) | B19: =IF($A19="","",SUMIF(Cotas!$C$2:$C$121,$A19,Cotas!$E$2:$E$121)) | C19: =IF($A19="","",SUMIF(Cotas!$C$2:$C$121,$A19,Cotas!$G$2:$G$121)) | D19: =IF($A19="","",SUMIF(Cotas!$C$2:$C$121,$A19,Cotas!$H$2:$H$121)) | E19: =IF($A19="","",SUMIFS(Cotas!$H$2:$H$121,Cotas!$C$2:$C$121,$A19,Cotas!$I$2:$I$121,"Em atraso")+SUMIFS(Cotas!$H$2:$H$121,Cotas!$C$2:$C$121,$A19,Cotas!$I$2:$I$121,"Parcial em atraso")) | F19: =IF($A19="","",COUNTIFS(Cotas!$C$2:$C$121,$A19,Cotas!$I$2:$I$121,"Em atraso")+COUNTIFS(Cotas!$C$2:$C$121,$A19,Cotas!$I$2:$I$121,"Parcial em atraso"))
A20: =IF(Unidades!A6="","",Unidades!A6) | B20: =IF($A20="","",SUMIF(Cotas!$C$2:$C$121,$A20,Cotas!$E$2:$E$121)) | C20: =IF($A20="","",SUMIF(Cotas!$C$2:$C$121,$A20,Cotas!$G$2:$G$121)) | D20: =IF($A20="","",SUMIF(Cotas!$C$2:$C$121,$A20,Cotas!$H$2:$H$121)) | E20: =IF($A20="","",SUMIFS(Cotas!$H$2:$H$121,Cotas!$C$2:$C$121,$A20,Cotas!$I$2:$I$121,"Em atraso")+SUMIFS(Cotas!$H$2:$H$121,Cotas!$C$2:$C$121,$A20,Cotas!$I$2:$I$121,"Parcial em atraso")) | F20: =IF($A20="","",COUNTIFS(Cotas!$C$2:$C$121,$A20,Cotas!$I$2:$I$121,"Em atraso")+COUNTIFS(Cotas!$C$2:$C$121,$A20,Cotas!$I$2:$I$121,"Parcial em atraso"))
A21: =IF(Unidades!A7="","",Unidades!A7) | B21: =IF($A21="","",SUMIF(Cotas!$C$2:$C$121,$A21,Cotas!$E$2:$E$121)) | C21: =IF($A21="","",SUMIF(Cotas!$C$2:$C$121,$A21,Cotas!$G$2:$G$121)) | D21: =IF($A21="","",SUMIF(Cotas!$C$2:$C$121,$A21,Cotas!$H$2:$H$121)) | E21: =IF($A21="","",SUMIFS(Cotas!$H$2:$H$121,Cotas!$C$2:$C$121,$A21,Cotas!$I$2:$I$121,"Em atraso")+SUMIFS(Cotas!$H$2:$H$121,Cotas!$C$2:$C$121,$A21,Cotas!$I$2:$I$121,"Parcial em atraso")) | F21: =IF($A21="","",COUNTIFS(Cotas!$C$2:$C$121,$A21,Cotas!$I$2:$I$121,"Em atraso")+COUNTIFS(Cotas!$C$2:$C$121,$A21,Cotas!$I$2:$I$121,"Parcial em atraso"))
A22: =IF(Unidades!A8="","",Unidades!A8) | B22: =IF($A22="","",SUMIF(Cotas!$C$2:$C$121,$A22,Cotas!$E$2:$E$121)) | C22: =IF($A22="","",SUMIF(Cotas!$C$2:$C$121,$A22,Cotas!$G$2:$G$121)) | D22: =IF($A22="","",SUMIF(Cotas!$C$2:$C$121,$A22,Cotas!$H$2:$H$121)) | E22: =IF($A22="","",SUMIFS(Cotas!$H$2:$H$121,Cotas!$C$2:$C$121,$A22,Cotas!$I$2:$I$121,"Em atraso")+SUMIFS(Cotas!$H$2:$H$121,Cotas!$C$2:$C$121,$A22,Cotas!$I$2:$I$121,"Parcial em atraso")) | F22: =IF($A22="","",COUNTIFS(Cotas!$C$2:$C$121,$A22,Cotas!$I$2:$I$121,"Em atraso")+COUNTIFS(Cotas!$C$2:$C$121,$A22,Cotas!$I$2:$I$121,"Parcial em atraso"))
A23: =IF(Unidades!A9="","",Unidades!A9) | B23: =IF($A23="","",SUMIF(Cotas!$C$2:$C$121,$A23,Cotas!$E$2:$E$121)) | C23: =IF($A23="","",SUMIF(Cotas!$C$2:$C$121,$A23,Cotas!$G$2:$G$121)) | D23: =IF($A23="","",SUMIF(Cotas!$C$2:$C$121,$A23,Cotas!$H$2:$H$121)) | E23: =IF($A23="","",SUMIFS(Cotas!$H$2:$H$121,Cotas!$C$2:$C$121,$A23,Cotas!$I$2:$I$121,"Em atraso")+SUMIFS(Cotas!$H$2:$H$121,Cotas!$C$2:$C$121,$A23,Cotas!$I$2:$I$121,"Parcial em atraso")) | F23: =IF($A23="","",COUNTIFS(Cotas!$C$2:$C$121,$A23,Cotas!$I$2:$I$121,"Em atraso")+COUNTIFS(Cotas!$C$2:$C$121,$A23,Cotas!$I$2:$I$121,"Parcial em atraso"))
A24: =IF(Unidades!A10="","",Unidades!A10) | B24: =IF($A24="","",SUMIF(Cotas!$C$2:$C$121,$A24,Cotas!$E$2:$E$121)) | C24: =IF($A24="","",SUMIF(Cotas!$C$2:$C$121,$A24,Cotas!$G$2:$G$121)) | D24: =IF($A24="","",SUMIF(Cotas!$C$2:$C$121,$A24,Cotas!$H$2:$H$121)) | E24: =IF($A24="","",SUMIFS(Cotas!$H$2:$H$121,Cotas!$C$2:$C$121,$A24,Cotas!$I$2:$I$121,"Em atraso")+SUMIFS(Cotas!$H$2:$H$121,Cotas!$C$2:$C$121,$A24,Cotas!$I$2:$I$121,"Parcial em atraso")) | F24: =IF($A24="","",COUNTIFS(Cotas!$C$2:$C$121,$A24,Cotas!$I$2:$I$121,"Em atraso")+COUNTIFS(Cotas!$C$2:$C$121,$A24,Cotas!$I$2:$I$121,"Parcial em atraso"))
A25: =IF(Unidades!A11="","",Unidades!A11) | B25: =IF($A25="","",SUMIF(Cotas!$C$2:$C$121,$A25,Cotas!$E$2:$E$121)) | C25: =IF($A25="","",SUMIF(Cotas!$C$2:$C$121,$A25,Cotas!$G$2:$G$121)) | D25: =IF($A25="","",SUMIF(Cotas!$C$2:$C$121,$A25,Cotas!$H$2:$H$121)) | E25: =IF($A25="","",SUMIFS(Cotas!$H$2:$H$121,Cotas!$C$2:$C$121,$A25,Cotas!$I$2:$I$121,"Em atraso")+SUMIFS(Cotas!$H$2:$H$121,Cotas!$C$2:$C$121,$A25,Cotas!$I$2:$I$121,"Parcial em atraso")) | F25: =IF($A25="","",COUNTIFS(Cotas!$C$2:$C$121,$A25,Cotas!$I$2:$I$121,"Em atraso")+COUNTIFS(Cotas!$C$2:$C$121,$A25,Cotas!$I$2:$I$121,"Parcial em atraso"))
A26: =IF(Unidades!A12="","",Unidades!A12) | B26: =IF($A26="","",SUMIF(Cotas!$C$2:$C$121,$A26,Cotas!$E$2:$E$121)) | C26: =IF($A26="","",SUMIF(Cotas!$C$2:$C$121,$A26,Cotas!$G$2:$G$121)) | D26: =IF($A26="","",SUMIF(Cotas!$C$2:$C$121,$A26,Cotas!$H$2:$H$121)) | E26: =IF($A26="","",SUMIFS(Cotas!$H$2:$H$121,Cotas!$C$2:$C$121,$A26,Cotas!$I$2:$I$121,"Em atraso")+SUMIFS(Cotas!$H$2:$H$121,Cotas!$C$2:$C$121,$A26,Cotas!$I$2:$I$121,"Parcial em atraso")) | F26: =IF($A26="","",COUNTIFS(Cotas!$C$2:$C$121,$A26,Cotas!$I$2:$I$121,"Em atraso")+COUNTIFS(Cotas!$C$2:$C$121,$A26,Cotas!$I$2:$I$121,"Parcial em atraso"))
A27: =IF(Unidades!A13="","",Unidades!A13) | B27: =IF($A27="","",SUMIF(Cotas!$C$2:$C$121,$A27,Cotas!$E$2:$E$121)) | C27: =IF($A27="","",SUMIF(Cotas!$C$2:$C$121,$A27,Cotas!$G$2:$G$121)) | D27: =IF($A27="","",SUMIF(Cotas!$C$2:$C$121,$A27,Cotas!$H$2:$H$121)) | E27: =IF($A27="","",SUMIFS(Cotas!$H$2:$H$121,Cotas!$C$2:$C$121,$A27,Cotas!$I$2:$I$121,"Em atraso")+SUMIFS(Cotas!$H$2:$H$121,Cotas!$C$2:$C$121,$A27,Cotas!$I$2:$I$121,"Parcial em atraso")) | F27: =IF($A27="","",COUNTIFS(Cotas!$C$2:$C$121,$A27,Cotas!$I$2:$I$121,"Em atraso")+COUNTIFS(Cotas!$C$2:$C$121,$A27,Cotas!$I$2:$I$121,"Parcial em atraso"))
... A115: =IF(Unidades!A101="","",Unidades!A101) | B115: =IF($A115="","",SUMIF(Cotas!$C$2:$C$121,$A115,Cotas!$E$2:$E$121)) | C115: =IF($A115="","",SUMIF(Cotas!$C$2:$C$121,$A115,Cotas!$G$2:$G$121)) | D115: =IF($A115="","",SUMIF(Cotas!$C$2:$C$121,$A115,Cotas!$H$2:$H$121)) | E115: =IF($A115="","",SUMIFS(Cotas!$H$2:$H$121,Cotas!$C$2:$C$121,$A115,Cotas!$I$2:$I$121,"Em atraso")+SUMIFS(Cotas!$H$2:$H$121,Cotas!$C$2:$C$121,$A115,Cotas!$I$2:$I$121,"Parcial em atraso")) | F115: =IF($A115="","",COUNTIFS(Cotas!$C$2:$C$121,$A115,Cotas!$I$2:$I$121,"Em atraso")+COUNTIFS(Cotas!$C$2:$C$121,$A115,Cotas!$I$2:$I$121,"Parcial em atraso"))

Sheet Cotas
A1: ID da cota | B1: Competência | C1: Unidade | D1: Tipo de cota | E1: Valor emitido | F1: Vencimento | G1: Total pago até a data de referência | H1: Saldo em aberto | I1: Situação | J1: Dias em atraso | K1: Observação administrativa | L1: Lista auxiliar de unidades | M1: Lista auxiliar de tipos
A2: EX-COTA-001 | B2: 46235 | C2: U-FIC-101 | D2: Ordinária | E2: 550 | F2: 46244 | G2: =IF(A2="","",IFERROR(SUMIFS(Recebimentos!$D$2:$D$301,Recebimentos!$B$2:$B$301,A2,Recebimentos!$C$2:$C$301,">=1",Recebimentos!$C$2:$C$301,"<="&Premissas!$B$2),0)) | H2: =IF(OR(A2="",E2="",G2=""),"",IF(OR(NOT(ISNUMBER(E2)),NOT(ISNUMBER(G2))),"",MAX(0,E2-G2))) | I2: =IF(A2="","",IF(OR(B2="",C2="",D2="",E2="",F2="",Premissas!$B$2="",NOT(ISNUMBER(E2)),NOT(ISNUMBER(F2)),NOT(ISNUMBER(G2)),NOT(ISNUMBER(Premissas!$B$2)),NOT(ISNUMBER(Premissas!$B$3)),NOT(ISNUMBER(Premissas!$B$4))),"Revisar",IF(G2>E2+Premissas!$B$4,"Pago a maior",IF(ABS(G2-E2)<=Premissas!$B$4,"Quitada",IF(F2<Premissas!$B$2,IF(G2>Premissas!$B$4,"Parcial em atraso","Em atraso"),IF(F2-Premissas!$B$2<=Premissas!$B$3,IF(G2>Premissas!$B$4,"Parcial a vencer","A vencer"),IF(G2>Premissas!$B$4,"Parcial em aberto","Em aberto"))))))) | J2: =IF(OR(A2="",F2="",H2="",Premissas!$B$2=""),"",IF(OR(NOT(ISNUMBER(F2)),NOT(ISNUMBER(H2)),NOT(ISNUMBER(Premissas!$B$2)),NOT(ISNUMBER(Premissas!$B$4))),"",IF(OR(H2<=Premissas!$B$4,F2>=Premissas!$B$2),"",Premissas!$B$2-F2))) | K2: EXEMPLO FICTÍCIO | L2: =IF(Unidades!A2="","",Unidades!A2) | M2: =IF(Premissas!D2="","",Premissas!D2)
A3: EX-COTA-002 | B3: 46235 | C3: U-FIC-102 | D3: Ordinária | E3: 620 | F3: 46244 | G3: =IF(A3="","",IFERROR(SUMIFS(Recebimentos!$D$2:$D$301,Recebimentos!$B$2:$B$301,A3,Recebimentos!$C$2:$C$301,">=1",Recebimentos!$C$2:$C$301,"<="&Premissas!$B$2),0)) | H3: =IF(OR(A3="",E3="",G3=""),"",IF(OR(NOT(ISNUMBER(E3)),NOT(ISNUMBER(G3))),"",MAX(0,E3-G3))) | I3: =IF(A3="","",IF(OR(B3="",C3="",D3="",E3="",F3="",Premissas!$B$2="",NOT(ISNUMBER(E3)),NOT(ISNUMBER(F3)),NOT(ISNUMBER(G3)),NOT(ISNUMBER(Premissas!$B$2)),NOT(ISNUMBER(Premissas!$B$3)),NOT(ISNUMBER(Premissas!$B$4))),"Revisar",IF(G3>E3+Premissas!$B$4,"Pago a maior",IF(ABS(G3-E3)<=Premissas!$B$4,"Quitada",IF(F3<Premissas!$B$2,IF(G3>Premissas!$B$4,"Parcial em atraso","Em atraso"),IF(F3-Premissas!$B$2<=Premissas!$B$3,IF(G3>Premissas!$B$4,"Parcial a vencer","A vencer"),IF(G3>Premissas!$B$4,"Parcial em aberto","Em aberto"))))))) | J3: =IF(OR(A3="",F3="",H3="",Premissas!$B$2=""),"",IF(OR(NOT(ISNUMBER(F3)),NOT(ISNUMBER(H3)),NOT(ISNUMBER(Premissas!$B$2)),NOT(ISNUMBER(Premissas!$B$4))),"",IF(OR(H3<=Premissas!$B$4,F3>=Premissas!$B$2),"",Premissas!$B$2-F3))) | K3: EXEMPLO FICTÍCIO | L3: =IF(Unidades!A3="","",Unidades!A3) | M3: =IF(Premissas!D3="","",Premissas!D3)
A4: EX-COTA-003 | B4: 46235 | C4: U-FIC-201 | D4: Ordinária | E4: 580 | F4: 46244 | G4: =IF(A4="","",IFERROR(SUMIFS(Recebimentos!$D$2:$D$301,Recebimentos!$B$2:$B$301,A4,Recebimentos!$C$2:$C$301,">=1",Recebimentos!$C$2:$C$301,"<="&Premissas!$B$2),0)) | H4: =IF(OR(A4="",E4="",G4=""),"",IF(OR(NOT(ISNUMBER(E4)),NOT(ISNUMBER(G4))),"",MAX(0,E4-G4))) | I4: =IF(A4="","",IF(OR(B4="",C4="",D4="",E4="",F4="",Premissas!$B$2="",NOT(ISNUMBER(E4)),NOT(ISNUMBER(F4)),NOT(ISNUMBER(G4)),NOT(ISNUMBER(Premissas!$B$2)),NOT(ISNUMBER(Premissas!$B$3)),NOT(ISNUMBER(Premissas!$B$4))),"Revisar",IF(G4>E4+Premissas!$B$4,"Pago a maior",IF(ABS(G4-E4)<=Premissas!$B$4,"Quitada",IF(F4<Premissas!$B$2,IF(G4>Premissas!$B$4,"Parcial em atraso","Em atraso"),IF(F4-Premissas!$B$2<=Premissas!$B$3,IF(G4>Premissas!$B$4,"Parcial a vencer","A vencer"),IF(G4>Premissas!$B$4,"Parcial em aberto","Em aberto"))))))) | J4: =IF(OR(A4="",F4="",H4="",Premissas!$B$2=""),"",IF(OR(NOT(ISNUMBER(F4)),NOT(ISNUMBER(H4)),NOT(ISNUMBER(Premissas!$B$2)),NOT(ISNUMBER(Premissas!$B$4))),"",IF(OR(H4<=Premissas!$B$4,F4>=Premissas!$B$2),"",Premissas!$B$2-F4))) | K4: EXEMPLO FICTÍCIO | L4: =IF(Unidades!A4="","",Unidades!A4) | M4: =IF(Premissas!D4="","",Premissas!D4)
A5: EX-COTA-004 | B5: 46266 | C5: U-FIC-202 | D5: Ordinária | E5: 600 | F5: 46275 | G5: =IF(A5="","",IFERROR(SUMIFS(Recebimentos!$D$2:$D$301,Recebimentos!$B$2:$B$301,A5,Recebimentos!$C$2:$C$301,">=1",Recebimentos!$C$2:$C$301,"<="&Premissas!$B$2),0)) | H5: =IF(OR(A5="",E5="",G5=""),"",IF(OR(NOT(ISNUMBER(E5)),NOT(ISNUMBER(G5))),"",MAX(0,E5-G5))) | I5: =IF(A5="","",IF(OR(B5="",C5="",D5="",E5="",F5="",Premissas!$B$2="",NOT(ISNUMBER(E5)),NOT(ISNUMBER(F5)),NOT(ISNUMBER(G5)),NOT(ISNUMBER(Premissas!$B$2)),NOT(ISNUMBER(Premissas!$B$3)),NOT(ISNUMBER(Premissas!$B$4))),"Revisar",IF(G5>E5+Premissas!$B$4,"Pago a maior",IF(ABS(G5-E5)<=Premissas!$B$4,"Quitada",IF(F5<Premissas!$B$2,IF(G5>Premissas!$B$4,"Parcial em atraso","Em atraso"),IF(F5-Premissas!$B$2<=Premissas!$B$3,IF(G5>Premissas!$B$4,"Parcial a vencer","A vencer"),IF(G5>Premissas!$B$4,"Parcial em aberto","Em aberto"))))))) | J5: =IF(OR(A5="",F5="",H5="",Premissas!$B$2=""),"",IF(OR(NOT(ISNUMBER(F5)),NOT(ISNUMBER(H5)),NOT(ISNUMBER(Premissas!$B$2)),NOT(ISNUMBER(Premissas!$B$4))),"",IF(OR(H5<=Premissas!$B$4,F5>=Premissas!$B$2),"",Premissas!$B$2-F5))) | K5: EXEMPLO FICTÍCIO | L5: =IF(Unidades!A5="","",Unidades!A5) | M5: =IF(Premissas!D5="","",Premissas!D5)
A6: EX-COTA-005 | B6: 46266 | C6: U-FIC-101 | D6: Ordinária | E6: 550 | F6: 46285 | G6: =IF(A6="","",IFERROR(SUMIFS(Recebimentos!$D$2:$D$301,Recebimentos!$B$2:$B$301,A6,Recebimentos!$C$2:$C$301,">=1",Recebimentos!$C$2:$C$301,"<="&Premissas!$B$2),0)) | H6: =IF(OR(A6="",E6="",G6=""),"",IF(OR(NOT(ISNUMBER(E6)),NOT(ISNUMBER(G6))),"",MAX(0,E6-G6))) | I6: =IF(A6="","",IF(OR(B6="",C6="",D6="",E6="",F6="",Premissas!$B$2="",NOT(ISNUMBER(E6)),NOT(ISNUMBER(F6)),NOT(ISNUMBER(G6)),NOT(ISNUMBER(Premissas!$B$2)),NOT(ISNUMBER(Premissas!$B$3)),NOT(ISNUMBER(Premissas!$B$4))),"Revisar",IF(G6>E6+Premissas!$B$4,"Pago a maior",IF(ABS(G6-E6)<=Premissas!$B$4,"Quitada",IF(F6<Premissas!$B$2,IF(G6>Premissas!$B$4,"Parcial em atraso","Em atraso"),IF(F6-Premissas!$B$2<=Premissas!$B$3,IF(G6>Premissas!$B$4,"Parcial a vencer","A vencer"),IF(G6>Premissas!$B$4,"Parcial em aberto","Em aberto"))))))) | J6: =IF(OR(A6="",F6="",H6="",Premissas!$B$2=""),"",IF(OR(NOT(ISNUMBER(F6)),NOT(ISNUMBER(H6)),NOT(ISNUMBER(Premissas!$B$2)),NOT(ISNUMBER(Premissas!$B$4))),"",IF(OR(H6<=Premissas!$B$4,F6>=Premissas!$B$2),"",Premissas!$B$2-F6))) | K6: EXEMPLO FICTÍCIO | L6: =IF(Unidades!A6="","",Unidades!A6) | M6: =IF(Premissas!D6="","",Premissas!D6)
A7: EX-COTA-006 | B7: 46266 | C7: U-FIC-102 | D7: Ordinária | E7: 620 | F7: 46295 | G7: =IF(A7="","",IFERROR(SUMIFS(Recebimentos!$D$2:$D$301,Recebimentos!$B$2:$B$301,A7,Recebimentos!$C$2:$C$301,">=1",Recebimentos!$C$2:$C$301,"<="&Premissas!$B$2),0)) | H7: =IF(OR(A7="",E7="",G7=""),"",IF(OR(NOT(ISNUMBER(E7)),NOT(ISNUMBER(G7))),"",MAX(0,E7-G7))) | I7: =IF(A7="","",IF(OR(B7="",C7="",D7="",E7="",F7="",Premissas!$B$2="",NOT(ISNUMBER(E7)),NOT(ISNUMBER(F7)),NOT(ISNUMBER(G7)),NOT(ISNUMBER(Premissas!$B$2)),NOT(ISNUMBER(Premissas!$B$3)),NOT(ISNUMBER(Premissas!$B$4))),"Revisar",IF(G7>E7+Premissas!$B$4,"Pago a maior",IF(ABS(G7-E7)<=Premissas!$B$4,"Quitada",IF(F7<Premissas!$B$2,IF(G7>Premissas!$B$4,"Parcial em atraso","Em atraso"),IF(F7-Premissas!$B$2<=Premissas!$B$3,IF(G7>Premissas!$B$4,"Parcial a vencer","A vencer"),IF(G7>Premissas!$B$4,"Parcial em aberto","Em aberto"))))))) | J7: =IF(OR(A7="",F7="",H7="",Premissas!$B$2=""),"",IF(OR(NOT(ISNUMBER(F7)),NOT(ISNUMBER(H7)),NOT(ISNUMBER(Premissas!$B$2)),NOT(ISNUMBER(Premissas!$B$4))),"",IF(OR(H7<=Premissas!$B$4,F7>=Premissas!$B$2),"",Premissas!$B$2-F7))) | K7: EXEMPLO FICTÍCIO | L7: =IF(Unidades!A7="","",Unidades!A7) | M7: =IF(Premissas!D7="","",Premissas!D7)
A8: EX-COTA-007 | B8: 46266 | C8: U-FIC-201 | D8: Extraordinária | E8: 1000 | F8: 46280 | G8: =IF(A8="","",IFERROR(SUMIFS(Recebimentos!$D$2:$D$301,Recebimentos!$B$2:$B$301,A8,Recebimentos!$C$2:$C$301,">=1",Recebimentos!$C$2:$C$301,"<="&Premissas!$B$2),0)) | H8: =IF(OR(A8="",E8="",G8=""),"",IF(OR(NOT(ISNUMBER(E8)),NOT(ISNUMBER(G8))),"",MAX(0,E8-G8))) | I8: =IF(A8="","",IF(OR(B8="",C8="",D8="",E8="",F8="",Premissas!$B$2="",NOT(ISNUMBER(E8)),NOT(ISNUMBER(F8)),NOT(ISNUMBER(G8)),NOT(ISNUMBER(Premissas!$B$2)),NOT(ISNUMBER(Premissas!$B$3)),NOT(ISNUMBER(Premissas!$B$4))),"Revisar",IF(G8>E8+Premissas!$B$4,"Pago a maior",IF(ABS(G8-E8)<=Premissas!$B$4,"Quitada",IF(F8<Premissas!$B$2,IF(G8>Premissas!$B$4,"Parcial em atraso","Em atraso"),IF(F8-Premissas!$B$2<=Premissas!$B$3,IF(G8>Premissas!$B$4,"Parcial a vencer","A vencer"),IF(G8>Premissas!$B$4,"Parcial em aberto","Em aberto"))))))) | J8: =IF(OR(A8="",F8="",H8="",Premissas!$B$2=""),"",IF(OR(NOT(ISNUMBER(F8)),NOT(ISNUMBER(H8)),NOT(ISNUMBER(Premissas!$B$2)),NOT(ISNUMBER(Premissas!$B$4))),"",IF(OR(H8<=Premissas!$B$4,F8>=Premissas!$B$2),"",Premissas!$B$2-F8))) | K8: EXEMPLO FICTÍCIO | L8: =IF(Unidades!A8="","",Unidades!A8) | M8: =IF(Premissas!D8="","",Premissas!D8)
A9: EX-COTA-008 | B9: 46266 | C9: U-FIC-202 | D9: Extraordinária | E9: 900 | F9: 46280 | G9: =IF(A9="","",IFERROR(SUMIFS(Recebimentos!$D$2:$D$301,Recebimentos!$B$2:$B$301,A9,Recebimentos!$C$2:$C$301,">=1",Recebimentos!$C$2:$C$301,"<="&Premissas!$B$2),0)) | H9: =IF(OR(A9="",E9="",G9=""),"",IF(OR(NOT(ISNUMBER(E9)),NOT(ISNUMBER(G9))),"",MAX(0,E9-G9))) | I9: =IF(A9="","",IF(OR(B9="",C9="",D9="",E9="",F9="",Premissas!$B$2="",NOT(ISNUMBER(E9)),NOT(ISNUMBER(F9)),NOT(ISNUMBER(G9)),NOT(ISNUMBER(Premissas!$B$2)),NOT(ISNUMBER(Premissas!$B$3)),NOT(ISNUMBER(Premissas!$B$4))),"Revisar",IF(G9>E9+Premissas!$B$4,"Pago a maior",IF(ABS(G9-E9)<=Premissas!$B$4,"Quitada",IF(F9<Premissas!$B$2,IF(G9>Premissas!$B$4,"Parcial em atraso","Em atraso"),IF(F9-Premissas!$B$2<=Premissas!$B$3,IF(G9>Premissas!$B$4,"Parcial a vencer","A vencer"),IF(G9>Premissas!$B$4,"Parcial em aberto","Em aberto"))))))) | J9: =IF(OR(A9="",F9="",H9="",Premissas!$B$2=""),"",IF(OR(NOT(ISNUMBER(F9)),NOT(ISNUMBER(H9)),NOT(ISNUMBER(Premissas!$B$2)),NOT(ISNUMBER(Premissas!$B$4))),"",IF(OR(H9<=Premissas!$B$4,F9>=Premissas!$B$2),"",Premissas!$B$2-F9))) | K9: EXEMPLO FICTÍCIO | L9: =IF(Unidades!A9="","",Unidades!A9) | M9: =IF(Premissas!D9="","",Premissas!D9)
A10: EX-COTA-009 | B10: 46204 | C10: U-FIC-301 | D10: Fundo de reserva | E10: 200 | F10: 46208 | G10: =IF(A10="","",IFERROR(SUMIFS(Recebimentos!$D$2:$D$301,Recebimentos!$B$2:$B$301,A10,Recebimentos!$C$2:$C$301,">=1",Recebimentos!$C$2:$C$301,"<="&Premissas!$B$2),0)) | H10: =IF(OR(A10="",E10="",G10=""),"",IF(OR(NOT(ISNUMBER(E10)),NOT(ISNUMBER(G10))),"",MAX(0,E10-G10))) | I10: =IF(A10="","",IF(OR(B10="",C10="",D10="",E10="",F10="",Premissas!$B$2="",NOT(ISNUMBER(E10)),NOT(ISNUMBER(F10)),NOT(ISNUMBER(G10)),NOT(ISNUMBER(Premissas!$B$2)),NOT(ISNUMBER(Premissas!$B$3)),NOT(ISNUMBER(Premissas!$B$4))),"Revisar",IF(G10>E10+Premissas!$B$4,"Pago a maior",IF(ABS(G10-E10)<=Premissas!$B$4,"Quitada",IF(F10<Premissas!$B$2,IF(G10>Premissas!$B$4,"Parcial em atraso","Em atraso"),IF(F10-Premissas!$B$2<=Premissas!$B$3,IF(G10>Premissas!$B$4,"Parcial a vencer","A vencer"),IF(G10>Premissas!$B$4,"Parcial em aberto","Em aberto"))))))) | J10: =IF(OR(A10="",F10="",H10="",Premissas!$B$2=""),"",IF(OR(NOT(ISNUMBER(F10)),NOT(ISNUMBER(H10)),NOT(ISNUMBER(Premissas!$B$2)),NOT(ISNUMBER(Premissas!$B$4))),"",IF(OR(H10<=Premissas!$B$4,F10>=Premissas!$B$2),"",Premissas!$B$2-F10))) | K10: EXEMPLO FICTÍCIO | L10: =IF(Unidades!A10="","",Unidades!A10) | M10: =IF(Premissas!D10="","",Premissas!D10)
A11: EX-COTA-010 | B11: 46296 | C11: U-FIC-302 | D11: Ordinária | E11: 700 | F11: 46305 | G11: =IF(A11="","",IFERROR(SUMIFS(Recebimentos!$D$2:$D$301,Recebimentos!$B$2:$B$301,A11,Recebimentos!$C$2:$C$301,">=1",Recebimentos!$C$2:$C$301,"<="&Premissas!$B$2),0)) | H11: =IF(OR(A11="",E11="",G11=""),"",IF(OR(NOT(ISNUMBER(E11)),NOT(ISNUMBER(G11))),"",MAX(0,E11-G11))) | I11: =IF(A11="","",IF(OR(B11="",C11="",D11="",E11="",F11="",Premissas!$B$2="",NOT(ISNUMBER(E11)),NOT(ISNUMBER(F11)),NOT(ISNUMBER(G11)),NOT(ISNUMBER(Premissas!$B$2)),NOT(ISNUMBER(Premissas!$B$3)),NOT(ISNUMBER(Premissas!$B$4))),"Revisar",IF(G11>E11+Premissas!$B$4,"Pago a maior",IF(ABS(G11-E11)<=Premissas!$B$4,"Quitada",IF(F11<Premissas!$B$2,IF(G11>Premissas!$B$4,"Parcial em atraso","Em atraso"),IF(F11-Premissas!$B$2<=Premissas!$B$3,IF(G11>Premissas!$B$4,"Parcial a vencer","A vencer"),IF(G11>Premissas!$B$4,"Parcial em aberto","Em aberto"))))))) | J11: =IF(OR(A11="",F11="",H11="",Premissas!$B$2=""),"",IF(OR(NOT(ISNUMBER(F11)),NOT(ISNUMBER(H11)),NOT(ISNUMBER(Premissas!$B$2)),NOT(ISNUMBER(Premissas!$B$4))),"",IF(OR(H11<=Premissas!$B$4,F11>=Premissas!$B$2),"",Premissas!$B$2-F11))) | K11: EXEMPLO FICTÍCIO | L11: =IF(Unidades!A11="","",Unidades!A11) | M11: =IF(Premissas!D11="","",Premissas!D11)
G12: =IF(A12="","",IFERROR(SUMIFS(Recebimentos!$D$2:$D$301,Recebimentos!$B$2:$B$301,A12,Recebimentos!$C$2:$C$301,">=1",Recebimentos!$C$2:$C$301,"<="&Premissas!$B$2),0)) | H12: =IF(OR(A12="",E12="",G12=""),"",IF(OR(NOT(ISNUMBER(E12)),NOT(ISNUMBER(G12))),"",MAX(0,E12-G12))) | I12: =IF(A12="","",IF(OR(B12="",C12="",D12="",E12="",F12="",Premissas!$B$2="",NOT(ISNUMBER(E12)),NOT(ISNUMBER(F12)),NOT(ISNUMBER(G12)),NOT(ISNUMBER(Premissas!$B$2)),NOT(ISNUMBER(Premissas!$B$3)),NOT(ISNUMBER(Premissas!$B$4))),"Revisar",IF(G12>E12+Premissas!$B$4,"Pago a maior",IF(ABS(G12-E12)<=Premissas!$B$4,"Quitada",IF(F12<Premissas!$B$2,IF(G12>Premissas!$B$4,"Parcial em atraso","Em atraso"),IF(F12-Premissas!$B$2<=Premissas!$B$3,IF(G12>Premissas!$B$4,"Parcial a vencer","A vencer"),IF(G12>Premissas!$B$4,"Parcial em aberto","Em aberto"))))))) | J12: =IF(OR(A12="",F12="",H12="",Premissas!$B$2=""),"",IF(OR(NOT(ISNUMBER(F12)),NOT(ISNUMBER(H12)),NOT(ISNUMBER(Premissas!$B$2)),NOT(ISNUMBER(Premissas!$B$4))),"",IF(OR(H12<=Premissas!$B$4,F12>=Premissas!$B$2),"",Premissas!$B$2-F12))) | L12: =IF(Unidades!A12="","",Unidades!A12) | M12: =IF(Premissas!D12="","",Premissas!D12)
G13: =IF(A13="","",IFERROR(SUMIFS(Recebimentos!$D$2:$D$301,Recebimentos!$B$2:$B$301,A13,Recebimentos!$C$2:$C$301,">=1",Recebimentos!$C$2:$C$301,"<="&Premissas!$B$2),0)) | H13: =IF(OR(A13="",E13="",G13=""),"",IF(OR(NOT(ISNUMBER(E13)),NOT(ISNUMBER(G13))),"",MAX(0,E13-G13))) | I13: =IF(A13="","",IF(OR(B13="",C13="",D13="",E13="",F13="",Premissas!$B$2="",NOT(ISNUMBER(E13)),NOT(ISNUMBER(F13)),NOT(ISNUMBER(G13)),NOT(ISNUMBER(Premissas!$B$2)),NOT(ISNUMBER(Premissas!$B$3)),NOT(ISNUMBER(Premissas!$B$4))),"Revisar",IF(G13>E13+Premissas!$B$4,"Pago a maior",IF(ABS(G13-E13)<=Premissas!$B$4,"Quitada",IF(F13<Premissas!$B$2,IF(G13>Premissas!$B$4,"Parcial em atraso","Em atraso"),IF(F13-Premissas!$B$2<=Premissas!$B$3,IF(G13>Premissas!$B$4,"Parcial a vencer","A vencer"),IF(G13>Premissas!$B$4,"Parcial em aberto","Em aberto"))))))) | J13: =IF(OR(A13="",F13="",H13="",Premissas!$B$2=""),"",IF(OR(NOT(ISNUMBER(F13)),NOT(ISNUMBER(H13)),NOT(ISNUMBER(Premissas!$B$2)),NOT(ISNUMBER(Premissas!$B$4))),"",IF(OR(H13<=Premissas!$B$4,F13>=Premissas!$B$2),"",Premissas!$B$2-F13))) | L13: =IF(Unidades!A13="","",Unidades!A13) | M13: =IF(Premissas!D13="","",Premissas!D13)
G14: =IF(A14="","",IFERROR(SUMIFS(Recebimentos!$D$2:$D$301,Recebimentos!$B$2:$B$301,A14,Recebimentos!$C$2:$C$301,">=1",Recebimentos!$C$2:$C$301,"<="&Premissas!$B$2),0)) | H14: =IF(OR(A14="",E14="",G14=""),"",IF(OR(NOT(ISNUMBER(E14)),NOT(ISNUMBER(G14))),"",MAX(0,E14-G14))) | I14: =IF(A14="","",IF(OR(B14="",C14="",D14="",E14="",F14="",Premissas!$B$2="",NOT(ISNUMBER(E14)),NOT(ISNUMBER(F14)),NOT(ISNUMBER(G14)),NOT(ISNUMBER(Premissas!$B$2)),NOT(ISNUMBER(Premissas!$B$3)),NOT(ISNUMBER(Premissas!$B$4))),"Revisar",IF(G14>E14+Premissas!$B$4,"Pago a maior",IF(ABS(G14-E14)<=Premissas!$B$4,"Quitada",IF(F14<Premissas!$B$2,IF(G14>Premissas!$B$4,"Parcial em atraso","Em atraso"),IF(F14-Premissas!$B$2<=Premissas!$B$3,IF(G14>Premissas!$B$4,"Parcial a vencer","A vencer"),IF(G14>Premissas!$B$4,"Parcial em aberto","Em aberto"))))))) | J14: =IF(OR(A14="",F14="",H14="",Premissas!$B$2=""),"",IF(OR(NOT(ISNUMBER(F14)),NOT(ISNUMBER(H14)),NOT(ISNUMBER(Premissas!$B$2)),NOT(ISNUMBER(Premissas!$B$4))),"",IF(OR(H14<=Premissas!$B$4,F14>=Premissas!$B$2),"",Premissas!$B$2-F14))) | L14: =IF(Unidades!A14="","",Unidades!A14) | M14: =IF(Premissas!D14="","",Premissas!D14)
G15: =IF(A15="","",IFERROR(SUMIFS(Recebimentos!$D$2:$D$301,Recebimentos!$B$2:$B$301,A15,Recebimentos!$C$2:$C$301,">=1",Recebimentos!$C$2:$C$301,"<="&Premissas!$B$2),0)) | H15: =IF(OR(A15="",E15="",G15=""),"",IF(OR(NOT(ISNUMBER(E15)),NOT(ISNUMBER(G15))),"",MAX(0,E15-G15))) | I15: =IF(A15="","",IF(OR(B15="",C15="",D15="",E15="",F15="",Premissas!$B$2="",NOT(ISNUMBER(E15)),NOT(ISNUMBER(F15)),NOT(ISNUMBER(G15)),NOT(ISNUMBER(Premissas!$B$2)),NOT(ISNUMBER(Premissas!$B$3)),NOT(ISNUMBER(Premissas!$B$4))),"Revisar",IF(G15>E15+Premissas!$B$4,"Pago a maior",IF(ABS(G15-E15)<=Premissas!$B$4,"Quitada",IF(F15<Premissas!$B$2,IF(G15>Premissas!$B$4,"Parcial em atraso","Em atraso"),IF(F15-Premissas!$B$2<=Premissas!$B$3,IF(G15>Premissas!$B$4,"Parcial a vencer","A vencer"),IF(G15>Premissas!$B$4,"Parcial em aberto","Em aberto"))))))) | J15: =IF(OR(A15="",F15="",H15="",Premissas!$B$2=""),"",IF(OR(NOT(ISNUMBER(F15)),NOT(ISNUMBER(H15)),NOT(ISNUMBER(Premissas!$B$2)),NOT(ISNUMBER(Premissas!$B$4))),"",IF(OR(H15<=Premissas!$B$4,F15>=Premissas!$B$2),"",Premissas!$B$2-F15))) | L15: =IF(Unidades!A15="","",Unidades!A15) | M15: =IF(Premissas!D15="","",Premissas!D15)
G16: =IF(A16="","",IFERROR(SUMIFS(Recebimentos!$D$2:$D$301,Recebimentos!$B$2:$B$301,A16,Recebimentos!$C$2:$C$301,">=1",Recebimentos!$C$2:$C$301,"<="&Premissas!$B$2),0)) | H16: =IF(OR(A16="",E16="",G16=""),"",IF(OR(NOT(ISNUMBER(E16)),NOT(ISNUMBER(G16))),"",MAX(0,E16-G16))) | I16: =IF(A16="","",IF(OR(B16="",C16="",D16="",E16="",F16="",Premissas!$B$2="",NOT(ISNUMBER(E16)),NOT(ISNUMBER(F16)),NOT(ISNUMBER(G16)),NOT(ISNUMBER(Premissas!$B$2)),NOT(ISNUMBER(Premissas!$B$3)),NOT(ISNUMBER(Premissas!$B$4))),"Revisar",IF(G16>E16+Premissas!$B$4,"Pago a maior",IF(ABS(G16-E16)<=Premissas!$B$4,"Quitada",IF(F16<Premissas!$B$2,IF(G16>Premissas!$B$4,"Parcial em atraso","Em atraso"),IF(F16-Premissas!$B$2<=Premissas!$B$3,IF(G16>Premissas!$B$4,"Parcial a vencer","A vencer"),IF(G16>Premissas!$B$4,"Parcial em aberto","Em aberto"))))))) | J16: =IF(OR(A16="",F16="",H16="",Premissas!$B$2=""),"",IF(OR(NOT(ISNUMBER(F16)),NOT(ISNUMBER(H16)),NOT(ISNUMBER(Premissas!$B$2)),NOT(ISNUMBER(Premissas!$B$4))),"",IF(OR(H16<=Premissas!$B$4,F16>=Premissas!$B$2),"",Premissas!$B$2-F16))) | L16: =IF(Unidades!A16="","",Unidades!A16) | M16: =IF(Premissas!D16="","",Premissas!D16)
G17: =IF(A17="","",IFERROR(SUMIFS(Recebimentos!$D$2:$D$301,Recebimentos!$B$2:$B$301,A17,Recebimentos!$C$2:$C$301,">=1",Recebimentos!$C$2:$C$301,"<="&Premissas!$B$2),0)) | H17: =IF(OR(A17="",E17="",G17=""),"",IF(OR(NOT(ISNUMBER(E17)),NOT(ISNUMBER(G17))),"",MAX(0,E17-G17))) | I17: =IF(A17="","",IF(OR(B17="",C17="",D17="",E17="",F17="",Premissas!$B$2="",NOT(ISNUMBER(E17)),NOT(ISNUMBER(F17)),NOT(ISNUMBER(G17)),NOT(ISNUMBER(Premissas!$B$2)),NOT(ISNUMBER(Premissas!$B$3)),NOT(ISNUMBER(Premissas!$B$4))),"Revisar",IF(G17>E17+Premissas!$B$4,"Pago a maior",IF(ABS(G17-E17)<=Premissas!$B$4,"Quitada",IF(F17<Premissas!$B$2,IF(G17>Premissas!$B$4,"Parcial em atraso","Em atraso"),IF(F17-Premissas!$B$2<=Premissas!$B$3,IF(G17>Premissas!$B$4,"Parcial a vencer","A vencer"),IF(G17>Premissas!$B$4,"Parcial em aberto","Em aberto"))))))) | J17: =IF(OR(A17="",F17="",H17="",Premissas!$B$2=""),"",IF(OR(NOT(ISNUMBER(F17)),NOT(ISNUMBER(H17)),NOT(ISNUMBER(Premissas!$B$2)),NOT(ISNUMBER(Premissas!$B$4))),"",IF(OR(H17<=Premissas!$B$4,F17>=Premissas!$B$2),"",Premissas!$B$2-F17))) | L17: =IF(Unidades!A17="","",Unidades!A17) | M17: =IF(Premissas!D17="","",Premissas!D17)
G18: =IF(A18="","",IFERROR(SUMIFS(Recebimentos!$D$2:$D$301,Recebimentos!$B$2:$B$301,A18,Recebimentos!$C$2:$C$301,">=1",Recebimentos!$C$2:$C$301,"<="&Premissas!$B$2),0)) | H18: =IF(OR(A18="",E18="",G18=""),"",IF(OR(NOT(ISNUMBER(E18)),NOT(ISNUMBER(G18))),"",MAX(0,E18-G18))) | I18: =IF(A18="","",IF(OR(B18="",C18="",D18="",E18="",F18="",Premissas!$B$2="",NOT(ISNUMBER(E18)),NOT(ISNUMBER(F18)),NOT(ISNUMBER(G18)),NOT(ISNUMBER(Premissas!$B$2)),NOT(ISNUMBER(Premissas!$B$3)),NOT(ISNUMBER(Premissas!$B$4))),"Revisar",IF(G18>E18+Premissas!$B$4,"Pago a maior",IF(ABS(G18-E18)<=Premissas!$B$4,"Quitada",IF(F18<Premissas!$B$2,IF(G18>Premissas!$B$4,"Parcial em atraso","Em atraso"),IF(F18-Premissas!$B$2<=Premissas!$B$3,IF(G18>Premissas!$B$4,"Parcial a vencer","A vencer"),IF(G18>Premissas!$B$4,"Parcial em aberto","Em aberto"))))))) | J18: =IF(OR(A18="",F18="",H18="",Premissas!$B$2=""),"",IF(OR(NOT(ISNUMBER(F18)),NOT(ISNUMBER(H18)),NOT(ISNUMBER(Premissas!$B$2)),NOT(ISNUMBER(Premissas!$B$4))),"",IF(OR(H18<=Premissas!$B$4,F18>=Premissas!$B$2),"",Premissas!$B$2-F18))) | L18: =IF(Unidades!A18="","",Unidades!A18) | M18: =IF(Premissas!D18="","",Premissas!D18)
G19: =IF(A19="","",IFERROR(SUMIFS(Recebimentos!$D$2:$D$301,Recebimentos!$B$2:$B$301,A19,Recebimentos!$C$2:$C$301,">=1",Recebimentos!$C$2:$C$301,"<="&Premissas!$B$2),0)) | H19: =IF(OR(A19="",E19="",G19=""),"",IF(OR(NOT(ISNUMBER(E19)),NOT(ISNUMBER(G19))),"",MAX(0,E19-G19))) | I19: =IF(A19="","",IF(OR(B19="",C19="",D19="",E19="",F19="",Premissas!$B$2="",NOT(ISNUMBER(E19)),NOT(ISNUMBER(F19)),NOT(ISNUMBER(G19)),NOT(ISNUMBER(Premissas!$B$2)),NOT(ISNUMBER(Premissas!$B$3)),NOT(ISNUMBER(Premissas!$B$4))),"Revisar",IF(G19>E19+Premissas!$B$4,"Pago a maior",IF(ABS(G19-E19)<=Premissas!$B$4,"Quitada",IF(F19<Premissas!$B$2,IF(G19>Premissas!$B$4,"Parcial em atraso","Em atraso"),IF(F19-Premissas!$B$2<=Premissas!$B$3,IF(G19>Premissas!$B$4,"Parcial a vencer","A vencer"),IF(G19>Premissas!$B$4,"Parcial em aberto","Em aberto"))))))) | J19: =IF(OR(A19="",F19="",H19="",Premissas!$B$2=""),"",IF(OR(NOT(ISNUMBER(F19)),NOT(ISNUMBER(H19)),NOT(ISNUMBER(Premissas!$B$2)),NOT(ISNUMBER(Premissas!$B$4))),"",IF(OR(H19<=Premissas!$B$4,F19>=Premissas!$B$2),"",Premissas!$B$2-F19))) | L19: =IF(Unidades!A19="","",Unidades!A19) | M19: =IF(Premissas!D19="","",Premissas!D19)
G20: =IF(A20="","",IFERROR(SUMIFS(Recebimentos!$D$2:$D$301,Recebimentos!$B$2:$B$301,A20,Recebimentos!$C$2:$C$301,">=1",Recebimentos!$C$2:$C$301,"<="&Premissas!$B$2),0)) | H20: =IF(OR(A20="",E20="",G20=""),"",IF(OR(NOT(ISNUMBER(E20)),NOT(ISNUMBER(G20))),"",MAX(0,E20-G20))) | I20: =IF(A20="","",IF(OR(B20="",C20="",D20="",E20="",F20="",Premissas!$B$2="",NOT(ISNUMBER(E20)),NOT(ISNUMBER(F20)),NOT(ISNUMBER(G20)),NOT(ISNUMBER(Premissas!$B$2)),NOT(ISNUMBER(Premissas!$B$3)),NOT(ISNUMBER(Premissas!$B$4))),"Revisar",IF(G20>E20+Premissas!$B$4,"Pago a maior",IF(ABS(G20-E20)<=Premissas!$B$4,"Quitada",IF(F20<Premissas!$B$2,IF(G20>Premissas!$B$4,"Parcial em atraso","Em atraso"),IF(F20-Premissas!$B$2<=Premissas!$B$3,IF(G20>Premissas!$B$4,"Parcial a vencer","A vencer"),IF(G20>Premissas!$B$4,"Parcial em aberto","Em aberto"))))))) | J20: =IF(OR(A20="",F20="",H20="",Premissas!$B$2=""),"",IF(OR(NOT(ISNUMBER(F20)),NOT(ISNUMBER(H20)),NOT(ISNUMBER(Premissas!$B$2)),NOT(ISNUMBER(Premissas!$B$4))),"",IF(OR(H20<=Premissas!$B$4,F20>=Premissas!$B$2),"",Premissas!$B$2-F20))) | L20: =IF(Unidades!A20="","",Unidades!A20) | M20: =IF(Premissas!D20="","",Premissas!D20)
G21: =IF(A21="","",IFERROR(SUMIFS(Recebimentos!$D$2:$D$301,Recebimentos!$B$2:$B$301,A21,Recebimentos!$C$2:$C$301,">=1",Recebimentos!$C$2:$C$301,"<="&Premissas!$B$2),0)) | H21: =IF(OR(A21="",E21="",G21=""),"",IF(OR(NOT(ISNUMBER(E21)),NOT(ISNUMBER(G21))),"",MAX(0,E21-G21))) | I21: =IF(A21="","",IF(OR(B21="",C21="",D21="",E21="",F21="",Premissas!$B$2="",NOT(ISNUMBER(E21)),NOT(ISNUMBER(F21)),NOT(ISNUMBER(G21)),NOT(ISNUMBER(Premissas!$B$2)),NOT(ISNUMBER(Premissas!$B$3)),NOT(ISNUMBER(Premissas!$B$4))),"Revisar",IF(G21>E21+Premissas!$B$4,"Pago a maior",IF(ABS(G21-E21)<=Premissas!$B$4,"Quitada",IF(F21<Premissas!$B$2,IF(G21>Premissas!$B$4,"Parcial em atraso","Em atraso"),IF(F21-Premissas!$B$2<=Premissas!$B$3,IF(G21>Premissas!$B$4,"Parcial a vencer","A vencer"),IF(G21>Premissas!$B$4,"Parcial em aberto","Em aberto"))))))) | J21: =IF(OR(A21="",F21="",H21="",Premissas!$B$2=""),"",IF(OR(NOT(ISNUMBER(F21)),NOT(ISNUMBER(H21)),NOT(ISNUMBER(Premissas!$B$2)),NOT(ISNUMBER(Premissas!$B$4))),"",IF(OR(H21<=Premissas!$B$4,F21>=Premissas!$B$2),"",Premissas!$B$2-F21))) | L21: =IF(Unidades!A21="","",Unidades!A21) | M21: =IF(Premissas!D21="","",Premissas!D21)
G22: =IF(A22="","",IFERROR(SUMIFS(Recebimentos!$D$2:$D$301,Recebimentos!$B$2:$B$301,A22,Recebimentos!$C$2:$C$301,">=1",Recebimentos!$C$2:$C$301,"<="&Premissas!$B$2),0)) | H22: =IF(OR(A22="",E22="",G22=""),"",IF(OR(NOT(ISNUMBER(E22)),NOT(ISNUMBER(G22))),"",MAX(0,E22-G22))) | I22: =IF(A22="","",IF(OR(B22="",C22="",D22="",E22="",F22="",Premissas!$B$2="",NOT(ISNUMBER(E22)),NOT(ISNUMBER(F22)),NOT(ISNUMBER(G22)),NOT(ISNUMBER(Premissas!$B$2)),NOT(ISNUMBER(Premissas!$B$3)),NOT(ISNUMBER(Premissas!$B$4))),"Revisar",IF(G22>E22+Premissas!$B$4,"Pago a maior",IF(ABS(G22-E22)<=Premissas!$B$4,"Quitada",IF(F22<Premissas!$B$2,IF(G22>Premissas!$B$4,"Parcial em atraso","Em atraso"),IF(F22-Premissas!$B$2<=Premissas!$B$3,IF(G22>Premissas!$B$4,"Parcial a vencer","A vencer"),IF(G22>Premissas!$B$4,"Parcial em aberto","Em aberto"))))))) | J22: =IF(OR(A22="",F22="",H22="",Premissas!$B$2=""),"",IF(OR(NOT(ISNUMBER(F22)),NOT(ISNUMBER(H22)),NOT(ISNUMBER(Premissas!$B$2)),NOT(ISNUMBER(Premissas!$B$4))),"",IF(OR(H22<=Premissas!$B$4,F22>=Premissas!$B$2),"",Premissas!$B$2-F22))) | L22: =IF(Unidades!A22="","",Unidades!A22) | M22: =IF(Premissas!D22="","",Premissas!D22)
G23: =IF(A23="","",IFERROR(SUMIFS(Recebimentos!$D$2:$D$301,Recebimentos!$B$2:$B$301,A23,Recebimentos!$C$2:$C$301,">=1",Recebimentos!$C$2:$C$301,"<="&Premissas!$B$2),0)) | H23: =IF(OR(A23="",E23="",G23=""),"",IF(OR(NOT(ISNUMBER(E23)),NOT(ISNUMBER(G23))),"",MAX(0,E23-G23))) | I23: =IF(A23="","",IF(OR(B23="",C23="",D23="",E23="",F23="",Premissas!$B$2="",NOT(ISNUMBER(E23)),NOT(ISNUMBER(F23)),NOT(ISNUMBER(G23)),NOT(ISNUMBER(Premissas!$B$2)),NOT(ISNUMBER(Premissas!$B$3)),NOT(ISNUMBER(Premissas!$B$4))),"Revisar",IF(G23>E23+Premissas!$B$4,"Pago a maior",IF(ABS(G23-E23)<=Premissas!$B$4,"Quitada",IF(F23<Premissas!$B$2,IF(G23>Premissas!$B$4,"Parcial em atraso","Em atraso"),IF(F23-Premissas!$B$2<=Premissas!$B$3,IF(G23>Premissas!$B$4,"Parcial a vencer","A vencer"),IF(G23>Premissas!$B$4,"Parcial em aberto","Em aberto"))))))) | J23: =IF(OR(A23="",F23="",H23="",Premissas!$B$2=""),"",IF(OR(NOT(ISNUMBER(F23)),NOT(ISNUMBER(H23)),NOT(ISNUMBER(Premissas!$B$2)),NOT(ISNUMBER(Premissas!$B$4))),"",IF(OR(H23<=Premissas!$B$4,F23>=Premissas!$B$2),"",Premissas!$B$2-F23))) | L23: =IF(Unidades!A23="","",Unidades!A23) | M23: =IF(Premissas!D23="","",Premissas!D23)
... G121: =IF(A121="","",IFERROR(SUMIFS(Recebimentos!$D$2:$D$301,Recebimentos!$B$2:$B$301,A121,Recebimentos!$C$2:$C$301,">=1",Recebimentos!$C$2:$C$301,"<="&Premissas!$B$2),0)) | H121: =IF(OR(A121="",E121="",G121=""),"",IF(OR(NOT(ISNUMBER(E121)),NOT(ISNUMBER(G121))),"",MAX(0,E121-G121))) | I121: =IF(A121="","",IF(OR(B121="",C121="",D121="",E121="",F121="",Premissas!$B$2="",NOT(ISNUMBER(E121)),NOT(ISNUMBER(F121)),NOT(ISNUMBER(G121)),NOT(ISNUMBER(Premissas!$B$2)),NOT(ISNUMBER(Premissas!$B$3)),NOT(ISNUMBER(Premissas!$B$4))),"Revisar",IF(G121>E121+Premissas!$B$4,"Pago a maior",IF(ABS(G121-E121)<=Premissas!$B$4,"Quitada",IF(F121<Premissas!$B$2,IF(G121>Premissas!$B$4,"Parcial em atraso","Em atraso"),IF(F121-Premissas!$B$2<=Premissas!$B$3,IF(G121>Premissas!$B$4,"Parcial a vencer","A vencer"),IF(G121>Premissas!$B$4,"Parcial em aberto","Em aberto"))))))) | J121: =IF(OR(A121="",F121="",H121="",Premissas!$B$2=""),"",IF(OR(NOT(ISNUMBER(F121)),NOT(ISNUMBER(H121)),NOT(ISNUMBER(Premissas!$B$2)),NOT(ISNUMBER(Premissas!$B$4))),"",IF(OR(H121<=Premissas!$B$4,F121>=Premissas!$B$2),"",Premissas!$B$2-F121))) | L121: =IF(Unidades!A121="","",Unidades!A121) | M121: =IF(Premissas!D121="","",Premissas!D121)

Sheet Recebimentos
A1: ID do recebimento | B1: ID da cota | C1: Data do recebimento | D1: Valor recebido | E1: Observação administrativa | F1: Lista auxiliar de cotas | G1: Data auxiliar
A2: EX-REC-001 | B2: EX-COTA-001 | C2: 46242 | D2: 550 | E2: EXEMPLO FICTÍCIO | F2: =IF(Cotas!A2="","",Cotas!A2) | G2: =Premissas!$B$2
A3: EX-REC-002 | B3: EX-COTA-003 | C3: 46246 | D3: 300 | E3: EXEMPLO FICTÍCIO | F3: =IF(Cotas!A3="","",Cotas!A3)
A4: EX-REC-003 | B4: EX-COTA-004 | C4: 46274 | D4: 600 | E4: EXEMPLO FICTÍCIO | F4: =IF(Cotas!A4="","",Cotas!A4)
A5: EX-REC-004 | B5: EX-COTA-007 | C5: 46279 | D5: 600 | E5: EXEMPLO FICTÍCIO | F5: =IF(Cotas!A5="","",Cotas!A5)
A6: EX-REC-005 | B6: EX-COTA-007 | C6: 46280 | D6: 400 | E6: EXEMPLO FICTÍCIO | F6: =IF(Cotas!A6="","",Cotas!A6)
A7: EX-REC-006 | B7: EX-COTA-008 | C7: 46281 | D7: 950 | E7: EXEMPLO FICTÍCIO | F7: =IF(Cotas!A7="","",Cotas!A7)
A8: EX-REC-007 | B8: EX-COTA-005 | C8: 46285 | D8: 550 | E8: EXEMPLO FICTÍCIO | F8: =IF(Cotas!A8="","",Cotas!A8)
A9: EX-REC-008 | B9: EX-COTA-006 | C9: 46290 | D9: 200 | E9: EXEMPLO FICTÍCIO | F9: =IF(Cotas!A9="","",Cotas!A9)
F10: =IF(Cotas!A10="","",Cotas!A10)
F11: =IF(Cotas!A11="","",Cotas!A11)
F12: =IF(Cotas!A12="","",Cotas!A12)
F13: =IF(Cotas!A13="","",Cotas!A13)
F14: =IF(Cotas!A14="","",Cotas!A14)
F15: =IF(Cotas!A15="","",Cotas!A15)
F16: =IF(Cotas!A16="","",Cotas!A16)
F17: =IF(Cotas!A17="","",Cotas!A17)
F18: =IF(Cotas!A18="","",Cotas!A18)
F19: =IF(Cotas!A19="","",Cotas!A19)
F20: =IF(Cotas!A20="","",Cotas!A20)
F21: =IF(Cotas!A21="","",Cotas!A21)
... F301: =IF(Cotas!A301="","",Cotas!A301)

Sheet Unidades
A1: Unidade | B1: Ativa? | C1: Observação administrativa | D1: Lista auxiliar
A2: U-FIC-101 | B2: Sim | C2: EXEMPLO FICTÍCIO | D2: Sim
A3: U-FIC-102 | B3: Sim | C3: EXEMPLO FICTÍCIO | D3: Não
A4: U-FIC-201 | B4: Sim | C4: EXEMPLO FICTÍCIO
A5: U-FIC-202 | B5: Sim | C5: EXEMPLO FICTÍCIO
A6: U-FIC-301 | B6: Sim | C6: EXEMPLO FICTÍCIO
A7: U-FIC-302 | B7: Sim | C7: EXEMPLO FICTÍCIO
A8: U-FIC-401 | B8: Não | C8: EXEMPLO FICTÍCIO
A9: U-FIC-402 | B9: Não | C9: EXEMPLO FICTÍCIO

Sheet Premissas
A1: Premissas e listas administrativas
A2: Data de referência | B2: 46283 | C2: Tipo de cota 1 | D2: Ordinária | E2: Opção de unidade | F2: Sim
A3: Dias para alerta de vencimento | B3: 7 | C3: Tipo de cota 2 | D3: Extraordinária | E3: Opção de unidade | F3: Não
A4: Tolerância para quitação | B4: 0.01 | C4: Tipo de cota 3 | D4: Fundo de reserva
C5: Tipo de cota 4 | D5: Ajuste administrativo
C6: Tipo de cota 5
C7: Tipo de cota 6
C8: Tipo de cota 7
C9: Tipo de cota 8
C10: Tipo de cota 9
C11: Tipo de cota 10
A13: Não inserir nomes, documentos, dados bancários ou outras informações pessoais.
