Workbook

Sheet Resumo
A1: Resumo operacional — contas a receber acessórias
A2: Data de referência | B2: ='Premissas'!B2
A3: Período de recebimentos analisado | B3: ='Premissas'!B6 | C3: até | D3: ='Premissas'!B7
A4: Indicador | B4: Resultado | D4: Saldo pendente por categoria
A5: Saldo pendente válido | B5: =SUMIFS('Lançamentos'!$M$2:$M$201,'Lançamentos'!$M$2:$M$201,">0",'Lançamentos'!$N$2:$N$201,"<>Revisar") | D5: Categoria | E5: Saldo pendente
A6: Valor vencido | B6: =SUMIFS('Lançamentos'!$M$2:$M$201,'Lançamentos'!$M$2:$M$201,">0",'Lançamentos'!$F$2:$F$201,"<"&'Premissas'!$B$2,'Lançamentos'!$N$2:$N$201,"<>Revisar") | D6: ='Premissas'!D2 | E6: =SUMIFS('Lançamentos'!$M$2:$M$201,'Lançamentos'!$C$2:$C$201,D6,'Lançamentos'!$M$2:$M$201,">0",'Lançamentos'!$N$2:$N$201,"<>Revisar")
A7: Valor a vencer no prazo de alerta | B7: =SUMIFS('Lançamentos'!$M$2:$M$201,'Lançamentos'!$M$2:$M$201,">0",'Lançamentos'!$F$2:$F$201,">="&'Premissas'!$B$2,'Lançamentos'!$F$2:$F$201,"<="&'Premissas'!$B$2+'Premissas'!$B$3,'Lançamentos'!$N$2:$N$201,"<>Revisar") | D7: ='Premissas'!D3 | E7: =SUMIFS('Lançamentos'!$M$2:$M$201,'Lançamentos'!$C$2:$C$201,D7,'Lançamentos'!$M$2:$M$201,">0",'Lançamentos'!$N$2:$N$201,"<>Revisar")
A8: Valor recebido válido no período | B8: =SUMIFS('Lançamentos'!$L$2:$L$201,'Lançamentos'!$K$2:$K$201,">="&'Premissas'!$B$6,'Lançamentos'!$K$2:$K$201,"<="&'Premissas'!$B$7,'Lançamentos'!$N$2:$N$201,"Recebido")+SUMIFS('Lançamentos'!$L$2:$L$201,'Lançamentos'!$K$2:$K$201,">="&'Premissas'!$B$6,'Lançamentos'!$K$2:$K$201,"<="&'Premissas'!$B$7,'Lançamentos'!$N$2:$N$201,"Recebido parcial") | D8: ='Premissas'!D4 | E8: =SUMIFS('Lançamentos'!$M$2:$M$201,'Lançamentos'!$C$2:$C$201,D8,'Lançamentos'!$M$2:$M$201,">0",'Lançamentos'!$N$2:$N$201,"<>Revisar")
A9: Quantidade de cobranças vencidas | B9: =COUNTIFS('Lançamentos'!$M$2:$M$201,">0",'Lançamentos'!$F$2:$F$201,"<"&'Premissas'!$B$2,'Lançamentos'!$N$2:$N$201,"<>Revisar") | D9: ='Premissas'!D5 | E9: =SUMIFS('Lançamentos'!$M$2:$M$201,'Lançamentos'!$C$2:$C$201,D9,'Lançamentos'!$M$2:$M$201,">0",'Lançamentos'!$N$2:$N$201,"<>Revisar")
A10: Quantidade de recebimentos parciais | B10: =COUNTIF('Lançamentos'!$N$2:$N$201,"Recebido parcial") | D10: ='Premissas'!D6 | E10: =SUMIFS('Lançamentos'!$M$2:$M$201,'Lançamentos'!$C$2:$C$201,D10,'Lançamentos'!$M$2:$M$201,">0",'Lançamentos'!$N$2:$N$201,"<>Revisar")
A11: Quantidade de itens a revisar | B11: =COUNTIF('Lançamentos'!$N$2:$N$201,"Revisar")

Sheet Lançamentos
A1: ID da cobrança | B1: Unidade/referência | C1: Categoria | D1: Descrição | E1: Data de lançamento | F1: Data de vencimento | G1: Valor lançado | H1: Acréscimos informados | I1: Descontos/ajustes | J1: Valor devido | K1: Data de recebimento | L1: Valor recebido | M1: Saldo | N1: Situação | O1: Dias em atraso | P1: Faixa de atraso | Q1: Alerta | R1: Observação administrativa
A2: FIC-001 | B2: FIC-101 | C2: Uso de espaço comum | D2: Exemplo fictício — uso de espaço comum A | E2: 46266 | F2: 46275 | G2: 300 | H2: 0 | I2: 0 | J2: =IF(A2="","",IF(OR(G2="",G2<=0),"",MAX(0,G2+IF(H2="",0,H2)-IF(I2="",0,I2)))) | M2: =IF(OR(A2="",J2=""),"",J2-IF(L2="",0,L2)) | N2: =IF(COUNTA(A2:I2,K2:L2,R2)=0,"",IF(OR(A2="",B2="",C2="",D2="",E2="",F2="",J2="",F2<E2,AND(A2<>"",COUNTIF($A$2:$A$201,A2)>1),AND(K2="",L2<>""),AND(K2<>"",OR(L2="",L2<=0,K2<E2,K2>'Premissas'!$B$2))),"Revisar",IF(M2<0,"Revisar",IF(M2=0,IF(K2="","Revisar","Recebido"),IF(IF(L2="",0,L2)>0,"Recebido parcial",IF(F2<'Premissas'!$B$2,"Em atraso",IF(F2<='Premissas'!$B$2+'Premissas'!$B$3,"A vencer","Em aberto"))))))) | O2: =IF(OR(N2="",N2="Revisar",M2="",M2<=0,F2="",F2>='Premissas'!$B$2),"",'Premissas'!$B$2-F2) | P2: =IF(N2="","",IF(N2="Recebido","Quitado",IF(N2="Revisar","Revisar",IF(O2="","Sem atraso",IF(O2<='Premissas'!$B$4,"1 a "&'Premissas'!$B$4&" dias",IF(O2<='Premissas'!$B$5,('Premissas'!$B$4+1)&" a "&'Premissas'!$B$5&" dias","Acima de "&'Premissas'!$B$5&" dias")))))) | Q2: =IF(N2="","",IF(N2="Revisar","Conferir dados",IF(N2="Em atraso","Cobrança vencida",IF(N2="Recebido parcial",IF(F2<'Premissas'!$B$2,"Parcial e vencida","Recebimento parcial"),IF(N2="A vencer","Vence em breve","")))))
A3: FIC-002 | B3: FIC-204 | C3: Reposição de item | D3: Exemplo fictício — reposição de item A | E3: 46267 | F3: 46285 | G3: 85 | H3: 0 | I3: 0 | J3: =IF(A3="","",IF(OR(G3="",G3<=0),"",MAX(0,G3+IF(H3="",0,H3)-IF(I3="",0,I3)))) | M3: =IF(OR(A3="",J3=""),"",J3-IF(L3="",0,L3)) | N3: =IF(COUNTA(A3:I3,K3:L3,R3)=0,"",IF(OR(A3="",B3="",C3="",D3="",E3="",F3="",J3="",F3<E3,AND(A3<>"",COUNTIF($A$2:$A$201,A3)>1),AND(K3="",L3<>""),AND(K3<>"",OR(L3="",L3<=0,K3<E3,K3>'Premissas'!$B$2))),"Revisar",IF(M3<0,"Revisar",IF(M3=0,IF(K3="","Revisar","Recebido"),IF(IF(L3="",0,L3)>0,"Recebido parcial",IF(F3<'Premissas'!$B$2,"Em atraso",IF(F3<='Premissas'!$B$2+'Premissas'!$B$3,"A vencer","Em aberto"))))))) | O3: =IF(OR(N3="",N3="Revisar",M3="",M3<=0,F3="",F3>='Premissas'!$B$2),"",'Premissas'!$B$2-F3) | P3: =IF(N3="","",IF(N3="Recebido","Quitado",IF(N3="Revisar","Revisar",IF(O3="","Sem atraso",IF(O3<='Premissas'!$B$4,"1 a "&'Premissas'!$B$4&" dias",IF(O3<='Premissas'!$B$5,('Premissas'!$B$4+1)&" a "&'Premissas'!$B$5&" dias","Acima de "&'Premissas'!$B$5&" dias")))))) | Q3: =IF(N3="","",IF(N3="Revisar","Conferir dados",IF(N3="Em atraso","Cobrança vencida",IF(N3="Recebido parcial",IF(F3<'Premissas'!$B$2,"Parcial e vencida","Recebimento parcial"),IF(N3="A vencer","Vence em breve","")))))
A4: FIC-003 | B4: FIC-305 | C4: Consumo individualizado | D4: Exemplo fictício — consumo individualizado A | E4: 46235 | F4: 46249 | G4: 142.5 | H4: 0 | I4: 0 | J4: =IF(A4="","",IF(OR(G4="",G4<=0),"",MAX(0,G4+IF(H4="",0,H4)-IF(I4="",0,I4)))) | K4: 46254 | L4: 50 | M4: =IF(OR(A4="",J4=""),"",J4-IF(L4="",0,L4)) | N4: =IF(COUNTA(A4:I4,K4:L4,R4)=0,"",IF(OR(A4="",B4="",C4="",D4="",E4="",F4="",J4="",F4<E4,AND(A4<>"",COUNTIF($A$2:$A$201,A4)>1),AND(K4="",L4<>""),AND(K4<>"",OR(L4="",L4<=0,K4<E4,K4>'Premissas'!$B$2))),"Revisar",IF(M4<0,"Revisar",IF(M4=0,IF(K4="","Revisar","Recebido"),IF(IF(L4="",0,L4)>0,"Recebido parcial",IF(F4<'Premissas'!$B$2,"Em atraso",IF(F4<='Premissas'!$B$2+'Premissas'!$B$3,"A vencer","Em aberto"))))))) | O4: =IF(OR(N4="",N4="Revisar",M4="",M4<=0,F4="",F4>='Premissas'!$B$2),"",'Premissas'!$B$2-F4) | P4: =IF(N4="","",IF(N4="Recebido","Quitado",IF(N4="Revisar","Revisar",IF(O4="","Sem atraso",IF(O4<='Premissas'!$B$4,"1 a "&'Premissas'!$B$4&" dias",IF(O4<='Premissas'!$B$5,('Premissas'!$B$4+1)&" a "&'Premissas'!$B$5&" dias","Acima de "&'Premissas'!$B$5&" dias")))))) | Q4: =IF(N4="","",IF(N4="Revisar","Conferir dados",IF(N4="Em atraso","Cobrança vencida",IF(N4="Recebido parcial",IF(F4<'Premissas'!$B$2,"Parcial e vencida","Recebimento parcial"),IF(N4="A vencer","Vence em breve","")))))
A5: FIC-004 | B5: FIC-402 | C5: Rateio extraordinário | D5: Exemplo fictício — rateio extraordinário A | E5: 46213 | F5: 46244 | G5: 1200 | H5: 0 | I5: 0 | J5: =IF(A5="","",IF(OR(G5="",G5<=0),"",MAX(0,G5+IF(H5="",0,H5)-IF(I5="",0,I5)))) | K5: 46243 | L5: 1200 | M5: =IF(OR(A5="",J5=""),"",J5-IF(L5="",0,L5)) | N5: =IF(COUNTA(A5:I5,K5:L5,R5)=0,"",IF(OR(A5="",B5="",C5="",D5="",E5="",F5="",J5="",F5<E5,AND(A5<>"",COUNTIF($A$2:$A$201,A5)>1),AND(K5="",L5<>""),AND(K5<>"",OR(L5="",L5<=0,K5<E5,K5>'Premissas'!$B$2))),"Revisar",IF(M5<0,"Revisar",IF(M5=0,IF(K5="","Revisar","Recebido"),IF(IF(L5="",0,L5)>0,"Recebido parcial",IF(F5<'Premissas'!$B$2,"Em atraso",IF(F5<='Premissas'!$B$2+'Premissas'!$B$3,"A vencer","Em aberto"))))))) | O5: =IF(OR(N5="",N5="Revisar",M5="",M5<=0,F5="",F5>='Premissas'!$B$2),"",'Premissas'!$B$2-F5) | P5: =IF(N5="","",IF(N5="Recebido","Quitado",IF(N5="Revisar","Revisar",IF(O5="","Sem atraso",IF(O5<='Premissas'!$B$4,"1 a "&'Premissas'!$B$4&" dias",IF(O5<='Premissas'!$B$5,('Premissas'!$B$4+1)&" a "&'Premissas'!$B$5&" dias","Acima de "&'Premissas'!$B$5&" dias")))))) | Q5: =IF(N5="","",IF(N5="Revisar","Conferir dados",IF(N5="Em atraso","Cobrança vencida",IF(N5="Recebido parcial",IF(F5<'Premissas'!$B$2,"Parcial e vencida","Recebimento parcial"),IF(N5="A vencer","Vence em breve","")))))
A6: FIC-005 | B6: FIC-503 | C6: Outro | D6: Exemplo fictício — lançamento administrativo A | E6: 46280 | F6: 46295 | G6: 60 | H6: 0 | I6: 0 | J6: =IF(A6="","",IF(OR(G6="",G6<=0),"",MAX(0,G6+IF(H6="",0,H6)-IF(I6="",0,I6)))) | M6: =IF(OR(A6="",J6=""),"",J6-IF(L6="",0,L6)) | N6: =IF(COUNTA(A6:I6,K6:L6,R6)=0,"",IF(OR(A6="",B6="",C6="",D6="",E6="",F6="",J6="",F6<E6,AND(A6<>"",COUNTIF($A$2:$A$201,A6)>1),AND(K6="",L6<>""),AND(K6<>"",OR(L6="",L6<=0,K6<E6,K6>'Premissas'!$B$2))),"Revisar",IF(M6<0,"Revisar",IF(M6=0,IF(K6="","Revisar","Recebido"),IF(IF(L6="",0,L6)>0,"Recebido parcial",IF(F6<'Premissas'!$B$2,"Em atraso",IF(F6<='Premissas'!$B$2+'Premissas'!$B$3,"A vencer","Em aberto"))))))) | O6: =IF(OR(N6="",N6="Revisar",M6="",M6<=0,F6="",F6>='Premissas'!$B$2),"",'Premissas'!$B$2-F6) | P6: =IF(N6="","",IF(N6="Recebido","Quitado",IF(N6="Revisar","Revisar",IF(O6="","Sem atraso",IF(O6<='Premissas'!$B$4,"1 a "&'Premissas'!$B$4&" dias",IF(O6<='Premissas'!$B$5,('Premissas'!$B$4+1)&" a "&'Premissas'!$B$5&" dias","Acima de "&'Premissas'!$B$5&" dias")))))) | Q6: =IF(N6="","",IF(N6="Revisar","Conferir dados",IF(N6="Em atraso","Cobrança vencida",IF(N6="Recebido parcial",IF(F6<'Premissas'!$B$2,"Parcial e vencida","Recebimento parcial"),IF(N6="A vencer","Vence em breve","")))))
A7: FIC-006 | B7: FIC-601 | C7: Uso de espaço comum | D7: Exemplo fictício — uso de espaço comum B | E7: 46174 | F7: 46183 | G7: 450 | H7: 0 | I7: 0 | J7: =IF(A7="","",IF(OR(G7="",G7<=0),"",MAX(0,G7+IF(H7="",0,H7)-IF(I7="",0,I7)))) | M7: =IF(OR(A7="",J7=""),"",J7-IF(L7="",0,L7)) | N7: =IF(COUNTA(A7:I7,K7:L7,R7)=0,"",IF(OR(A7="",B7="",C7="",D7="",E7="",F7="",J7="",F7<E7,AND(A7<>"",COUNTIF($A$2:$A$201,A7)>1),AND(K7="",L7<>""),AND(K7<>"",OR(L7="",L7<=0,K7<E7,K7>'Premissas'!$B$2))),"Revisar",IF(M7<0,"Revisar",IF(M7=0,IF(K7="","Revisar","Recebido"),IF(IF(L7="",0,L7)>0,"Recebido parcial",IF(F7<'Premissas'!$B$2,"Em atraso",IF(F7<='Premissas'!$B$2+'Premissas'!$B$3,"A vencer","Em aberto"))))))) | O7: =IF(OR(N7="",N7="Revisar",M7="",M7<=0,F7="",F7>='Premissas'!$B$2),"",'Premissas'!$B$2-F7) | P7: =IF(N7="","",IF(N7="Recebido","Quitado",IF(N7="Revisar","Revisar",IF(O7="","Sem atraso",IF(O7<='Premissas'!$B$4,"1 a "&'Premissas'!$B$4&" dias",IF(O7<='Premissas'!$B$5,('Premissas'!$B$4+1)&" a "&'Premissas'!$B$5&" dias","Acima de "&'Premissas'!$B$5&" dias")))))) | Q7: =IF(N7="","",IF(N7="Revisar","Conferir dados",IF(N7="Em atraso","Cobrança vencida",IF(N7="Recebido parcial",IF(F7<'Premissas'!$B$2,"Parcial e vencida","Recebimento parcial"),IF(N7="A vencer","Vence em breve","")))))
A8: FIC-007 | B8: FIC-702 | C8: Reposição de item | D8: Exemplo fictício — reposição de item B | E8: 46270 | F8: 46283 | G8: 75 | H8: 0 | I8: 0 | J8: =IF(A8="","",IF(OR(G8="",G8<=0),"",MAX(0,G8+IF(H8="",0,H8)-IF(I8="",0,I8)))) | K8: 46283 | L8: 75 | M8: =IF(OR(A8="",J8=""),"",J8-IF(L8="",0,L8)) | N8: =IF(COUNTA(A8:I8,K8:L8,R8)=0,"",IF(OR(A8="",B8="",C8="",D8="",E8="",F8="",J8="",F8<E8,AND(A8<>"",COUNTIF($A$2:$A$201,A8)>1),AND(K8="",L8<>""),AND(K8<>"",OR(L8="",L8<=0,K8<E8,K8>'Premissas'!$B$2))),"Revisar",IF(M8<0,"Revisar",IF(M8=0,IF(K8="","Revisar","Recebido"),IF(IF(L8="",0,L8)>0,"Recebido parcial",IF(F8<'Premissas'!$B$2,"Em atraso",IF(F8<='Premissas'!$B$2+'Premissas'!$B$3,"A vencer","Em aberto"))))))) | O8: =IF(OR(N8="",N8="Revisar",M8="",M8<=0,F8="",F8>='Premissas'!$B$2),"",'Premissas'!$B$2-F8) | P8: =IF(N8="","",IF(N8="Recebido","Quitado",IF(N8="Revisar","Revisar",IF(O8="","Sem atraso",IF(O8<='Premissas'!$B$4,"1 a "&'Premissas'!$B$4&" dias",IF(O8<='Premissas'!$B$5,('Premissas'!$B$4+1)&" a "&'Premissas'!$B$5&" dias","Acima de "&'Premissas'!$B$5&" dias")))))) | Q8: =IF(N8="","",IF(N8="Revisar","Conferir dados",IF(N8="Em atraso","Cobrança vencida",IF(N8="Recebido parcial",IF(F8<'Premissas'!$B$2,"Parcial e vencida","Recebimento parcial"),IF(N8="A vencer","Vence em breve","")))))
A9: FIC-008 | B9: FIC-803 | C9: Consumo individualizado | D9: Exemplo fictício — consumo individualizado B | E9: 46266 | F9: 46282 | G9: 210 | H9: 5 | I9: 0 | J9: =IF(A9="","",IF(OR(G9="",G9<=0),"",MAX(0,G9+IF(H9="",0,H9)-IF(I9="",0,I9)))) | K9: 46283 | L9: 215 | M9: =IF(OR(A9="",J9=""),"",J9-IF(L9="",0,L9)) | N9: =IF(COUNTA(A9:I9,K9:L9,R9)=0,"",IF(OR(A9="",B9="",C9="",D9="",E9="",F9="",J9="",F9<E9,AND(A9<>"",COUNTIF($A$2:$A$201,A9)>1),AND(K9="",L9<>""),AND(K9<>"",OR(L9="",L9<=0,K9<E9,K9>'Premissas'!$B$2))),"Revisar",IF(M9<0,"Revisar",IF(M9=0,IF(K9="","Revisar","Recebido"),IF(IF(L9="",0,L9)>0,"Recebido parcial",IF(F9<'Premissas'!$B$2,"Em atraso",IF(F9<='Premissas'!$B$2+'Premissas'!$B$3,"A vencer","Em aberto"))))))) | O9: =IF(OR(N9="",N9="Revisar",M9="",M9<=0,F9="",F9>='Premissas'!$B$2),"",'Premissas'!$B$2-F9) | P9: =IF(N9="","",IF(N9="Recebido","Quitado",IF(N9="Revisar","Revisar",IF(O9="","Sem atraso",IF(O9<='Premissas'!$B$4,"1 a "&'Premissas'!$B$4&" dias",IF(O9<='Premissas'!$B$5,('Premissas'!$B$4+1)&" a "&'Premissas'!$B$5&" dias","Acima de "&'Premissas'!$B$5&" dias")))))) | Q9: =IF(N9="","",IF(N9="Revisar","Conferir dados",IF(N9="Em atraso","Cobrança vencida",IF(N9="Recebido parcial",IF(F9<'Premissas'!$B$2,"Parcial e vencida","Recebimento parcial"),IF(N9="A vencer","Vence em breve","")))))
A10: FIC-009 | B10: FIC-904 | C10: Rateio extraordinário | D10: Exemplo fictício — rateio extraordinário B | E10: 46270 | F10: 46290 | G10: 800 | H10: 0 | I10: 0 | J10: =IF(A10="","",IF(OR(G10="",G10<=0),"",MAX(0,G10+IF(H10="",0,H10)-IF(I10="",0,I10)))) | K10: 46277 | L10: 300 | M10: =IF(OR(A10="",J10=""),"",J10-IF(L10="",0,L10)) | N10: =IF(COUNTA(A10:I10,K10:L10,R10)=0,"",IF(OR(A10="",B10="",C10="",D10="",E10="",F10="",J10="",F10<E10,AND(A10<>"",COUNTIF($A$2:$A$201,A10)>1),AND(K10="",L10<>""),AND(K10<>"",OR(L10="",L10<=0,K10<E10,K10>'Premissas'!$B$2))),"Revisar",IF(M10<0,"Revisar",IF(M10=0,IF(K10="","Revisar","Recebido"),IF(IF(L10="",0,L10)>0,"Recebido parcial",IF(F10<'Premissas'!$B$2,"Em atraso",IF(F10<='Premissas'!$B$2+'Premissas'!$B$3,"A vencer","Em aberto"))))))) | O10: =IF(OR(N10="",N10="Revisar",M10="",M10<=0,F10="",F10>='Premissas'!$B$2),"",'Premissas'!$B$2-F10) | P10: =IF(N10="","",IF(N10="Recebido","Quitado",IF(N10="Revisar","Revisar",IF(O10="","Sem atraso",IF(O10<='Premissas'!$B$4,"1 a "&'Premissas'!$B$4&" dias",IF(O10<='Premissas'!$B$5,('Premissas'!$B$4+1)&" a "&'Premissas'!$B$5&" dias","Acima de "&'Premissas'!$B$5&" dias")))))) | Q10: =IF(N10="","",IF(N10="Revisar","Conferir dados",IF(N10="Em atraso","Cobrança vencida",IF(N10="Recebido parcial",IF(F10<'Premissas'!$B$2,"Parcial e vencida","Recebimento parcial"),IF(N10="A vencer","Vence em breve","")))))
A11: FIC-010 | B11: FIC-1005 | C11: Outro | D11: Exemplo fictício — divergência para conferência | E11: 46275 | F11: 46277 | G11: 100 | H11: 0 | I11: 10 | J11: =IF(A11="","",IF(OR(G11="",G11<=0),"",MAX(0,G11+IF(H11="",0,H11)-IF(I11="",0,I11)))) | K11: 46278 | L11: 100 | M11: =IF(OR(A11="",J11=""),"",J11-IF(L11="",0,L11)) | N11: =IF(COUNTA(A11:I11,K11:L11,R11)=0,"",IF(OR(A11="",B11="",C11="",D11="",E11="",F11="",J11="",F11<E11,AND(A11<>"",COUNTIF($A$2:$A$201,A11)>1),AND(K11="",L11<>""),AND(K11<>"",OR(L11="",L11<=0,K11<E11,K11>'Premissas'!$B$2))),"Revisar",IF(M11<0,"Revisar",IF(M11=0,IF(K11="","Revisar","Recebido"),IF(IF(L11="",0,L11)>0,"Recebido parcial",IF(F11<'Premissas'!$B$2,"Em atraso",IF(F11<='Premissas'!$B$2+'Premissas'!$B$3,"A vencer","Em aberto"))))))) | O11: =IF(OR(N11="",N11="Revisar",M11="",M11<=0,F11="",F11>='Premissas'!$B$2),"",'Premissas'!$B$2-F11) | P11: =IF(N11="","",IF(N11="Recebido","Quitado",IF(N11="Revisar","Revisar",IF(O11="","Sem atraso",IF(O11<='Premissas'!$B$4,"1 a "&'Premissas'!$B$4&" dias",IF(O11<='Premissas'!$B$5,('Premissas'!$B$4+1)&" a "&'Premissas'!$B$5&" dias","Acima de "&'Premissas'!$B$5&" dias")))))) | Q11: =IF(N11="","",IF(N11="Revisar","Conferir dados",IF(N11="Em atraso","Cobrança vencida",IF(N11="Recebido parcial",IF(F11<'Premissas'!$B$2,"Parcial e vencida","Recebimento parcial"),IF(N11="A vencer","Vence em breve",""))))) | R11: Exemplo fictício — conferir o valor informado.
J12: =IF(A12="","",IF(OR(G12="",G12<=0),"",MAX(0,G12+IF(H12="",0,H12)-IF(I12="",0,I12)))) | M12: =IF(OR(A12="",J12=""),"",J12-IF(L12="",0,L12)) | N12: =IF(COUNTA(A12:I12,K12:L12,R12)=0,"",IF(OR(A12="",B12="",C12="",D12="",E12="",F12="",J12="",F12<E12,AND(A12<>"",COUNTIF($A$2:$A$201,A12)>1),AND(K12="",L12<>""),AND(K12<>"",OR(L12="",L12<=0,K12<E12,K12>'Premissas'!$B$2))),"Revisar",IF(M12<0,"Revisar",IF(M12=0,IF(K12="","Revisar","Recebido"),IF(IF(L12="",0,L12)>0,"Recebido parcial",IF(F12<'Premissas'!$B$2,"Em atraso",IF(F12<='Premissas'!$B$2+'Premissas'!$B$3,"A vencer","Em aberto"))))))) | O12: =IF(OR(N12="",N12="Revisar",M12="",M12<=0,F12="",F12>='Premissas'!$B$2),"",'Premissas'!$B$2-F12) | P12: =IF(N12="","",IF(N12="Recebido","Quitado",IF(N12="Revisar","Revisar",IF(O12="","Sem atraso",IF(O12<='Premissas'!$B$4,"1 a "&'Premissas'!$B$4&" dias",IF(O12<='Premissas'!$B$5,('Premissas'!$B$4+1)&" a "&'Premissas'!$B$5&" dias","Acima de "&'Premissas'!$B$5&" dias")))))) | Q12: =IF(N12="","",IF(N12="Revisar","Conferir dados",IF(N12="Em atraso","Cobrança vencida",IF(N12="Recebido parcial",IF(F12<'Premissas'!$B$2,"Parcial e vencida","Recebimento parcial"),IF(N12="A vencer","Vence em breve","")))))
J13: =IF(A13="","",IF(OR(G13="",G13<=0),"",MAX(0,G13+IF(H13="",0,H13)-IF(I13="",0,I13)))) | M13: =IF(OR(A13="",J13=""),"",J13-IF(L13="",0,L13)) | N13: =IF(COUNTA(A13:I13,K13:L13,R13)=0,"",IF(OR(A13="",B13="",C13="",D13="",E13="",F13="",J13="",F13<E13,AND(A13<>"",COUNTIF($A$2:$A$201,A13)>1),AND(K13="",L13<>""),AND(K13<>"",OR(L13="",L13<=0,K13<E13,K13>'Premissas'!$B$2))),"Revisar",IF(M13<0,"Revisar",IF(M13=0,IF(K13="","Revisar","Recebido"),IF(IF(L13="",0,L13)>0,"Recebido parcial",IF(F13<'Premissas'!$B$2,"Em atraso",IF(F13<='Premissas'!$B$2+'Premissas'!$B$3,"A vencer","Em aberto"))))))) | O13: =IF(OR(N13="",N13="Revisar",M13="",M13<=0,F13="",F13>='Premissas'!$B$2),"",'Premissas'!$B$2-F13) | P13: =IF(N13="","",IF(N13="Recebido","Quitado",IF(N13="Revisar","Revisar",IF(O13="","Sem atraso",IF(O13<='Premissas'!$B$4,"1 a "&'Premissas'!$B$4&" dias",IF(O13<='Premissas'!$B$5,('Premissas'!$B$4+1)&" a "&'Premissas'!$B$5&" dias","Acima de "&'Premissas'!$B$5&" dias")))))) | Q13: =IF(N13="","",IF(N13="Revisar","Conferir dados",IF(N13="Em atraso","Cobrança vencida",IF(N13="Recebido parcial",IF(F13<'Premissas'!$B$2,"Parcial e vencida","Recebimento parcial"),IF(N13="A vencer","Vence em breve","")))))
J14: =IF(A14="","",IF(OR(G14="",G14<=0),"",MAX(0,G14+IF(H14="",0,H14)-IF(I14="",0,I14)))) | M14: =IF(OR(A14="",J14=""),"",J14-IF(L14="",0,L14)) | N14: =IF(COUNTA(A14:I14,K14:L14,R14)=0,"",IF(OR(A14="",B14="",C14="",D14="",E14="",F14="",J14="",F14<E14,AND(A14<>"",COUNTIF($A$2:$A$201,A14)>1),AND(K14="",L14<>""),AND(K14<>"",OR(L14="",L14<=0,K14<E14,K14>'Premissas'!$B$2))),"Revisar",IF(M14<0,"Revisar",IF(M14=0,IF(K14="","Revisar","Recebido"),IF(IF(L14="",0,L14)>0,"Recebido parcial",IF(F14<'Premissas'!$B$2,"Em atraso",IF(F14<='Premissas'!$B$2+'Premissas'!$B$3,"A vencer","Em aberto"))))))) | O14: =IF(OR(N14="",N14="Revisar",M14="",M14<=0,F14="",F14>='Premissas'!$B$2),"",'Premissas'!$B$2-F14) | P14: =IF(N14="","",IF(N14="Recebido","Quitado",IF(N14="Revisar","Revisar",IF(O14="","Sem atraso",IF(O14<='Premissas'!$B$4,"1 a "&'Premissas'!$B$4&" dias",IF(O14<='Premissas'!$B$5,('Premissas'!$B$4+1)&" a "&'Premissas'!$B$5&" dias","Acima de "&'Premissas'!$B$5&" dias")))))) | Q14: =IF(N14="","",IF(N14="Revisar","Conferir dados",IF(N14="Em atraso","Cobrança vencida",IF(N14="Recebido parcial",IF(F14<'Premissas'!$B$2,"Parcial e vencida","Recebimento parcial"),IF(N14="A vencer","Vence em breve","")))))
J15: =IF(A15="","",IF(OR(G15="",G15<=0),"",MAX(0,G15+IF(H15="",0,H15)-IF(I15="",0,I15)))) | M15: =IF(OR(A15="",J15=""),"",J15-IF(L15="",0,L15)) | N15: =IF(COUNTA(A15:I15,K15:L15,R15)=0,"",IF(OR(A15="",B15="",C15="",D15="",E15="",F15="",J15="",F15<E15,AND(A15<>"",COUNTIF($A$2:$A$201,A15)>1),AND(K15="",L15<>""),AND(K15<>"",OR(L15="",L15<=0,K15<E15,K15>'Premissas'!$B$2))),"Revisar",IF(M15<0,"Revisar",IF(M15=0,IF(K15="","Revisar","Recebido"),IF(IF(L15="",0,L15)>0,"Recebido parcial",IF(F15<'Premissas'!$B$2,"Em atraso",IF(F15<='Premissas'!$B$2+'Premissas'!$B$3,"A vencer","Em aberto"))))))) | O15: =IF(OR(N15="",N15="Revisar",M15="",M15<=0,F15="",F15>='Premissas'!$B$2),"",'Premissas'!$B$2-F15) | P15: =IF(N15="","",IF(N15="Recebido","Quitado",IF(N15="Revisar","Revisar",IF(O15="","Sem atraso",IF(O15<='Premissas'!$B$4,"1 a "&'Premissas'!$B$4&" dias",IF(O15<='Premissas'!$B$5,('Premissas'!$B$4+1)&" a "&'Premissas'!$B$5&" dias","Acima de "&'Premissas'!$B$5&" dias")))))) | Q15: =IF(N15="","",IF(N15="Revisar","Conferir dados",IF(N15="Em atraso","Cobrança vencida",IF(N15="Recebido parcial",IF(F15<'Premissas'!$B$2,"Parcial e vencida","Recebimento parcial"),IF(N15="A vencer","Vence em breve","")))))
J16: =IF(A16="","",IF(OR(G16="",G16<=0),"",MAX(0,G16+IF(H16="",0,H16)-IF(I16="",0,I16)))) | M16: =IF(OR(A16="",J16=""),"",J16-IF(L16="",0,L16)) | N16: =IF(COUNTA(A16:I16,K16:L16,R16)=0,"",IF(OR(A16="",B16="",C16="",D16="",E16="",F16="",J16="",F16<E16,AND(A16<>"",COUNTIF($A$2:$A$201,A16)>1),AND(K16="",L16<>""),AND(K16<>"",OR(L16="",L16<=0,K16<E16,K16>'Premissas'!$B$2))),"Revisar",IF(M16<0,"Revisar",IF(M16=0,IF(K16="","Revisar","Recebido"),IF(IF(L16="",0,L16)>0,"Recebido parcial",IF(F16<'Premissas'!$B$2,"Em atraso",IF(F16<='Premissas'!$B$2+'Premissas'!$B$3,"A vencer","Em aberto"))))))) | O16: =IF(OR(N16="",N16="Revisar",M16="",M16<=0,F16="",F16>='Premissas'!$B$2),"",'Premissas'!$B$2-F16) | P16: =IF(N16="","",IF(N16="Recebido","Quitado",IF(N16="Revisar","Revisar",IF(O16="","Sem atraso",IF(O16<='Premissas'!$B$4,"1 a "&'Premissas'!$B$4&" dias",IF(O16<='Premissas'!$B$5,('Premissas'!$B$4+1)&" a "&'Premissas'!$B$5&" dias","Acima de "&'Premissas'!$B$5&" dias")))))) | Q16: =IF(N16="","",IF(N16="Revisar","Conferir dados",IF(N16="Em atraso","Cobrança vencida",IF(N16="Recebido parcial",IF(F16<'Premissas'!$B$2,"Parcial e vencida","Recebimento parcial"),IF(N16="A vencer","Vence em breve","")))))
J17: =IF(A17="","",IF(OR(G17="",G17<=0),"",MAX(0,G17+IF(H17="",0,H17)-IF(I17="",0,I17)))) | M17: =IF(OR(A17="",J17=""),"",J17-IF(L17="",0,L17)) | N17: =IF(COUNTA(A17:I17,K17:L17,R17)=0,"",IF(OR(A17="",B17="",C17="",D17="",E17="",F17="",J17="",F17<E17,AND(A17<>"",COUNTIF($A$2:$A$201,A17)>1),AND(K17="",L17<>""),AND(K17<>"",OR(L17="",L17<=0,K17<E17,K17>'Premissas'!$B$2))),"Revisar",IF(M17<0,"Revisar",IF(M17=0,IF(K17="","Revisar","Recebido"),IF(IF(L17="",0,L17)>0,"Recebido parcial",IF(F17<'Premissas'!$B$2,"Em atraso",IF(F17<='Premissas'!$B$2+'Premissas'!$B$3,"A vencer","Em aberto"))))))) | O17: =IF(OR(N17="",N17="Revisar",M17="",M17<=0,F17="",F17>='Premissas'!$B$2),"",'Premissas'!$B$2-F17) | P17: =IF(N17="","",IF(N17="Recebido","Quitado",IF(N17="Revisar","Revisar",IF(O17="","Sem atraso",IF(O17<='Premissas'!$B$4,"1 a "&'Premissas'!$B$4&" dias",IF(O17<='Premissas'!$B$5,('Premissas'!$B$4+1)&" a "&'Premissas'!$B$5&" dias","Acima de "&'Premissas'!$B$5&" dias")))))) | Q17: =IF(N17="","",IF(N17="Revisar","Conferir dados",IF(N17="Em atraso","Cobrança vencida",IF(N17="Recebido parcial",IF(F17<'Premissas'!$B$2,"Parcial e vencida","Recebimento parcial"),IF(N17="A vencer","Vence em breve","")))))
J18: =IF(A18="","",IF(OR(G18="",G18<=0),"",MAX(0,G18+IF(H18="",0,H18)-IF(I18="",0,I18)))) | M18: =IF(OR(A18="",J18=""),"",J18-IF(L18="",0,L18)) | N18: =IF(COUNTA(A18:I18,K18:L18,R18)=0,"",IF(OR(A18="",B18="",C18="",D18="",E18="",F18="",J18="",F18<E18,AND(A18<>"",COUNTIF($A$2:$A$201,A18)>1),AND(K18="",L18<>""),AND(K18<>"",OR(L18="",L18<=0,K18<E18,K18>'Premissas'!$B$2))),"Revisar",IF(M18<0,"Revisar",IF(M18=0,IF(K18="","Revisar","Recebido"),IF(IF(L18="",0,L18)>0,"Recebido parcial",IF(F18<'Premissas'!$B$2,"Em atraso",IF(F18<='Premissas'!$B$2+'Premissas'!$B$3,"A vencer","Em aberto"))))))) | O18: =IF(OR(N18="",N18="Revisar",M18="",M18<=0,F18="",F18>='Premissas'!$B$2),"",'Premissas'!$B$2-F18) | P18: =IF(N18="","",IF(N18="Recebido","Quitado",IF(N18="Revisar","Revisar",IF(O18="","Sem atraso",IF(O18<='Premissas'!$B$4,"1 a "&'Premissas'!$B$4&" dias",IF(O18<='Premissas'!$B$5,('Premissas'!$B$4+1)&" a "&'Premissas'!$B$5&" dias","Acima de "&'Premissas'!$B$5&" dias")))))) | Q18: =IF(N18="","",IF(N18="Revisar","Conferir dados",IF(N18="Em atraso","Cobrança vencida",IF(N18="Recebido parcial",IF(F18<'Premissas'!$B$2,"Parcial e vencida","Recebimento parcial"),IF(N18="A vencer","Vence em breve","")))))
J19: =IF(A19="","",IF(OR(G19="",G19<=0),"",MAX(0,G19+IF(H19="",0,H19)-IF(I19="",0,I19)))) | M19: =IF(OR(A19="",J19=""),"",J19-IF(L19="",0,L19)) | N19: =IF(COUNTA(A19:I19,K19:L19,R19)=0,"",IF(OR(A19="",B19="",C19="",D19="",E19="",F19="",J19="",F19<E19,AND(A19<>"",COUNTIF($A$2:$A$201,A19)>1),AND(K19="",L19<>""),AND(K19<>"",OR(L19="",L19<=0,K19<E19,K19>'Premissas'!$B$2))),"Revisar",IF(M19<0,"Revisar",IF(M19=0,IF(K19="","Revisar","Recebido"),IF(IF(L19="",0,L19)>0,"Recebido parcial",IF(F19<'Premissas'!$B$2,"Em atraso",IF(F19<='Premissas'!$B$2+'Premissas'!$B$3,"A vencer","Em aberto"))))))) | O19: =IF(OR(N19="",N19="Revisar",M19="",M19<=0,F19="",F19>='Premissas'!$B$2),"",'Premissas'!$B$2-F19) | P19: =IF(N19="","",IF(N19="Recebido","Quitado",IF(N19="Revisar","Revisar",IF(O19="","Sem atraso",IF(O19<='Premissas'!$B$4,"1 a "&'Premissas'!$B$4&" dias",IF(O19<='Premissas'!$B$5,('Premissas'!$B$4+1)&" a "&'Premissas'!$B$5&" dias","Acima de "&'Premissas'!$B$5&" dias")))))) | Q19: =IF(N19="","",IF(N19="Revisar","Conferir dados",IF(N19="Em atraso","Cobrança vencida",IF(N19="Recebido parcial",IF(F19<'Premissas'!$B$2,"Parcial e vencida","Recebimento parcial"),IF(N19="A vencer","Vence em breve","")))))
J20: =IF(A20="","",IF(OR(G20="",G20<=0),"",MAX(0,G20+IF(H20="",0,H20)-IF(I20="",0,I20)))) | M20: =IF(OR(A20="",J20=""),"",J20-IF(L20="",0,L20)) | N20: =IF(COUNTA(A20:I20,K20:L20,R20)=0,"",IF(OR(A20="",B20="",C20="",D20="",E20="",F20="",J20="",F20<E20,AND(A20<>"",COUNTIF($A$2:$A$201,A20)>1),AND(K20="",L20<>""),AND(K20<>"",OR(L20="",L20<=0,K20<E20,K20>'Premissas'!$B$2))),"Revisar",IF(M20<0,"Revisar",IF(M20=0,IF(K20="","Revisar","Recebido"),IF(IF(L20="",0,L20)>0,"Recebido parcial",IF(F20<'Premissas'!$B$2,"Em atraso",IF(F20<='Premissas'!$B$2+'Premissas'!$B$3,"A vencer","Em aberto"))))))) | O20: =IF(OR(N20="",N20="Revisar",M20="",M20<=0,F20="",F20>='Premissas'!$B$2),"",'Premissas'!$B$2-F20) | P20: =IF(N20="","",IF(N20="Recebido","Quitado",IF(N20="Revisar","Revisar",IF(O20="","Sem atraso",IF(O20<='Premissas'!$B$4,"1 a "&'Premissas'!$B$4&" dias",IF(O20<='Premissas'!$B$5,('Premissas'!$B$4+1)&" a "&'Premissas'!$B$5&" dias","Acima de "&'Premissas'!$B$5&" dias")))))) | Q20: =IF(N20="","",IF(N20="Revisar","Conferir dados",IF(N20="Em atraso","Cobrança vencida",IF(N20="Recebido parcial",IF(F20<'Premissas'!$B$2,"Parcial e vencida","Recebimento parcial"),IF(N20="A vencer","Vence em breve","")))))
J21: =IF(A21="","",IF(OR(G21="",G21<=0),"",MAX(0,G21+IF(H21="",0,H21)-IF(I21="",0,I21)))) | M21: =IF(OR(A21="",J21=""),"",J21-IF(L21="",0,L21)) | N21: =IF(COUNTA(A21:I21,K21:L21,R21)=0,"",IF(OR(A21="",B21="",C21="",D21="",E21="",F21="",J21="",F21<E21,AND(A21<>"",COUNTIF($A$2:$A$201,A21)>1),AND(K21="",L21<>""),AND(K21<>"",OR(L21="",L21<=0,K21<E21,K21>'Premissas'!$B$2))),"Revisar",IF(M21<0,"Revisar",IF(M21=0,IF(K21="","Revisar","Recebido"),IF(IF(L21="",0,L21)>0,"Recebido parcial",IF(F21<'Premissas'!$B$2,"Em atraso",IF(F21<='Premissas'!$B$2+'Premissas'!$B$3,"A vencer","Em aberto"))))))) | O21: =IF(OR(N21="",N21="Revisar",M21="",M21<=0,F21="",F21>='Premissas'!$B$2),"",'Premissas'!$B$2-F21) | P21: =IF(N21="","",IF(N21="Recebido","Quitado",IF(N21="Revisar","Revisar",IF(O21="","Sem atraso",IF(O21<='Premissas'!$B$4,"1 a "&'Premissas'!$B$4&" dias",IF(O21<='Premissas'!$B$5,('Premissas'!$B$4+1)&" a "&'Premissas'!$B$5&" dias","Acima de "&'Premissas'!$B$5&" dias")))))) | Q21: =IF(N21="","",IF(N21="Revisar","Conferir dados",IF(N21="Em atraso","Cobrança vencida",IF(N21="Recebido parcial",IF(F21<'Premissas'!$B$2,"Parcial e vencida","Recebimento parcial"),IF(N21="A vencer","Vence em breve","")))))
J22: =IF(A22="","",IF(OR(G22="",G22<=0),"",MAX(0,G22+IF(H22="",0,H22)-IF(I22="",0,I22)))) | M22: =IF(OR(A22="",J22=""),"",J22-IF(L22="",0,L22)) | N22: =IF(COUNTA(A22:I22,K22:L22,R22)=0,"",IF(OR(A22="",B22="",C22="",D22="",E22="",F22="",J22="",F22<E22,AND(A22<>"",COUNTIF($A$2:$A$201,A22)>1),AND(K22="",L22<>""),AND(K22<>"",OR(L22="",L22<=0,K22<E22,K22>'Premissas'!$B$2))),"Revisar",IF(M22<0,"Revisar",IF(M22=0,IF(K22="","Revisar","Recebido"),IF(IF(L22="",0,L22)>0,"Recebido parcial",IF(F22<'Premissas'!$B$2,"Em atraso",IF(F22<='Premissas'!$B$2+'Premissas'!$B$3,"A vencer","Em aberto"))))))) | O22: =IF(OR(N22="",N22="Revisar",M22="",M22<=0,F22="",F22>='Premissas'!$B$2),"",'Premissas'!$B$2-F22) | P22: =IF(N22="","",IF(N22="Recebido","Quitado",IF(N22="Revisar","Revisar",IF(O22="","Sem atraso",IF(O22<='Premissas'!$B$4,"1 a "&'Premissas'!$B$4&" dias",IF(O22<='Premissas'!$B$5,('Premissas'!$B$4+1)&" a "&'Premissas'!$B$5&" dias","Acima de "&'Premissas'!$B$5&" dias")))))) | Q22: =IF(N22="","",IF(N22="Revisar","Conferir dados",IF(N22="Em atraso","Cobrança vencida",IF(N22="Recebido parcial",IF(F22<'Premissas'!$B$2,"Parcial e vencida","Recebimento parcial"),IF(N22="A vencer","Vence em breve","")))))
J23: =IF(A23="","",IF(OR(G23="",G23<=0),"",MAX(0,G23+IF(H23="",0,H23)-IF(I23="",0,I23)))) | M23: =IF(OR(A23="",J23=""),"",J23-IF(L23="",0,L23)) | N23: =IF(COUNTA(A23:I23,K23:L23,R23)=0,"",IF(OR(A23="",B23="",C23="",D23="",E23="",F23="",J23="",F23<E23,AND(A23<>"",COUNTIF($A$2:$A$201,A23)>1),AND(K23="",L23<>""),AND(K23<>"",OR(L23="",L23<=0,K23<E23,K23>'Premissas'!$B$2))),"Revisar",IF(M23<0,"Revisar",IF(M23=0,IF(K23="","Revisar","Recebido"),IF(IF(L23="",0,L23)>0,"Recebido parcial",IF(F23<'Premissas'!$B$2,"Em atraso",IF(F23<='Premissas'!$B$2+'Premissas'!$B$3,"A vencer","Em aberto"))))))) | O23: =IF(OR(N23="",N23="Revisar",M23="",M23<=0,F23="",F23>='Premissas'!$B$2),"",'Premissas'!$B$2-F23) | P23: =IF(N23="","",IF(N23="Recebido","Quitado",IF(N23="Revisar","Revisar",IF(O23="","Sem atraso",IF(O23<='Premissas'!$B$4,"1 a "&'Premissas'!$B$4&" dias",IF(O23<='Premissas'!$B$5,('Premissas'!$B$4+1)&" a "&'Premissas'!$B$5&" dias","Acima de "&'Premissas'!$B$5&" dias")))))) | Q23: =IF(N23="","",IF(N23="Revisar","Conferir dados",IF(N23="Em atraso","Cobrança vencida",IF(N23="Recebido parcial",IF(F23<'Premissas'!$B$2,"Parcial e vencida","Recebimento parcial"),IF(N23="A vencer","Vence em breve","")))))
... J201: =IF(A201="","",IF(OR(G201="",G201<=0),"",MAX(0,G201+IF(H201="",0,H201)-IF(I201="",0,I201)))) | M201: =IF(OR(A201="",J201=""),"",J201-IF(L201="",0,L201)) | N201: =IF(COUNTA(A201:I201,K201:L201,R201)=0,"",IF(OR(A201="",B201="",C201="",D201="",E201="",F201="",J201="",F201<E201,AND(A201<>"",COUNTIF($A$2:$A$201,A201)>1),AND(K201="",L201<>""),AND(K201<>"",OR(L201="",L201<=0,K201<E201,K201>'Premissas'!$B$2))),"Revisar",IF(M201<0,"Revisar",IF(M201=0,IF(K201="","Revisar","Recebido"),IF(IF(L201="",0,L201)>0,"Recebido parcial",IF(F201<'Premissas'!$B$2,"Em atraso",IF(F201<='Premissas'!$B$2+'Premissas'!$B$3,"A vencer","Em aberto"))))))) | O201: =IF(OR(N201="",N201="Revisar",M201="",M201<=0,F201="",F201>='Premissas'!$B$2),"",'Premissas'!$B$2-F201) | P201: =IF(N201="","",IF(N201="Recebido","Quitado",IF(N201="Revisar","Revisar",IF(O201="","Sem atraso",IF(O201<='Premissas'!$B$4,"1 a "&'Premissas'!$B$4&" dias",IF(O201<='Premissas'!$B$5,('Premissas'!$B$4+1)&" a "&'Premissas'!$B$5&" dias","Acima de "&'Premissas'!$B$5&" dias")))))) | Q201: =IF(N201="","",IF(N201="Revisar","Conferir dados",IF(N201="Em atraso","Cobrança vencida",IF(N201="Recebido parcial",IF(F201<'Premissas'!$B$2,"Parcial e vencida","Recebimento parcial"),IF(N201="A vencer","Vence em breve","")))))

Sheet Premissas
A1: Premissa | B1: Valor editável | D1: Categorias disponíveis
A2: Data de referência | B2: 46283 | D2: Uso de espaço comum
A3: Dias para alerta de vencimento | B3: 7 | D3: Reposição de item
A4: Limite da primeira faixa de atraso | B4: 30 | D4: Consumo individualizado
A5: Limite da segunda faixa de atraso | B5: 60 | D5: Rateio extraordinário
A6: Início do período de recebimentos | B6: 46266 | D6: Outro
A7: Fim do período de recebimentos | B7: 46295
