Workbook

Sheet Resumo
A1: Resumo operacional do cadastro de inquilinos
A2: Data de referência | B2: =Premissas!B2
A4: Cadastros identificados | B4: =COUNTIF(Cadastro!$A$2:$A$111,"<>")
A5: Em andamento | B5: =COUNTIF(Cadastro!$M$2:$M$111,A5)
A6: Termina em breve | B6: =COUNTIF(Cadastro!$M$2:$M$111,A6)
A7: A iniciar | B7: =COUNTIF(Cadastro!$M$2:$M$111,A7)
A8: Encerrada | B8: =COUNTIF(Cadastro!$M$2:$M$111,A8)
A9: Cadastro incompleto | B9: =COUNTIF(Cadastro!$M$2:$M$111,A9)
A10: Registros com pendência | B10: =COUNTIF(Cadastro!$O$2:$O$111,"Revisar*")
A11: Atualizações vencidas | B11: =COUNTIFS(Cadastro!$L$2:$L$111,"<>",Cadastro!$L$2:$L$111,"<"&Premissas!$B$2-Premissas!$B$4,Cadastro!$M$2:$M$111,"<>Encerrada")
A12: Percentual com contato administrativo autorizado | B12: =IFERROR(COUNTIFS(Cadastro!$A$2:$A$111,"<>",Cadastro!$J$2:$J$111,"Sim")/$B$4,"")

Sheet Cadastro
A1: ID do cadastro | B1: Bloco/Torre | C1: Unidade | D1: Nome do ocupante | E1: Papel na locação | F1: Início da ocupação | G1: Fim previsto | H1: Telefone informado | I1: E-mail informado | J1: Contato administrativo autorizado? | K1: Canal autorizado | L1: Data da última atualização | M1: Situação | N1: Dias para término | O1: Pendência cadastral | P1: Observações administrativas
A2: FIC-001 | B2: Bloco A | C2: 101 | D2: Pessoa Fictícia 01 | E2: Titular | F2: 46023 | G2: 46387 | H2: (00) 90000-0001 | J2: Sim | K2: Telefone | L2: 46280 | M2: =IF(COUNTA(A2:L2)=0,"",IF(OR(F2="",G2="",G2<F2),"Cadastro incompleto",IF(G2<Premissas!$B$2,"Encerrada",IF(F2>Premissas!$B$2,"A iniciar",IF(G2<=Premissas!$B$2+Premissas!$B$3,"Termina em breve","Em andamento"))))) | N2: =IF(OR(F2="",G2="",G2<F2),"",G2-Premissas!$B$2) | O2: =IF(COUNTA(A2:L2)=0,"",IF(OR(A2="",B2="",C2="",D2="",E2="",F2="",G2="",J2="",K2="",L2=""),"Revisar campos obrigatórios",IF(G2<F2,"Revisar período",IF(AND(J2="Não",OR(H2<>"",I2<>"",K2<>"Nenhum")),"Revisar contato",IF(AND(J2="Sim",OR(K2="Nenhum",AND(OR(K2="Telefone",K2="Ambos"),H2=""),AND(OR(K2="E-mail",K2="Ambos"),I2=""))),"Revisar contato","Completo"))))) | P2: Exemplo fictício
A3: FIC-002 | B3: Bloco A | C3: 102 | D3: Pessoa Fictícia 02 | E3: Coocupante | F3: 46082 | G3: 46295 | I3: pessoa02@exemplo.invalid | J3: Sim | K3: E-mail | L3: 46277 | M3: =IF(COUNTA(A3:L3)=0,"",IF(OR(F3="",G3="",G3<F3),"Cadastro incompleto",IF(G3<Premissas!$B$2,"Encerrada",IF(F3>Premissas!$B$2,"A iniciar",IF(G3<=Premissas!$B$2+Premissas!$B$3,"Termina em breve","Em andamento"))))) | N3: =IF(OR(F3="",G3="",G3<F3),"",G3-Premissas!$B$2) | O3: =IF(COUNTA(A3:L3)=0,"",IF(OR(A3="",B3="",C3="",D3="",E3="",F3="",G3="",J3="",K3="",L3=""),"Revisar campos obrigatórios",IF(G3<F3,"Revisar período",IF(AND(J3="Não",OR(H3<>"",I3<>"",K3<>"Nenhum")),"Revisar contato",IF(AND(J3="Sim",OR(K3="Nenhum",AND(OR(K3="Telefone",K3="Ambos"),H3=""),AND(OR(K3="E-mail",K3="Ambos"),I3=""))),"Revisar contato","Completo"))))) | P3: Exemplo fictício
A4: FIC-003 | B4: Bloco B | C4: 201 | D4: Pessoa Fictícia 03 | E4: Titular | F4: 46296 | G4: 46660 | H4: (00) 90000-0003 | I4: pessoa03@exemplo.invalid | J4: Sim | K4: Ambos | L4: 46275 | M4: =IF(COUNTA(A4:L4)=0,"",IF(OR(F4="",G4="",G4<F4),"Cadastro incompleto",IF(G4<Premissas!$B$2,"Encerrada",IF(F4>Premissas!$B$2,"A iniciar",IF(G4<=Premissas!$B$2+Premissas!$B$3,"Termina em breve","Em andamento"))))) | N4: =IF(OR(F4="",G4="",G4<F4),"",G4-Premissas!$B$2) | O4: =IF(COUNTA(A4:L4)=0,"",IF(OR(A4="",B4="",C4="",D4="",E4="",F4="",G4="",J4="",K4="",L4=""),"Revisar campos obrigatórios",IF(G4<F4,"Revisar período",IF(AND(J4="Não",OR(H4<>"",I4<>"",K4<>"Nenhum")),"Revisar contato",IF(AND(J4="Sim",OR(K4="Nenhum",AND(OR(K4="Telefone",K4="Ambos"),H4=""),AND(OR(K4="E-mail",K4="Ambos"),I4=""))),"Revisar contato","Completo"))))) | P4: Exemplo fictício
A5: FIC-004 | B5: Bloco B | C5: 202 | D5: Pessoa Fictícia 04 | E5: Titular | F5: 45901 | G5: 46265 | J5: Não | K5: Nenhum | L5: 46054 | M5: =IF(COUNTA(A5:L5)=0,"",IF(OR(F5="",G5="",G5<F5),"Cadastro incompleto",IF(G5<Premissas!$B$2,"Encerrada",IF(F5>Premissas!$B$2,"A iniciar",IF(G5<=Premissas!$B$2+Premissas!$B$3,"Termina em breve","Em andamento"))))) | N5: =IF(OR(F5="",G5="",G5<F5),"",G5-Premissas!$B$2) | O5: =IF(COUNTA(A5:L5)=0,"",IF(OR(A5="",B5="",C5="",D5="",E5="",F5="",G5="",J5="",K5="",L5=""),"Revisar campos obrigatórios",IF(G5<F5,"Revisar período",IF(AND(J5="Não",OR(H5<>"",I5<>"",K5<>"Nenhum")),"Revisar contato",IF(AND(J5="Sim",OR(K5="Nenhum",AND(OR(K5="Telefone",K5="Ambos"),H5=""),AND(OR(K5="E-mail",K5="Ambos"),I5=""))),"Revisar contato","Completo"))))) | P5: Exemplo fictício
A6: FIC-005 | B6: Torre Única | C6: 301 | D6: Pessoa Fictícia 05 | E6: Titular | F6: 46174 | H6: (00) 90000-0005 | J6: Sim | K6: Telefone | L6: 46283 | M6: =IF(COUNTA(A6:L6)=0,"",IF(OR(F6="",G6="",G6<F6),"Cadastro incompleto",IF(G6<Premissas!$B$2,"Encerrada",IF(F6>Premissas!$B$2,"A iniciar",IF(G6<=Premissas!$B$2+Premissas!$B$3,"Termina em breve","Em andamento"))))) | N6: =IF(OR(F6="",G6="",G6<F6),"",G6-Premissas!$B$2) | O6: =IF(COUNTA(A6:L6)=0,"",IF(OR(A6="",B6="",C6="",D6="",E6="",F6="",G6="",J6="",K6="",L6=""),"Revisar campos obrigatórios",IF(G6<F6,"Revisar período",IF(AND(J6="Não",OR(H6<>"",I6<>"",K6<>"Nenhum")),"Revisar contato",IF(AND(J6="Sim",OR(K6="Nenhum",AND(OR(K6="Telefone",K6="Ambos"),H6=""),AND(OR(K6="E-mail",K6="Ambos"),I6=""))),"Revisar contato","Completo"))))) | P6: Exemplo fictício
A7: FIC-006 | B7: Bloco A | C7: 103 | D7: Pessoa Fictícia 06 | E7: Coocupante | F7: 46204 | G7: 46568 | J7: Não | K7: Nenhum | L7: 46082 | M7: =IF(COUNTA(A7:L7)=0,"",IF(OR(F7="",G7="",G7<F7),"Cadastro incompleto",IF(G7<Premissas!$B$2,"Encerrada",IF(F7>Premissas!$B$2,"A iniciar",IF(G7<=Premissas!$B$2+Premissas!$B$3,"Termina em breve","Em andamento"))))) | N7: =IF(OR(F7="",G7="",G7<F7),"",G7-Premissas!$B$2) | O7: =IF(COUNTA(A7:L7)=0,"",IF(OR(A7="",B7="",C7="",D7="",E7="",F7="",G7="",J7="",K7="",L7=""),"Revisar campos obrigatórios",IF(G7<F7,"Revisar período",IF(AND(J7="Não",OR(H7<>"",I7<>"",K7<>"Nenhum")),"Revisar contato",IF(AND(J7="Sim",OR(K7="Nenhum",AND(OR(K7="Telefone",K7="Ambos"),H7=""),AND(OR(K7="E-mail",K7="Ambos"),I7=""))),"Revisar contato","Completo"))))) | P7: Exemplo fictício
A8: FIC-007 | B8: Bloco B | C8: 203 | D8: Pessoa Fictícia 07 | E8: Titular | F8: 46285 | G8: 46649 | I8: pessoa07@exemplo.invalid | J8: Sim | K8: E-mail | L8: 46284 | M8: =IF(COUNTA(A8:L8)=0,"",IF(OR(F8="",G8="",G8<F8),"Cadastro incompleto",IF(G8<Premissas!$B$2,"Encerrada",IF(F8>Premissas!$B$2,"A iniciar",IF(G8<=Premissas!$B$2+Premissas!$B$3,"Termina em breve","Em andamento"))))) | N8: =IF(OR(F8="",G8="",G8<F8),"",G8-Premissas!$B$2) | O8: =IF(COUNTA(A8:L8)=0,"",IF(OR(A8="",B8="",C8="",D8="",E8="",F8="",G8="",J8="",K8="",L8=""),"Revisar campos obrigatórios",IF(G8<F8,"Revisar período",IF(AND(J8="Não",OR(H8<>"",I8<>"",K8<>"Nenhum")),"Revisar contato",IF(AND(J8="Sim",OR(K8="Nenhum",AND(OR(K8="Telefone",K8="Ambos"),H8=""),AND(OR(K8="E-mail",K8="Ambos"),I8=""))),"Revisar contato","Completo"))))) | P8: Exemplo fictício
A9: FIC-008 | B9: Bloco A | C9: 104 | D9: Pessoa Fictícia 08 | E9: Titular | F9: 46054 | G9: 46305 | H9: (00) 90000-0008 | I9: pessoa08@exemplo.invalid | J9: Sim | K9: Ambos | L9: 46266 | M9: =IF(COUNTA(A9:L9)=0,"",IF(OR(F9="",G9="",G9<F9),"Cadastro incompleto",IF(G9<Premissas!$B$2,"Encerrada",IF(F9>Premissas!$B$2,"A iniciar",IF(G9<=Premissas!$B$2+Premissas!$B$3,"Termina em breve","Em andamento"))))) | N9: =IF(OR(F9="",G9="",G9<F9),"",G9-Premissas!$B$2) | O9: =IF(COUNTA(A9:L9)=0,"",IF(OR(A9="",B9="",C9="",D9="",E9="",F9="",G9="",J9="",K9="",L9=""),"Revisar campos obrigatórios",IF(G9<F9,"Revisar período",IF(AND(J9="Não",OR(H9<>"",I9<>"",K9<>"Nenhum")),"Revisar contato",IF(AND(J9="Sim",OR(K9="Nenhum",AND(OR(K9="Telefone",K9="Ambos"),H9=""),AND(OR(K9="E-mail",K9="Ambos"),I9=""))),"Revisar contato","Completo"))))) | P9: Exemplo fictício
A10: FIC-009 | B10: Bloco B | C10: 204 | D10: Pessoa Fictícia 09 | E10: Coocupante | F10: 46143 | G10: 46507 | J10: Sim | K10: E-mail | L10: 46270 | M10: =IF(COUNTA(A10:L10)=0,"",IF(OR(F10="",G10="",G10<F10),"Cadastro incompleto",IF(G10<Premissas!$B$2,"Encerrada",IF(F10>Premissas!$B$2,"A iniciar",IF(G10<=Premissas!$B$2+Premissas!$B$3,"Termina em breve","Em andamento"))))) | N10: =IF(OR(F10="",G10="",G10<F10),"",G10-Premissas!$B$2) | O10: =IF(COUNTA(A10:L10)=0,"",IF(OR(A10="",B10="",C10="",D10="",E10="",F10="",G10="",J10="",K10="",L10=""),"Revisar campos obrigatórios",IF(G10<F10,"Revisar período",IF(AND(J10="Não",OR(H10<>"",I10<>"",K10<>"Nenhum")),"Revisar contato",IF(AND(J10="Sim",OR(K10="Nenhum",AND(OR(K10="Telefone",K10="Ambos"),H10=""),AND(OR(K10="E-mail",K10="Ambos"),I10=""))),"Revisar contato","Completo"))))) | P10: Exemplo fictício
A11: FIC-010 | B11: Torre Única | C11: 302 | D11: Pessoa Fictícia 10 | E11: Titular | F11: 46387 | G11: 46357 | J11: Não | K11: Nenhum | L11: 46275 | M11: =IF(COUNTA(A11:L11)=0,"",IF(OR(F11="",G11="",G11<F11),"Cadastro incompleto",IF(G11<Premissas!$B$2,"Encerrada",IF(F11>Premissas!$B$2,"A iniciar",IF(G11<=Premissas!$B$2+Premissas!$B$3,"Termina em breve","Em andamento"))))) | N11: =IF(OR(F11="",G11="",G11<F11),"",G11-Premissas!$B$2) | O11: =IF(COUNTA(A11:L11)=0,"",IF(OR(A11="",B11="",C11="",D11="",E11="",F11="",G11="",J11="",K11="",L11=""),"Revisar campos obrigatórios",IF(G11<F11,"Revisar período",IF(AND(J11="Não",OR(H11<>"",I11<>"",K11<>"Nenhum")),"Revisar contato",IF(AND(J11="Sim",OR(K11="Nenhum",AND(OR(K11="Telefone",K11="Ambos"),H11=""),AND(OR(K11="E-mail",K11="Ambos"),I11=""))),"Revisar contato","Completo"))))) | P11: Exemplo fictício
M12: =IF(COUNTA(A12:L12)=0,"",IF(OR(F12="",G12="",G12<F12),"Cadastro incompleto",IF(G12<Premissas!$B$2,"Encerrada",IF(F12>Premissas!$B$2,"A iniciar",IF(G12<=Premissas!$B$2+Premissas!$B$3,"Termina em breve","Em andamento"))))) | N12: =IF(OR(F12="",G12="",G12<F12),"",G12-Premissas!$B$2) | O12: =IF(COUNTA(A12:L12)=0,"",IF(OR(A12="",B12="",C12="",D12="",E12="",F12="",G12="",J12="",K12="",L12=""),"Revisar campos obrigatórios",IF(G12<F12,"Revisar período",IF(AND(J12="Não",OR(H12<>"",I12<>"",K12<>"Nenhum")),"Revisar contato",IF(AND(J12="Sim",OR(K12="Nenhum",AND(OR(K12="Telefone",K12="Ambos"),H12=""),AND(OR(K12="E-mail",K12="Ambos"),I12=""))),"Revisar contato","Completo")))))
M13: =IF(COUNTA(A13:L13)=0,"",IF(OR(F13="",G13="",G13<F13),"Cadastro incompleto",IF(G13<Premissas!$B$2,"Encerrada",IF(F13>Premissas!$B$2,"A iniciar",IF(G13<=Premissas!$B$2+Premissas!$B$3,"Termina em breve","Em andamento"))))) | N13: =IF(OR(F13="",G13="",G13<F13),"",G13-Premissas!$B$2) | O13: =IF(COUNTA(A13:L13)=0,"",IF(OR(A13="",B13="",C13="",D13="",E13="",F13="",G13="",J13="",K13="",L13=""),"Revisar campos obrigatórios",IF(G13<F13,"Revisar período",IF(AND(J13="Não",OR(H13<>"",I13<>"",K13<>"Nenhum")),"Revisar contato",IF(AND(J13="Sim",OR(K13="Nenhum",AND(OR(K13="Telefone",K13="Ambos"),H13=""),AND(OR(K13="E-mail",K13="Ambos"),I13=""))),"Revisar contato","Completo")))))
M14: =IF(COUNTA(A14:L14)=0,"",IF(OR(F14="",G14="",G14<F14),"Cadastro incompleto",IF(G14<Premissas!$B$2,"Encerrada",IF(F14>Premissas!$B$2,"A iniciar",IF(G14<=Premissas!$B$2+Premissas!$B$3,"Termina em breve","Em andamento"))))) | N14: =IF(OR(F14="",G14="",G14<F14),"",G14-Premissas!$B$2) | O14: =IF(COUNTA(A14:L14)=0,"",IF(OR(A14="",B14="",C14="",D14="",E14="",F14="",G14="",J14="",K14="",L14=""),"Revisar campos obrigatórios",IF(G14<F14,"Revisar período",IF(AND(J14="Não",OR(H14<>"",I14<>"",K14<>"Nenhum")),"Revisar contato",IF(AND(J14="Sim",OR(K14="Nenhum",AND(OR(K14="Telefone",K14="Ambos"),H14=""),AND(OR(K14="E-mail",K14="Ambos"),I14=""))),"Revisar contato","Completo")))))
M15: =IF(COUNTA(A15:L15)=0,"",IF(OR(F15="",G15="",G15<F15),"Cadastro incompleto",IF(G15<Premissas!$B$2,"Encerrada",IF(F15>Premissas!$B$2,"A iniciar",IF(G15<=Premissas!$B$2+Premissas!$B$3,"Termina em breve","Em andamento"))))) | N15: =IF(OR(F15="",G15="",G15<F15),"",G15-Premissas!$B$2) | O15: =IF(COUNTA(A15:L15)=0,"",IF(OR(A15="",B15="",C15="",D15="",E15="",F15="",G15="",J15="",K15="",L15=""),"Revisar campos obrigatórios",IF(G15<F15,"Revisar período",IF(AND(J15="Não",OR(H15<>"",I15<>"",K15<>"Nenhum")),"Revisar contato",IF(AND(J15="Sim",OR(K15="Nenhum",AND(OR(K15="Telefone",K15="Ambos"),H15=""),AND(OR(K15="E-mail",K15="Ambos"),I15=""))),"Revisar contato","Completo")))))
M16: =IF(COUNTA(A16:L16)=0,"",IF(OR(F16="",G16="",G16<F16),"Cadastro incompleto",IF(G16<Premissas!$B$2,"Encerrada",IF(F16>Premissas!$B$2,"A iniciar",IF(G16<=Premissas!$B$2+Premissas!$B$3,"Termina em breve","Em andamento"))))) | N16: =IF(OR(F16="",G16="",G16<F16),"",G16-Premissas!$B$2) | O16: =IF(COUNTA(A16:L16)=0,"",IF(OR(A16="",B16="",C16="",D16="",E16="",F16="",G16="",J16="",K16="",L16=""),"Revisar campos obrigatórios",IF(G16<F16,"Revisar período",IF(AND(J16="Não",OR(H16<>"",I16<>"",K16<>"Nenhum")),"Revisar contato",IF(AND(J16="Sim",OR(K16="Nenhum",AND(OR(K16="Telefone",K16="Ambos"),H16=""),AND(OR(K16="E-mail",K16="Ambos"),I16=""))),"Revisar contato","Completo")))))
M17: =IF(COUNTA(A17:L17)=0,"",IF(OR(F17="",G17="",G17<F17),"Cadastro incompleto",IF(G17<Premissas!$B$2,"Encerrada",IF(F17>Premissas!$B$2,"A iniciar",IF(G17<=Premissas!$B$2+Premissas!$B$3,"Termina em breve","Em andamento"))))) | N17: =IF(OR(F17="",G17="",G17<F17),"",G17-Premissas!$B$2) | O17: =IF(COUNTA(A17:L17)=0,"",IF(OR(A17="",B17="",C17="",D17="",E17="",F17="",G17="",J17="",K17="",L17=""),"Revisar campos obrigatórios",IF(G17<F17,"Revisar período",IF(AND(J17="Não",OR(H17<>"",I17<>"",K17<>"Nenhum")),"Revisar contato",IF(AND(J17="Sim",OR(K17="Nenhum",AND(OR(K17="Telefone",K17="Ambos"),H17=""),AND(OR(K17="E-mail",K17="Ambos"),I17=""))),"Revisar contato","Completo")))))
M18: =IF(COUNTA(A18:L18)=0,"",IF(OR(F18="",G18="",G18<F18),"Cadastro incompleto",IF(G18<Premissas!$B$2,"Encerrada",IF(F18>Premissas!$B$2,"A iniciar",IF(G18<=Premissas!$B$2+Premissas!$B$3,"Termina em breve","Em andamento"))))) | N18: =IF(OR(F18="",G18="",G18<F18),"",G18-Premissas!$B$2) | O18: =IF(COUNTA(A18:L18)=0,"",IF(OR(A18="",B18="",C18="",D18="",E18="",F18="",G18="",J18="",K18="",L18=""),"Revisar campos obrigatórios",IF(G18<F18,"Revisar período",IF(AND(J18="Não",OR(H18<>"",I18<>"",K18<>"Nenhum")),"Revisar contato",IF(AND(J18="Sim",OR(K18="Nenhum",AND(OR(K18="Telefone",K18="Ambos"),H18=""),AND(OR(K18="E-mail",K18="Ambos"),I18=""))),"Revisar contato","Completo")))))
M19: =IF(COUNTA(A19:L19)=0,"",IF(OR(F19="",G19="",G19<F19),"Cadastro incompleto",IF(G19<Premissas!$B$2,"Encerrada",IF(F19>Premissas!$B$2,"A iniciar",IF(G19<=Premissas!$B$2+Premissas!$B$3,"Termina em breve","Em andamento"))))) | N19: =IF(OR(F19="",G19="",G19<F19),"",G19-Premissas!$B$2) | O19: =IF(COUNTA(A19:L19)=0,"",IF(OR(A19="",B19="",C19="",D19="",E19="",F19="",G19="",J19="",K19="",L19=""),"Revisar campos obrigatórios",IF(G19<F19,"Revisar período",IF(AND(J19="Não",OR(H19<>"",I19<>"",K19<>"Nenhum")),"Revisar contato",IF(AND(J19="Sim",OR(K19="Nenhum",AND(OR(K19="Telefone",K19="Ambos"),H19=""),AND(OR(K19="E-mail",K19="Ambos"),I19=""))),"Revisar contato","Completo")))))
M20: =IF(COUNTA(A20:L20)=0,"",IF(OR(F20="",G20="",G20<F20),"Cadastro incompleto",IF(G20<Premissas!$B$2,"Encerrada",IF(F20>Premissas!$B$2,"A iniciar",IF(G20<=Premissas!$B$2+Premissas!$B$3,"Termina em breve","Em andamento"))))) | N20: =IF(OR(F20="",G20="",G20<F20),"",G20-Premissas!$B$2) | O20: =IF(COUNTA(A20:L20)=0,"",IF(OR(A20="",B20="",C20="",D20="",E20="",F20="",G20="",J20="",K20="",L20=""),"Revisar campos obrigatórios",IF(G20<F20,"Revisar período",IF(AND(J20="Não",OR(H20<>"",I20<>"",K20<>"Nenhum")),"Revisar contato",IF(AND(J20="Sim",OR(K20="Nenhum",AND(OR(K20="Telefone",K20="Ambos"),H20=""),AND(OR(K20="E-mail",K20="Ambos"),I20=""))),"Revisar contato","Completo")))))
M21: =IF(COUNTA(A21:L21)=0,"",IF(OR(F21="",G21="",G21<F21),"Cadastro incompleto",IF(G21<Premissas!$B$2,"Encerrada",IF(F21>Premissas!$B$2,"A iniciar",IF(G21<=Premissas!$B$2+Premissas!$B$3,"Termina em breve","Em andamento"))))) | N21: =IF(OR(F21="",G21="",G21<F21),"",G21-Premissas!$B$2) | O21: =IF(COUNTA(A21:L21)=0,"",IF(OR(A21="",B21="",C21="",D21="",E21="",F21="",G21="",J21="",K21="",L21=""),"Revisar campos obrigatórios",IF(G21<F21,"Revisar período",IF(AND(J21="Não",OR(H21<>"",I21<>"",K21<>"Nenhum")),"Revisar contato",IF(AND(J21="Sim",OR(K21="Nenhum",AND(OR(K21="Telefone",K21="Ambos"),H21=""),AND(OR(K21="E-mail",K21="Ambos"),I21=""))),"Revisar contato","Completo")))))
M22: =IF(COUNTA(A22:L22)=0,"",IF(OR(F22="",G22="",G22<F22),"Cadastro incompleto",IF(G22<Premissas!$B$2,"Encerrada",IF(F22>Premissas!$B$2,"A iniciar",IF(G22<=Premissas!$B$2+Premissas!$B$3,"Termina em breve","Em andamento"))))) | N22: =IF(OR(F22="",G22="",G22<F22),"",G22-Premissas!$B$2) | O22: =IF(COUNTA(A22:L22)=0,"",IF(OR(A22="",B22="",C22="",D22="",E22="",F22="",G22="",J22="",K22="",L22=""),"Revisar campos obrigatórios",IF(G22<F22,"Revisar período",IF(AND(J22="Não",OR(H22<>"",I22<>"",K22<>"Nenhum")),"Revisar contato",IF(AND(J22="Sim",OR(K22="Nenhum",AND(OR(K22="Telefone",K22="Ambos"),H22=""),AND(OR(K22="E-mail",K22="Ambos"),I22=""))),"Revisar contato","Completo")))))
M23: =IF(COUNTA(A23:L23)=0,"",IF(OR(F23="",G23="",G23<F23),"Cadastro incompleto",IF(G23<Premissas!$B$2,"Encerrada",IF(F23>Premissas!$B$2,"A iniciar",IF(G23<=Premissas!$B$2+Premissas!$B$3,"Termina em breve","Em andamento"))))) | N23: =IF(OR(F23="",G23="",G23<F23),"",G23-Premissas!$B$2) | O23: =IF(COUNTA(A23:L23)=0,"",IF(OR(A23="",B23="",C23="",D23="",E23="",F23="",G23="",J23="",K23="",L23=""),"Revisar campos obrigatórios",IF(G23<F23,"Revisar período",IF(AND(J23="Não",OR(H23<>"",I23<>"",K23<>"Nenhum")),"Revisar contato",IF(AND(J23="Sim",OR(K23="Nenhum",AND(OR(K23="Telefone",K23="Ambos"),H23=""),AND(OR(K23="E-mail",K23="Ambos"),I23=""))),"Revisar contato","Completo")))))
... M111: =IF(COUNTA(A111:L111)=0,"",IF(OR(F111="",G111="",G111<F111),"Cadastro incompleto",IF(G111<Premissas!$B$2,"Encerrada",IF(F111>Premissas!$B$2,"A iniciar",IF(G111<=Premissas!$B$2+Premissas!$B$3,"Termina em breve","Em andamento"))))) | N111: =IF(OR(F111="",G111="",G111<F111),"",G111-Premissas!$B$2) | O111: =IF(COUNTA(A111:L111)=0,"",IF(OR(A111="",B111="",C111="",D111="",E111="",F111="",G111="",J111="",K111="",L111=""),"Revisar campos obrigatórios",IF(G111<F111,"Revisar período",IF(AND(J111="Não",OR(H111<>"",I111<>"",K111<>"Nenhum")),"Revisar contato",IF(AND(J111="Sim",OR(K111="Nenhum",AND(OR(K111="Telefone",K111="Ambos"),H111=""),AND(OR(K111="E-mail",K111="Ambos"),I111=""))),"Revisar contato","Completo")))))

Sheet Premissas
A1: Premissas e listas editáveis | D1: Bloco/Torre | E1: Papel na locação | F1: Sim/Não | G1: Canal autorizado
A2: Data de referência | B2: 46284 | D2: Bloco A | E2: Titular | F2: Sim | G2: Telefone
A3: Antecedência para término próximo, em dias | B3: 30 | D3: Bloco B | E3: Coocupante | F3: Não | G3: E-mail
A4: Máximo de dias sem atualização | B4: 180 | D4: Torre Única | G4: Ambos
G5: Nenhum
A7: Contato autorizado | B7: Registro interno informado pelo usuário; não envia mensagens nem comprova autorizações.
A8: Observações administrativas | B8: Não registrar documentos, dados bancários, credenciais, relatos de ocorrência ou informações de segurança.
A9: Escopo | B9: Não controla proprietários, contratos, cobranças, pagamentos, acesso ao condomínio ou obrigações jurídicas.
A10: Exemplos | B10: Todos os dados preenchidos na aba Cadastro são fictícios.
