Workbook
Name PrazoRevisao: 'Listas e Premissas'!$B$2
Name Antecedencia: 'Listas e Premissas'!$B$3
Name DataReferencia: 'Listas e Premissas'!$B$4
Name UnidadesPermitidas: 'Listas e Premissas'!$D$2:$D$501
Name Especies: 'Listas e Premissas'!$G$2:$G$5
Name Portes: 'Listas e Premissas'!$H$2:$H$5
Name Situacoes: 'Listas e Premissas'!$I$2:$I$3

Sheet Resumo
A1: Resumo operacional — Cadastro de animais
A3: Verificação da data | B3: =IF(OR(DataReferencia="",ABS(DataReferencia-TODAY())>7),"Atualize ou verifique a data de referência","Data de referência verificada")
A4: Data de referência | B4: =DataReferencia
A5: Indicador | B5: Resultado
A6: Animais ativos | B6: =COUNTIF('Cadastro de Animais'!$K$2:$K$213,"Ativo")
A7: Cadastros inativos | B7: =COUNTIF('Cadastro de Animais'!$K$2:$K$213,"Inativo")
A8: Unidades com animais ativos | B8: =COUNTIF('Listas e Premissas'!$E$2:$E$501,">0")
A9: Cadastros em dia | B9: =COUNTIF('Cadastro de Animais'!$O$2:$O$213,"Cadastro em dia")
A10: Revisões próximas | B10: =COUNTIF('Cadastro de Animais'!$O$2:$O$213,"Revisão próxima")
A11: Revisões vencidas | B11: =COUNTIF('Cadastro de Animais'!$O$2:$O$213,"Revisão vencida")
A12: Pendências cadastrais | B12: =COUNTIFS('Cadastro de Animais'!$O$2:$O$213,"<>",'Cadastro de Animais'!$O$2:$O$213,"<>Cadastro em dia",'Cadastro de Animais'!$O$2:$O$213,"<>Cadastro inativo",'Cadastro de Animais'!$O$2:$O$213,"<>Revisão próxima",'Cadastro de Animais'!$O$2:$O$213,"<>Revisão vencida")
A14: Animais ativos por espécie | B14: Quantidade
A15: Cão | B15: =COUNTIFS('Cadastro de Animais'!$D$2:$D$213,A15,'Cadastro de Animais'!$K$2:$K$213,"Ativo")
A16: Gato | B16: =COUNTIFS('Cadastro de Animais'!$D$2:$D$213,A16,'Cadastro de Animais'!$K$2:$K$213,"Ativo")
A17: Ave | B17: =COUNTIFS('Cadastro de Animais'!$D$2:$D$213,A17,'Cadastro de Animais'!$K$2:$K$213,"Ativo")
A18: Outro | B18: =COUNTIFS('Cadastro de Animais'!$D$2:$D$213,A18,'Cadastro de Animais'!$K$2:$K$213,"Ativo")

Sheet Cadastro de Animais
A1: ID do cadastro | B1: Unidade | C1: Nome/apelido do animal | D1: Espécie | E1: Porte | F1: Responsável pelo contato | G1: Telefone | H1: E-mail | I1: Data da declaração | J1: Data da última revisão | K1: Situação | L1: Data de encerramento | M1: Próxima revisão | N1: Contato disponível? | O1: Alerta | P1: Observação cadastral
A2: ANI-FIC-001 | B2: Bloco Fictício A - 101 | C2: Pipoca | D2: Cão | E2: Pequeno | F2: Pessoa Exemplo 01 | G2: (00) 90000-0001 | I2: 45726 | J2: 46275 | K2: Ativo | M2: =IF(OR(C2="",J2="",K2<>"Ativo",PrazoRevisao=""),"",J2+PrazoRevisao) | N2: =IF(C2="","",IF(OR(G2<>"",H2<>""),"Sim","Não")) | O2: =IF(C2="","",IF(OR(PrazoRevisao="",Antecedencia="",DataReferencia=""),"Premissas incompletas",IF(A2="","ID ausente",IF(COUNTIF($A$2:$A$213,A2)>1,"ID duplicado",IF(B2="","Unidade ausente",IF(I2="","Data da declaração ausente",IF(K2="","Situação ausente",IF(K2="Inativo",IF(L2="","Informar encerramento","Cadastro inativo"),IF(F2="","Responsável ausente",IF(AND(G2="",H2=""),"Contato ausente",IF(J2="","Revisão sem data",IF(M2<DataReferencia,"Revisão vencida",IF(M2<=DataReferencia+Antecedencia,"Revisão próxima","Cadastro em dia"))))))))))))) | P2: Exemplo fictício para teste; não usar para contato real.
A3: ANI-FIC-002 | B3: Bloco Fictício A - 101 | C3: Nuvem | D3: Gato | E3: Pequeno | F3: Pessoa Exemplo 02 | H3: pessoa02@example.invalid | I3: 45726 | J3: 46266 | K3: Ativo | M3: =IF(OR(C3="",J3="",K3<>"Ativo",PrazoRevisao=""),"",J3+PrazoRevisao) | N3: =IF(C3="","",IF(OR(G3<>"",H3<>""),"Sim","Não")) | O3: =IF(C3="","",IF(OR(PrazoRevisao="",Antecedencia="",DataReferencia=""),"Premissas incompletas",IF(A3="","ID ausente",IF(COUNTIF($A$2:$A$213,A3)>1,"ID duplicado",IF(B3="","Unidade ausente",IF(I3="","Data da declaração ausente",IF(K3="","Situação ausente",IF(K3="Inativo",IF(L3="","Informar encerramento","Cadastro inativo"),IF(F3="","Responsável ausente",IF(AND(G3="",H3=""),"Contato ausente",IF(J3="","Revisão sem data",IF(M3<DataReferencia,"Revisão vencida",IF(M3<=DataReferencia+Antecedencia,"Revisão próxima","Cadastro em dia"))))))))))))) | P3: Exemplo fictício para teste; não usar para contato real.
A4: ANI-FIC-003 | B4: Bloco Fictício A - 202 | C4: Sol | D4: Ave | E4: Não se aplica | F4: Pessoa Exemplo 03 | G4: (00) 90000-0003 | I4: 45884 | J4: 45884 | K4: Ativo | M4: =IF(OR(C4="",J4="",K4<>"Ativo",PrazoRevisao=""),"",J4+PrazoRevisao) | N4: =IF(C4="","",IF(OR(G4<>"",H4<>""),"Sim","Não")) | O4: =IF(C4="","",IF(OR(PrazoRevisao="",Antecedencia="",DataReferencia=""),"Premissas incompletas",IF(A4="","ID ausente",IF(COUNTIF($A$2:$A$213,A4)>1,"ID duplicado",IF(B4="","Unidade ausente",IF(I4="","Data da declaração ausente",IF(K4="","Situação ausente",IF(K4="Inativo",IF(L4="","Informar encerramento","Cadastro inativo"),IF(F4="","Responsável ausente",IF(AND(G4="",H4=""),"Contato ausente",IF(J4="","Revisão sem data",IF(M4<DataReferencia,"Revisão vencida",IF(M4<=DataReferencia+Antecedencia,"Revisão próxima","Cadastro em dia"))))))))))))) | P4: Exemplo fictício para teste; não usar para contato real.
A5: ANI-FIC-004 | B5: Bloco Fictício B - 303 | C5: Faísca | D5: Cão | E5: Grande | G5: (00) 90000-0004 | I5: 46042 | J5: 46042 | K5: Ativo | M5: =IF(OR(C5="",J5="",K5<>"Ativo",PrazoRevisao=""),"",J5+PrazoRevisao) | N5: =IF(C5="","",IF(OR(G5<>"",H5<>""),"Sim","Não")) | O5: =IF(C5="","",IF(OR(PrazoRevisao="",Antecedencia="",DataReferencia=""),"Premissas incompletas",IF(A5="","ID ausente",IF(COUNTIF($A$2:$A$213,A5)>1,"ID duplicado",IF(B5="","Unidade ausente",IF(I5="","Data da declaração ausente",IF(K5="","Situação ausente",IF(K5="Inativo",IF(L5="","Informar encerramento","Cadastro inativo"),IF(F5="","Responsável ausente",IF(AND(G5="",H5=""),"Contato ausente",IF(J5="","Revisão sem data",IF(M5<DataReferencia,"Revisão vencida",IF(M5<=DataReferencia+Antecedencia,"Revisão próxima","Cadastro em dia"))))))))))))) | P5: Exemplo fictício para teste; não usar para contato real.
A6: ANI-FIC-005 | B6: Bloco Fictício B - 404 | C6: Lua | D6: Gato | E6: Pequeno | F6: Pessoa Exemplo 05 | I6: 46054 | J6: 46054 | K6: Ativo | M6: =IF(OR(C6="",J6="",K6<>"Ativo",PrazoRevisao=""),"",J6+PrazoRevisao) | N6: =IF(C6="","",IF(OR(G6<>"",H6<>""),"Sim","Não")) | O6: =IF(C6="","",IF(OR(PrazoRevisao="",Antecedencia="",DataReferencia=""),"Premissas incompletas",IF(A6="","ID ausente",IF(COUNTIF($A$2:$A$213,A6)>1,"ID duplicado",IF(B6="","Unidade ausente",IF(I6="","Data da declaração ausente",IF(K6="","Situação ausente",IF(K6="Inativo",IF(L6="","Informar encerramento","Cadastro inativo"),IF(F6="","Responsável ausente",IF(AND(G6="",H6=""),"Contato ausente",IF(J6="","Revisão sem data",IF(M6<DataReferencia,"Revisão vencida",IF(M6<=DataReferencia+Antecedencia,"Revisão próxima","Cadastro em dia"))))))))))))) | P6: Exemplo fictício para teste; não usar para contato real.
A7: ANI-FIC-006 | B7: Bloco Fictício C - 101 | C7: Mel | D7: Cão | E7: Médio | F7: Pessoa Exemplo 06 | H7: pessoa06@example.invalid | K7: Ativo | M7: =IF(OR(C7="",J7="",K7<>"Ativo",PrazoRevisao=""),"",J7+PrazoRevisao) | N7: =IF(C7="","",IF(OR(G7<>"",H7<>""),"Sim","Não")) | O7: =IF(C7="","",IF(OR(PrazoRevisao="",Antecedencia="",DataReferencia=""),"Premissas incompletas",IF(A7="","ID ausente",IF(COUNTIF($A$2:$A$213,A7)>1,"ID duplicado",IF(B7="","Unidade ausente",IF(I7="","Data da declaração ausente",IF(K7="","Situação ausente",IF(K7="Inativo",IF(L7="","Informar encerramento","Cadastro inativo"),IF(F7="","Responsável ausente",IF(AND(G7="",H7=""),"Contato ausente",IF(J7="","Revisão sem data",IF(M7<DataReferencia,"Revisão vencida",IF(M7<=DataReferencia+Antecedencia,"Revisão próxima","Cadastro em dia"))))))))))))) | P7: Exemplo fictício para teste; não usar para contato real.
A8: ANI-FIC-007 | B8: Bloco Fictício C - 202 | C8: Kiwi | D8: Outro | E8: Pequeno | F8: Pessoa Exemplo 07 | G8: (00) 90000-0007 | I8: 45925 | J8: 45925 | K8: Ativo | M8: =IF(OR(C8="",J8="",K8<>"Ativo",PrazoRevisao=""),"",J8+PrazoRevisao) | N8: =IF(C8="","",IF(OR(G8<>"",H8<>""),"Sim","Não")) | O8: =IF(C8="","",IF(OR(PrazoRevisao="",Antecedencia="",DataReferencia=""),"Premissas incompletas",IF(A8="","ID ausente",IF(COUNTIF($A$2:$A$213,A8)>1,"ID duplicado",IF(B8="","Unidade ausente",IF(I8="","Data da declaração ausente",IF(K8="","Situação ausente",IF(K8="Inativo",IF(L8="","Informar encerramento","Cadastro inativo"),IF(F8="","Responsável ausente",IF(AND(G8="",H8=""),"Contato ausente",IF(J8="","Revisão sem data",IF(M8<DataReferencia,"Revisão vencida",IF(M8<=DataReferencia+Antecedencia,"Revisão próxima","Cadastro em dia"))))))))))))) | P8: Exemplo fictício para teste; não usar para contato real.
A9: ANI-FIC-008 | B9: Bloco Fictício D - 101 | C9: Bento | D9: Cão | E9: Médio | F9: Pessoa Exemplo 08 | H9: pessoa08@example.invalid | I9: 45809 | J9: 46174 | K9: Inativo | L9: 46204 | M9: =IF(OR(C9="",J9="",K9<>"Ativo",PrazoRevisao=""),"",J9+PrazoRevisao) | N9: =IF(C9="","",IF(OR(G9<>"",H9<>""),"Sim","Não")) | O9: =IF(C9="","",IF(OR(PrazoRevisao="",Antecedencia="",DataReferencia=""),"Premissas incompletas",IF(A9="","ID ausente",IF(COUNTIF($A$2:$A$213,A9)>1,"ID duplicado",IF(B9="","Unidade ausente",IF(I9="","Data da declaração ausente",IF(K9="","Situação ausente",IF(K9="Inativo",IF(L9="","Informar encerramento","Cadastro inativo"),IF(F9="","Responsável ausente",IF(AND(G9="",H9=""),"Contato ausente",IF(J9="","Revisão sem data",IF(M9<DataReferencia,"Revisão vencida",IF(M9<=DataReferencia+Antecedencia,"Revisão próxima","Cadastro em dia"))))))))))))) | P9: Exemplo fictício para teste; não usar para contato real.
A10: ANI-FIC-009 | B10: Bloco Fictício D - 202 | C10: Amora | D10: Gato | E10: Pequeno | F10: Pessoa Exemplo 09 | G10: (00) 90000-0009 | I10: 46147 | K10: Ativo | M10: =IF(OR(C10="",J10="",K10<>"Ativo",PrazoRevisao=""),"",J10+PrazoRevisao) | N10: =IF(C10="","",IF(OR(G10<>"",H10<>""),"Sim","Não")) | O10: =IF(C10="","",IF(OR(PrazoRevisao="",Antecedencia="",DataReferencia=""),"Premissas incompletas",IF(A10="","ID ausente",IF(COUNTIF($A$2:$A$213,A10)>1,"ID duplicado",IF(B10="","Unidade ausente",IF(I10="","Data da declaração ausente",IF(K10="","Situação ausente",IF(K10="Inativo",IF(L10="","Informar encerramento","Cadastro inativo"),IF(F10="","Responsável ausente",IF(AND(G10="",H10=""),"Contato ausente",IF(J10="","Revisão sem data",IF(M10<DataReferencia,"Revisão vencida",IF(M10<=DataReferencia+Antecedencia,"Revisão próxima","Cadastro em dia"))))))))))))) | P10: Exemplo fictício para teste; não usar para contato real.
A11: ANI-FIC-010 | B11: Bloco Fictício E - 101 | C11: Lume | D11: Ave | E11: Não se aplica | F11: Pessoa Exemplo 10 | H11: pessoa10@example.invalid | I11: 46084 | J11: 46084 | K11: Inativo | M11: =IF(OR(C11="",J11="",K11<>"Ativo",PrazoRevisao=""),"",J11+PrazoRevisao) | N11: =IF(C11="","",IF(OR(G11<>"",H11<>""),"Sim","Não")) | O11: =IF(C11="","",IF(OR(PrazoRevisao="",Antecedencia="",DataReferencia=""),"Premissas incompletas",IF(A11="","ID ausente",IF(COUNTIF($A$2:$A$213,A11)>1,"ID duplicado",IF(B11="","Unidade ausente",IF(I11="","Data da declaração ausente",IF(K11="","Situação ausente",IF(K11="Inativo",IF(L11="","Informar encerramento","Cadastro inativo"),IF(F11="","Responsável ausente",IF(AND(G11="",H11=""),"Contato ausente",IF(J11="","Revisão sem data",IF(M11<DataReferencia,"Revisão vencida",IF(M11<=DataReferencia+Antecedencia,"Revisão próxima","Cadastro em dia"))))))))))))) | P11: Exemplo fictício para teste; não usar para contato real.
A12: ANI-FIC-011 | B12: Bloco Fictício F - 101 | C12: Tito | D12: Cão | E12: Grande | F12: Pessoa Exemplo 11 | G12: (00) 90000-0011 | I12: 46275 | J12: 46275 | K12: Ativo | M12: =IF(OR(C12="",J12="",K12<>"Ativo",PrazoRevisao=""),"",J12+PrazoRevisao) | N12: =IF(C12="","",IF(OR(G12<>"",H12<>""),"Sim","Não")) | O12: =IF(C12="","",IF(OR(PrazoRevisao="",Antecedencia="",DataReferencia=""),"Premissas incompletas",IF(A12="","ID ausente",IF(COUNTIF($A$2:$A$213,A12)>1,"ID duplicado",IF(B12="","Unidade ausente",IF(I12="","Data da declaração ausente",IF(K12="","Situação ausente",IF(K12="Inativo",IF(L12="","Informar encerramento","Cadastro inativo"),IF(F12="","Responsável ausente",IF(AND(G12="",H12=""),"Contato ausente",IF(J12="","Revisão sem data",IF(M12<DataReferencia,"Revisão vencida",IF(M12<=DataReferencia+Antecedencia,"Revisão próxima","Cadastro em dia"))))))))))))) | P12: Exemplo fictício para teste; não usar para contato real.
A13: ANI-FIC-011 | B13: Bloco Fictício F - 102 | C13: Nina | D13: Gato | E13: Pequeno | F13: Pessoa Exemplo 12 | H13: pessoa12@example.invalid | I13: 46276 | J13: 46276 | K13: Ativo | M13: =IF(OR(C13="",J13="",K13<>"Ativo",PrazoRevisao=""),"",J13+PrazoRevisao) | N13: =IF(C13="","",IF(OR(G13<>"",H13<>""),"Sim","Não")) | O13: =IF(C13="","",IF(OR(PrazoRevisao="",Antecedencia="",DataReferencia=""),"Premissas incompletas",IF(A13="","ID ausente",IF(COUNTIF($A$2:$A$213,A13)>1,"ID duplicado",IF(B13="","Unidade ausente",IF(I13="","Data da declaração ausente",IF(K13="","Situação ausente",IF(K13="Inativo",IF(L13="","Informar encerramento","Cadastro inativo"),IF(F13="","Responsável ausente",IF(AND(G13="",H13=""),"Contato ausente",IF(J13="","Revisão sem data",IF(M13<DataReferencia,"Revisão vencida",IF(M13<=DataReferencia+Antecedencia,"Revisão próxima","Cadastro em dia"))))))))))))) | P13: Exemplo fictício para teste; não usar para contato real.
M14: =IF(OR(C14="",J14="",K14<>"Ativo",PrazoRevisao=""),"",J14+PrazoRevisao) | N14: =IF(C14="","",IF(OR(G14<>"",H14<>""),"Sim","Não")) | O14: =IF(C14="","",IF(OR(PrazoRevisao="",Antecedencia="",DataReferencia=""),"Premissas incompletas",IF(A14="","ID ausente",IF(COUNTIF($A$2:$A$213,A14)>1,"ID duplicado",IF(B14="","Unidade ausente",IF(I14="","Data da declaração ausente",IF(K14="","Situação ausente",IF(K14="Inativo",IF(L14="","Informar encerramento","Cadastro inativo"),IF(F14="","Responsável ausente",IF(AND(G14="",H14=""),"Contato ausente",IF(J14="","Revisão sem data",IF(M14<DataReferencia,"Revisão vencida",IF(M14<=DataReferencia+Antecedencia,"Revisão próxima","Cadastro em dia")))))))))))))
M15: =IF(OR(C15="",J15="",K15<>"Ativo",PrazoRevisao=""),"",J15+PrazoRevisao) | N15: =IF(C15="","",IF(OR(G15<>"",H15<>""),"Sim","Não")) | O15: =IF(C15="","",IF(OR(PrazoRevisao="",Antecedencia="",DataReferencia=""),"Premissas incompletas",IF(A15="","ID ausente",IF(COUNTIF($A$2:$A$213,A15)>1,"ID duplicado",IF(B15="","Unidade ausente",IF(I15="","Data da declaração ausente",IF(K15="","Situação ausente",IF(K15="Inativo",IF(L15="","Informar encerramento","Cadastro inativo"),IF(F15="","Responsável ausente",IF(AND(G15="",H15=""),"Contato ausente",IF(J15="","Revisão sem data",IF(M15<DataReferencia,"Revisão vencida",IF(M15<=DataReferencia+Antecedencia,"Revisão próxima","Cadastro em dia")))))))))))))
M16: =IF(OR(C16="",J16="",K16<>"Ativo",PrazoRevisao=""),"",J16+PrazoRevisao) | N16: =IF(C16="","",IF(OR(G16<>"",H16<>""),"Sim","Não")) | O16: =IF(C16="","",IF(OR(PrazoRevisao="",Antecedencia="",DataReferencia=""),"Premissas incompletas",IF(A16="","ID ausente",IF(COUNTIF($A$2:$A$213,A16)>1,"ID duplicado",IF(B16="","Unidade ausente",IF(I16="","Data da declaração ausente",IF(K16="","Situação ausente",IF(K16="Inativo",IF(L16="","Informar encerramento","Cadastro inativo"),IF(F16="","Responsável ausente",IF(AND(G16="",H16=""),"Contato ausente",IF(J16="","Revisão sem data",IF(M16<DataReferencia,"Revisão vencida",IF(M16<=DataReferencia+Antecedencia,"Revisão próxima","Cadastro em dia")))))))))))))
M17: =IF(OR(C17="",J17="",K17<>"Ativo",PrazoRevisao=""),"",J17+PrazoRevisao) | N17: =IF(C17="","",IF(OR(G17<>"",H17<>""),"Sim","Não")) | O17: =IF(C17="","",IF(OR(PrazoRevisao="",Antecedencia="",DataReferencia=""),"Premissas incompletas",IF(A17="","ID ausente",IF(COUNTIF($A$2:$A$213,A17)>1,"ID duplicado",IF(B17="","Unidade ausente",IF(I17="","Data da declaração ausente",IF(K17="","Situação ausente",IF(K17="Inativo",IF(L17="","Informar encerramento","Cadastro inativo"),IF(F17="","Responsável ausente",IF(AND(G17="",H17=""),"Contato ausente",IF(J17="","Revisão sem data",IF(M17<DataReferencia,"Revisão vencida",IF(M17<=DataReferencia+Antecedencia,"Revisão próxima","Cadastro em dia")))))))))))))
M18: =IF(OR(C18="",J18="",K18<>"Ativo",PrazoRevisao=""),"",J18+PrazoRevisao) | N18: =IF(C18="","",IF(OR(G18<>"",H18<>""),"Sim","Não")) | O18: =IF(C18="","",IF(OR(PrazoRevisao="",Antecedencia="",DataReferencia=""),"Premissas incompletas",IF(A18="","ID ausente",IF(COUNTIF($A$2:$A$213,A18)>1,"ID duplicado",IF(B18="","Unidade ausente",IF(I18="","Data da declaração ausente",IF(K18="","Situação ausente",IF(K18="Inativo",IF(L18="","Informar encerramento","Cadastro inativo"),IF(F18="","Responsável ausente",IF(AND(G18="",H18=""),"Contato ausente",IF(J18="","Revisão sem data",IF(M18<DataReferencia,"Revisão vencida",IF(M18<=DataReferencia+Antecedencia,"Revisão próxima","Cadastro em dia")))))))))))))
M19: =IF(OR(C19="",J19="",K19<>"Ativo",PrazoRevisao=""),"",J19+PrazoRevisao) | N19: =IF(C19="","",IF(OR(G19<>"",H19<>""),"Sim","Não")) | O19: =IF(C19="","",IF(OR(PrazoRevisao="",Antecedencia="",DataReferencia=""),"Premissas incompletas",IF(A19="","ID ausente",IF(COUNTIF($A$2:$A$213,A19)>1,"ID duplicado",IF(B19="","Unidade ausente",IF(I19="","Data da declaração ausente",IF(K19="","Situação ausente",IF(K19="Inativo",IF(L19="","Informar encerramento","Cadastro inativo"),IF(F19="","Responsável ausente",IF(AND(G19="",H19=""),"Contato ausente",IF(J19="","Revisão sem data",IF(M19<DataReferencia,"Revisão vencida",IF(M19<=DataReferencia+Antecedencia,"Revisão próxima","Cadastro em dia")))))))))))))
M20: =IF(OR(C20="",J20="",K20<>"Ativo",PrazoRevisao=""),"",J20+PrazoRevisao) | N20: =IF(C20="","",IF(OR(G20<>"",H20<>""),"Sim","Não")) | O20: =IF(C20="","",IF(OR(PrazoRevisao="",Antecedencia="",DataReferencia=""),"Premissas incompletas",IF(A20="","ID ausente",IF(COUNTIF($A$2:$A$213,A20)>1,"ID duplicado",IF(B20="","Unidade ausente",IF(I20="","Data da declaração ausente",IF(K20="","Situação ausente",IF(K20="Inativo",IF(L20="","Informar encerramento","Cadastro inativo"),IF(F20="","Responsável ausente",IF(AND(G20="",H20=""),"Contato ausente",IF(J20="","Revisão sem data",IF(M20<DataReferencia,"Revisão vencida",IF(M20<=DataReferencia+Antecedencia,"Revisão próxima","Cadastro em dia")))))))))))))
M21: =IF(OR(C21="",J21="",K21<>"Ativo",PrazoRevisao=""),"",J21+PrazoRevisao) | N21: =IF(C21="","",IF(OR(G21<>"",H21<>""),"Sim","Não")) | O21: =IF(C21="","",IF(OR(PrazoRevisao="",Antecedencia="",DataReferencia=""),"Premissas incompletas",IF(A21="","ID ausente",IF(COUNTIF($A$2:$A$213,A21)>1,"ID duplicado",IF(B21="","Unidade ausente",IF(I21="","Data da declaração ausente",IF(K21="","Situação ausente",IF(K21="Inativo",IF(L21="","Informar encerramento","Cadastro inativo"),IF(F21="","Responsável ausente",IF(AND(G21="",H21=""),"Contato ausente",IF(J21="","Revisão sem data",IF(M21<DataReferencia,"Revisão vencida",IF(M21<=DataReferencia+Antecedencia,"Revisão próxima","Cadastro em dia")))))))))))))
M22: =IF(OR(C22="",J22="",K22<>"Ativo",PrazoRevisao=""),"",J22+PrazoRevisao) | N22: =IF(C22="","",IF(OR(G22<>"",H22<>""),"Sim","Não")) | O22: =IF(C22="","",IF(OR(PrazoRevisao="",Antecedencia="",DataReferencia=""),"Premissas incompletas",IF(A22="","ID ausente",IF(COUNTIF($A$2:$A$213,A22)>1,"ID duplicado",IF(B22="","Unidade ausente",IF(I22="","Data da declaração ausente",IF(K22="","Situação ausente",IF(K22="Inativo",IF(L22="","Informar encerramento","Cadastro inativo"),IF(F22="","Responsável ausente",IF(AND(G22="",H22=""),"Contato ausente",IF(J22="","Revisão sem data",IF(M22<DataReferencia,"Revisão vencida",IF(M22<=DataReferencia+Antecedencia,"Revisão próxima","Cadastro em dia")))))))))))))
M23: =IF(OR(C23="",J23="",K23<>"Ativo",PrazoRevisao=""),"",J23+PrazoRevisao) | N23: =IF(C23="","",IF(OR(G23<>"",H23<>""),"Sim","Não")) | O23: =IF(C23="","",IF(OR(PrazoRevisao="",Antecedencia="",DataReferencia=""),"Premissas incompletas",IF(A23="","ID ausente",IF(COUNTIF($A$2:$A$213,A23)>1,"ID duplicado",IF(B23="","Unidade ausente",IF(I23="","Data da declaração ausente",IF(K23="","Situação ausente",IF(K23="Inativo",IF(L23="","Informar encerramento","Cadastro inativo"),IF(F23="","Responsável ausente",IF(AND(G23="",H23=""),"Contato ausente",IF(J23="","Revisão sem data",IF(M23<DataReferencia,"Revisão vencida",IF(M23<=DataReferencia+Antecedencia,"Revisão próxima","Cadastro em dia")))))))))))))
M24: =IF(OR(C24="",J24="",K24<>"Ativo",PrazoRevisao=""),"",J24+PrazoRevisao) | N24: =IF(C24="","",IF(OR(G24<>"",H24<>""),"Sim","Não")) | O24: =IF(C24="","",IF(OR(PrazoRevisao="",Antecedencia="",DataReferencia=""),"Premissas incompletas",IF(A24="","ID ausente",IF(COUNTIF($A$2:$A$213,A24)>1,"ID duplicado",IF(B24="","Unidade ausente",IF(I24="","Data da declaração ausente",IF(K24="","Situação ausente",IF(K24="Inativo",IF(L24="","Informar encerramento","Cadastro inativo"),IF(F24="","Responsável ausente",IF(AND(G24="",H24=""),"Contato ausente",IF(J24="","Revisão sem data",IF(M24<DataReferencia,"Revisão vencida",IF(M24<=DataReferencia+Antecedencia,"Revisão próxima","Cadastro em dia")))))))))))))
M25: =IF(OR(C25="",J25="",K25<>"Ativo",PrazoRevisao=""),"",J25+PrazoRevisao) | N25: =IF(C25="","",IF(OR(G25<>"",H25<>""),"Sim","Não")) | O25: =IF(C25="","",IF(OR(PrazoRevisao="",Antecedencia="",DataReferencia=""),"Premissas incompletas",IF(A25="","ID ausente",IF(COUNTIF($A$2:$A$213,A25)>1,"ID duplicado",IF(B25="","Unidade ausente",IF(I25="","Data da declaração ausente",IF(K25="","Situação ausente",IF(K25="Inativo",IF(L25="","Informar encerramento","Cadastro inativo"),IF(F25="","Responsável ausente",IF(AND(G25="",H25=""),"Contato ausente",IF(J25="","Revisão sem data",IF(M25<DataReferencia,"Revisão vencida",IF(M25<=DataReferencia+Antecedencia,"Revisão próxima","Cadastro em dia")))))))))))))
... M213: =IF(OR(C213="",J213="",K213<>"Ativo",PrazoRevisao=""),"",J213+PrazoRevisao) | N213: =IF(C213="","",IF(OR(G213<>"",H213<>""),"Sim","Não")) | O213: =IF(C213="","",IF(OR(PrazoRevisao="",Antecedencia="",DataReferencia=""),"Premissas incompletas",IF(A213="","ID ausente",IF(COUNTIF($A$2:$A$213,A213)>1,"ID duplicado",IF(B213="","Unidade ausente",IF(I213="","Data da declaração ausente",IF(K213="","Situação ausente",IF(K213="Inativo",IF(L213="","Informar encerramento","Cadastro inativo"),IF(F213="","Responsável ausente",IF(AND(G213="",H213=""),"Contato ausente",IF(J213="","Revisão sem data",IF(M213<DataReferencia,"Revisão vencida",IF(M213<=DataReferencia+Antecedencia,"Revisão próxima","Cadastro em dia")))))))))))))

Sheet Listas e Premissas
A1: Premissa | B1: Valor | D1: Unidade permitida | E1: Animais ativos | G1: Espécies | H1: Portes | I1: Situações
A2: Prazo para revisão cadastral, em dias | B2: 365 | D2: Bloco Fictício A - 101 | E2: =IF(D2="","",COUNTIFS('Cadastro de Animais'!$B$2:$B$213,D2,'Cadastro de Animais'!$K$2:$K$213,"Ativo")) | G2: Cão | H2: Pequeno | I2: Ativo
A3: Antecedência do alerta, em dias | B3: 30 | D3: Bloco Fictício A - 202 | E3: =IF(D3="","",COUNTIFS('Cadastro de Animais'!$B$2:$B$213,D3,'Cadastro de Animais'!$K$2:$K$213,"Ativo")) | G3: Gato | H3: Médio | I3: Inativo
A4: Data de referência | B4: 46284 | D4: Bloco Fictício B - 303 | E4: =IF(D4="","",COUNTIFS('Cadastro de Animais'!$B$2:$B$213,D4,'Cadastro de Animais'!$K$2:$K$213,"Ativo")) | G4: Ave | H4: Grande
D5: Bloco Fictício B - 404 | E5: =IF(D5="","",COUNTIFS('Cadastro de Animais'!$B$2:$B$213,D5,'Cadastro de Animais'!$K$2:$K$213,"Ativo")) | G5: Outro | H5: Não se aplica
A6: Orientação de privacidade | B6: Use nomes e contatos apenas para manutenção administrativa do cadastro. | D6: Bloco Fictício C - 101 | E6: =IF(D6="","",COUNTIFS('Cadastro de Animais'!$B$2:$B$213,D6,'Cadastro de Animais'!$K$2:$K$213,"Ativo"))
A7: Limite das observações | B7: Não registre documentos pessoais, saúde, ocorrências ou segurança. | D7: Bloco Fictício C - 202 | E7: =IF(D7="","",COUNTIFS('Cadastro de Animais'!$B$2:$B$213,D7,'Cadastro de Animais'!$K$2:$K$213,"Ativo"))
A8: Relação de unidades | B8: Substitua a lista fictícia pela relação administrativa aplicável. | D8: Bloco Fictício D - 101 | E8: =IF(D8="","",COUNTIFS('Cadastro de Animais'!$B$2:$B$213,D8,'Cadastro de Animais'!$K$2:$K$213,"Ativo"))
D9: Bloco Fictício D - 202 | E9: =IF(D9="","",COUNTIFS('Cadastro de Animais'!$B$2:$B$213,D9,'Cadastro de Animais'!$K$2:$K$213,"Ativo"))
D10: Bloco Fictício E - 101 | E10: =IF(D10="","",COUNTIFS('Cadastro de Animais'!$B$2:$B$213,D10,'Cadastro de Animais'!$K$2:$K$213,"Ativo"))
D11: Bloco Fictício F - 101 | E11: =IF(D11="","",COUNTIFS('Cadastro de Animais'!$B$2:$B$213,D11,'Cadastro de Animais'!$K$2:$K$213,"Ativo"))
D12: Bloco Fictício F - 102 | E12: =IF(D12="","",COUNTIFS('Cadastro de Animais'!$B$2:$B$213,D12,'Cadastro de Animais'!$K$2:$K$213,"Ativo"))
E13: =IF(D13="","",COUNTIFS('Cadastro de Animais'!$B$2:$B$213,D13,'Cadastro de Animais'!$K$2:$K$213,"Ativo"))
E14: =IF(D14="","",COUNTIFS('Cadastro de Animais'!$B$2:$B$213,D14,'Cadastro de Animais'!$K$2:$K$213,"Ativo"))
E15: =IF(D15="","",COUNTIFS('Cadastro de Animais'!$B$2:$B$213,D15,'Cadastro de Animais'!$K$2:$K$213,"Ativo"))
E16: =IF(D16="","",COUNTIFS('Cadastro de Animais'!$B$2:$B$213,D16,'Cadastro de Animais'!$K$2:$K$213,"Ativo"))
E17: =IF(D17="","",COUNTIFS('Cadastro de Animais'!$B$2:$B$213,D17,'Cadastro de Animais'!$K$2:$K$213,"Ativo"))
E18: =IF(D18="","",COUNTIFS('Cadastro de Animais'!$B$2:$B$213,D18,'Cadastro de Animais'!$K$2:$K$213,"Ativo"))
E19: =IF(D19="","",COUNTIFS('Cadastro de Animais'!$B$2:$B$213,D19,'Cadastro de Animais'!$K$2:$K$213,"Ativo"))
E20: =IF(D20="","",COUNTIFS('Cadastro de Animais'!$B$2:$B$213,D20,'Cadastro de Animais'!$K$2:$K$213,"Ativo"))
E21: =IF(D21="","",COUNTIFS('Cadastro de Animais'!$B$2:$B$213,D21,'Cadastro de Animais'!$K$2:$K$213,"Ativo"))
E22: =IF(D22="","",COUNTIFS('Cadastro de Animais'!$B$2:$B$213,D22,'Cadastro de Animais'!$K$2:$K$213,"Ativo"))
E23: =IF(D23="","",COUNTIFS('Cadastro de Animais'!$B$2:$B$213,D23,'Cadastro de Animais'!$K$2:$K$213,"Ativo"))
E24: =IF(D24="","",COUNTIFS('Cadastro de Animais'!$B$2:$B$213,D24,'Cadastro de Animais'!$K$2:$K$213,"Ativo"))
... E501: =IF(D501="","",COUNTIFS('Cadastro de Animais'!$B$2:$B$213,D501,'Cadastro de Animais'!$K$2:$K$213,"Ativo"))
